BEGIN:VCALENDAR
VERSION:2.0
PRODID:spatie/icalendar-generator
NAME:Saarijärven Pullistus ottelukalenteri
X-WR-CALNAME:Saarijärven Pullistus ottelukalenteri
BEGIN:VTIMEZONE
TZID:Europe/Helsinki
BEGIN:STANDARD
DTSTART:20241027T040000
TZOFFSETFROM:+0300
TZOFFSETTO:+0200
END:STANDARD
BEGIN:DAYLIGHT
DTSTART:20250330T020000
TZOFFSETFROM:+0200
TZOFFSETTO:+0300
END:DAYLIGHT
BEGIN:STANDARD
DTSTART:20251026T040000
TZOFFSETFROM:+0300
TZOFFSETTO:+0200
END:STANDARD
END:VTIMEZONE
BEGIN:VTIMEZONE
TZID:UTC
BEGIN:STANDARD
DTSTART:20250725T175437
TZOFFSETFROM:+0000
TZOFFSETTO:+0000
END:STANDARD
END:VTIMEZONE
BEGIN:VEVENT
UID:69e7b9dddcc49
DTSTAMP:20260421T175437Z
SUMMARY:SaPu - VALOpalo Jyväskylän Valo
LOCATION:Niukkalantie 10\, 43100 Saarijärvi
DTSTART;TZID=Europe/Helsinki:20250612T180000
DTEND;TZID=Europe/Helsinki:20250612T210000
END:VEVENT
BEGIN:VEVENT
UID:69e7b9dddcc8f
DTSTAMP:20260421T175437Z
SUMMARY:SaPu - JPS
LOCATION:Kekkolantie 18\, 40500 Jyväskylä
DTSTART;TZID=Europe/Helsinki:20250615T120000
DTEND;TZID=Europe/Helsinki:20250615T150000
END:VEVENT
BEGIN:VEVENT
UID:69e7b9dddccae
DTSTAMP:20260421T175437Z
SUMMARY:SaPu - Hanka
LOCATION:Niukkalantie 10\, 43100 Saarijärvi
DTSTART;TZID=Europe/Helsinki:20250709T190000
DTEND;TZID=Europe/Helsinki:20250709T220000
END:VEVENT
BEGIN:VEVENT
UID:69e7b9dddcccb
DTSTAMP:20260421T175437Z
SUMMARY:Hanka - SaPu
LOCATION:Pellisentie 1\, 41520 Hankasalmi
DTSTART;TZID=Europe/Helsinki:20250810T133000
DTEND;TZID=Europe/Helsinki:20250810T163000
END:VEVENT
BEGIN:VEVENT
UID:69e7b9dddcce6
DTSTAMP:20260421T175437Z
SUMMARY:SaPu - HaPa
LOCATION:Pellisentie 1\, 41520 Hankasalmi
DTSTART;TZID=Europe/Helsinki:20250810T150000
DTEND;TZID=Europe/Helsinki:20250810T180000
END:VEVENT
BEGIN:VEVENT
UID:69e7b9dddcd00
DTSTAMP:20260421T175437Z
SUMMARY:JPS - SaPu
LOCATION:Kekkolantie 18\, 40500 Jyväskylä
DTSTART;TZID=Europe/Helsinki:20250816T133000
DTEND;TZID=Europe/Helsinki:20250816T163000
END:VEVENT
BEGIN:VEVENT
UID:69e7b9dddcd1b
DTSTAMP:20260421T175437Z
SUMMARY:VALOpalo Jyväskylän Valo - SaPu
LOCATION:Kekkolantie 18\, 40500 Jyväskylä
DTSTART;TZID=Europe/Helsinki:20250816T150000
DTEND;TZID=Europe/Helsinki:20250816T180000
END:VEVENT
BEGIN:VEVENT
UID:69e7b9dddcd3a
DTSTAMP:20260421T175437Z
SUMMARY:HaPa - SaPu
LOCATION:Niukkalantie 10\, 43100 Saarijärvi
DTSTART;TZID=Europe/Helsinki:20250817T130000
DTEND;TZID=Europe/Helsinki:20250817T160000
END:VEVENT
BEGIN:VEVENT
UID:69e7b9dddcd59
DTSTAMP:20260421T175437Z
SUMMARY:SaPu - Hanka
DTSTART;TZID=Europe/Helsinki:20250823T120000
DTEND;TZID=Europe/Helsinki:20250823T150000
END:VEVENT
BEGIN:VEVENT
UID:69e7b9dddcd6d
DTSTAMP:20260421T175437Z
SUMMARY:Hanka - SaPu
LOCATION:Kirkkotie 1\, 83400 Viinijärvi
DTSTART;TZID=Europe/Helsinki:20250914T111500
DTEND;TZID=Europe/Helsinki:20250914T141500
END:VEVENT
BEGIN:VEVENT
UID:69e7b9dddcd85
DTSTAMP:20260421T175437Z
SUMMARY:SaPu - ViU
LOCATION:Kirkkotie 1\, 83400 Viinijärvi
DTSTART;TZID=Europe/Helsinki:20250914T123000
DTEND;TZID=Europe/Helsinki:20250914T153000
END:VEVENT
BEGIN:VEVENT
UID:69e7b9dddcd9d
DTSTAMP:20260421T175437Z
SUMMARY:Mahti - SaPu
LOCATION:Tykistötie 3\, Ylämylly
DTSTART;TZID=Europe/Helsinki:20250914T141500
DTEND;TZID=Europe/Helsinki:20250914T171500
END:VEVENT
END:VCALENDAR