BEGIN:VCALENDAR
VERSION:2.0
PRODID:spatie/icalendar-generator
NAME:Espoon Pesis ottelukalenteri
X-WR-CALNAME:Espoon Pesis ottelukalenteri
BEGIN:VTIMEZONE
TZID:Europe/Helsinki
BEGIN:STANDARD
DTSTART:20241027T040000
TZOFFSETFROM:+0300
TZOFFSETTO:+0200
END:STANDARD
BEGIN:DAYLIGHT
DTSTART:20250330T020000
TZOFFSETFROM:+0200
TZOFFSETTO:+0300
END:DAYLIGHT
BEGIN:STANDARD
DTSTART:20251026T040000
TZOFFSETFROM:+0300
TZOFFSETTO:+0200
END:STANDARD
END:VTIMEZONE
BEGIN:VTIMEZONE
TZID:UTC
BEGIN:STANDARD
DTSTART:20250726T183153
TZOFFSETFROM:+0000
TZOFFSETTO:+0000
END:STANDARD
END:VTIMEZONE
BEGIN:VEVENT
UID:69e91419a83e1
DTSTAMP:20260422T183153Z
SUMMARY:Espoon Pesis - OtaKoppi
LOCATION:Espoonlahdentie 2\, 02320 Espoo
DTSTART;TZID=Europe/Helsinki:20250615T180000
DTEND;TZID=Europe/Helsinki:20250615T210000
END:VEVENT
BEGIN:VEVENT
UID:69e91419a8439
DTSTAMP:20260422T183153Z
SUMMARY:Espoon Pesis - SuPo
LOCATION:Espoonlahdentie 2\, 02320 Espoo
DTSTART;TZID=Europe/Helsinki:20250629T170000
DTEND;TZID=Europe/Helsinki:20250629T200000
END:VEVENT
BEGIN:VEVENT
UID:69e91419a8459
DTSTAMP:20260422T183153Z
SUMMARY:Espoon Pesis - PuMu
LOCATION:Espoonlahdentie 2\, 02320 Espoo
DTSTART;TZID=Europe/Helsinki:20250711T180000
DTEND;TZID=Europe/Helsinki:20250711T210000
END:VEVENT
BEGIN:VEVENT
UID:69e91419a8474
DTSTAMP:20260422T183153Z
SUMMARY:Espoon Pesis - Laru
LOCATION:Espoonlahdentie 2\, 02320 Espoo
DTSTART;TZID=Europe/Helsinki:20250810T170000
DTEND;TZID=Europe/Helsinki:20250810T200000
END:VEVENT
BEGIN:VEVENT
UID:69e91419a8495
DTSTAMP:20260422T183153Z
SUMMARY:Espoon Pesis - KePe
LOCATION:Espoonlahdentie 2\, 02320 Espoo
DTSTART;TZID=Europe/Helsinki:20250812T180000
DTEND;TZID=Europe/Helsinki:20250812T210000
END:VEVENT
BEGIN:VEVENT
UID:69e91419a84b0
DTSTAMP:20260422T183153Z
SUMMARY:Espoon Pesis - PäPe
LOCATION:Tuulikuja\, 02100 Espoo
DTSTART;TZID=Europe/Helsinki:20250822T170000
DTEND;TZID=Europe/Helsinki:20250822T200000
END:VEVENT
BEGIN:VEVENT
UID:69e91419a84c8
DTSTAMP:20260422T183153Z
SUMMARY:Espoon Pesis - RPL2
LOCATION:Espoonlahdentie 2\, 02320 Espoo
DTSTART;TZID=Europe/Helsinki:20250828T170000
DTEND;TZID=Europe/Helsinki:20250828T200000
END:VEVENT
END:VCALENDAR