BEGIN:VCALENDAR
VERSION:2.0
PRODID:spatie/icalendar-generator
NAME:Koskenkorva ottelukalenteri
X-WR-CALNAME:Koskenkorva ottelukalenteri
BEGIN:VTIMEZONE
TZID:Europe/Helsinki
BEGIN:STANDARD
DTSTART:20011028T040000
TZOFFSETFROM:+0300
TZOFFSETTO:+0200
END:STANDARD
BEGIN:DAYLIGHT
DTSTART:20020331T020000
TZOFFSETFROM:+0200
TZOFFSETTO:+0300
END:DAYLIGHT
BEGIN:STANDARD
DTSTART:20021027T040000
TZOFFSETFROM:+0300
TZOFFSETTO:+0200
END:STANDARD
END:VTIMEZONE
BEGIN:VTIMEZONE
TZID:UTC
BEGIN:STANDARD
DTSTART:20250729T163505
TZOFFSETFROM:+0000
TZOFFSETTO:+0000
END:STANDARD
END:VTIMEZONE
BEGIN:VEVENT
UID:69eced39935a2
DTSTAMP:20260425T163505Z
SUMMARY:KoU - UPV
DTSTART;TZID=Europe/Helsinki:20020516T180200
DTEND;TZID=Europe/Helsinki:20020516T210200
END:VEVENT
BEGIN:VEVENT
UID:69eced39935f3
DTSTAMP:20260425T163505Z
SUMMARY:KoU - SoJy
DTSTART;TZID=Europe/Helsinki:20020523T180100
DTEND;TZID=Europe/Helsinki:20020523T210100
END:VEVENT
BEGIN:VEVENT
UID:69eced3993615
DTSTAMP:20260425T163505Z
SUMMARY:KoU - KaMa
DTSTART;TZID=Europe/Helsinki:20020602T170000
DTEND;TZID=Europe/Helsinki:20020602T200000
END:VEVENT
BEGIN:VEVENT
UID:69eced3993777
DTSTAMP:20260425T163505Z
SUMMARY:KoU - IPV
DTSTART;TZID=Europe/Helsinki:20020604T180200
DTEND;TZID=Europe/Helsinki:20020604T210200
END:VEVENT
BEGIN:VEVENT
UID:69eced399379a
DTSTAMP:20260425T163505Z
SUMMARY:KoU - KiPe
DTSTART;TZID=Europe/Helsinki:20020608T150000
DTEND;TZID=Europe/Helsinki:20020608T180000
END:VEVENT
BEGIN:VEVENT
UID:69eced39938cb
DTSTAMP:20260425T163505Z
SUMMARY:KoU - SMJ
DTSTART;TZID=Europe/Helsinki:20020611T180200
DTEND;TZID=Europe/Helsinki:20020611T210200
END:VEVENT
BEGIN:VEVENT
UID:69eced39938ed
DTSTAMP:20260425T163505Z
SUMMARY:KoU - UPV
DTSTART;TZID=Europe/Helsinki:20020704T180000
DTEND;TZID=Europe/Helsinki:20020704T210000
END:VEVENT
BEGIN:VEVENT
UID:69eced39939ff
DTSTAMP:20260425T163505Z
SUMMARY:KoU - Lippo
DTSTART;TZID=Europe/Helsinki:20020706T150000
DTEND;TZID=Europe/Helsinki:20020706T180000
END:VEVENT
BEGIN:VEVENT
UID:69eced3993b1b
DTSTAMP:20260425T163505Z
SUMMARY:KoU - Tahko
DTSTART;TZID=Europe/Helsinki:20020713T150000
DTEND;TZID=Europe/Helsinki:20020713T180000
END:VEVENT
BEGIN:VEVENT
UID:69eced3993c2d
DTSTAMP:20260425T163505Z
SUMMARY:KoU - PattU
DTSTART;TZID=Europe/Helsinki:20020720T150000
DTEND;TZID=Europe/Helsinki:20020720T180000
END:VEVENT
BEGIN:VEVENT
UID:69eced3993c50
DTSTAMP:20260425T163505Z
SUMMARY:KoU - SMJ
DTSTART;TZID=Europe/Helsinki:20020725T180200
DTEND;TZID=Europe/Helsinki:20020725T210200
END:VEVENT
BEGIN:VEVENT
UID:69eced3993d7d
DTSTAMP:20260425T163505Z
SUMMARY:KoU - KiPa
DTSTART;TZID=Europe/Helsinki:20020727T150000
DTEND;TZID=Europe/Helsinki:20020727T180000
END:VEVENT
BEGIN:VEVENT
UID:69eced3993d9e
DTSTAMP:20260425T163505Z
SUMMARY:KoU - KaMa
DTSTART;TZID=Europe/Helsinki:20020803T150000
DTEND;TZID=Europe/Helsinki:20020803T180000
END:VEVENT
BEGIN:VEVENT
UID:69eced3993dba
DTSTAMP:20260425T163505Z
SUMMARY:KoU - PuijonPesäpallo
DTSTART;TZID=Europe/Helsinki:20020815T180100
DTEND;TZID=Europe/Helsinki:20020815T210100
END:VEVENT
BEGIN:VEVENT
UID:69eced3993dd8
DTSTAMP:20260425T163505Z
SUMMARY:KoU - KiPa
DTSTART;TZID=Europe/Helsinki:20020822T173200
DTEND;TZID=Europe/Helsinki:20020822T203200
END:VEVENT
BEGIN:VEVENT
UID:69eced3993df5
DTSTAMP:20260425T163505Z
SUMMARY:KoU - KiPa
DTSTART;TZID=Europe/Helsinki:20020825T170000
DTEND;TZID=Europe/Helsinki:20020825T200000
END:VEVENT
BEGIN:VEVENT
UID:69eced3993e10
DTSTAMP:20260425T163505Z
SUMMARY:KoU - KiPa
DTSTART;TZID=Europe/Helsinki:20020829T173000
DTEND;TZID=Europe/Helsinki:20020829T203000
END:VEVENT
BEGIN:VEVENT
UID:69eced3993e2b
DTSTAMP:20260425T163505Z
SUMMARY:KoU - SoJy
DTSTART;TZID=Europe/Helsinki:20020903T170300
DTEND;TZID=Europe/Helsinki:20020903T200300
END:VEVENT
BEGIN:VEVENT
UID:69eced3993e45
DTSTAMP:20260425T163505Z
SUMMARY:KoU - SoJy
DTSTART;TZID=Europe/Helsinki:20020907T150000
DTEND;TZID=Europe/Helsinki:20020907T180000
END:VEVENT
BEGIN:VEVENT
UID:69eced3993e60
DTSTAMP:20260425T163505Z
SUMMARY:KoU - Tahko
DTSTART;TZID=Europe/Helsinki:20020914T150200
DTEND;TZID=Europe/Helsinki:20020914T180200
END:VEVENT
END:VCALENDAR