BEGIN:VCALENDAR
VERSION:2.0
PRODID:spatie/icalendar-generator
NAME:Kouvolan Pallonlyöjät ottelukalenteri
X-WR-CALNAME:Kouvolan Pallonlyöjät ottelukalenteri
BEGIN:VTIMEZONE
TZID:Europe/Helsinki
BEGIN:STANDARD
DTSTART:20241027T040000
TZOFFSETFROM:+0300
TZOFFSETTO:+0200
END:STANDARD
BEGIN:DAYLIGHT
DTSTART:20250330T020000
TZOFFSETFROM:+0200
TZOFFSETTO:+0300
END:DAYLIGHT
BEGIN:STANDARD
DTSTART:20251026T040000
TZOFFSETFROM:+0300
TZOFFSETTO:+0200
END:STANDARD
END:VTIMEZONE
BEGIN:VTIMEZONE
TZID:UTC
BEGIN:STANDARD
DTSTART:20250728T084132
TZOFFSETFROM:+0000
TZOFFSETTO:+0000
END:STANDARD
END:VTIMEZONE
BEGIN:VEVENT
UID:69eb2cbc44795
DTSTAMP:20260424T084132Z
SUMMARY:KPL - KoU
LOCATION:Hovioikeudenkatu 3\, 45100 Kouvola
DTSTART;TZID=Europe/Helsinki:20250510T140000
DTEND;TZID=Europe/Helsinki:20250510T170000
END:VEVENT
BEGIN:VEVENT
UID:69eb2cbc447e2
DTSTAMP:20260424T084132Z
SUMMARY:KPL - KaMa
LOCATION:Hovioikeudenkatu 3\, 45100 Kouvola
DTSTART;TZID=Europe/Helsinki:20250514T180000
DTEND;TZID=Europe/Helsinki:20250514T210000
END:VEVENT
BEGIN:VEVENT
UID:69eb2cbc44803
DTSTAMP:20260424T084132Z
SUMMARY:KPL - Jkl Kiri
LOCATION:Hovioikeudenkatu 3\, 45100 Kouvola
DTSTART;TZID=Europe/Helsinki:20250521T180000
DTEND;TZID=Europe/Helsinki:20250521T210000
END:VEVENT
BEGIN:VEVENT
UID:69eb2cbc44820
DTSTAMP:20260424T084132Z
SUMMARY:KPL - Ura
LOCATION:Hovioikeudenkatu 3\, 45100 Kouvola
DTSTART;TZID=Europe/Helsinki:20250607T140000
DTEND;TZID=Europe/Helsinki:20250607T170000
END:VEVENT
BEGIN:VEVENT
UID:69eb2cbc4483c
DTSTAMP:20260424T084132Z
SUMMARY:KPL - SMJ
LOCATION:Hovioikeudenkatu 3\, 45100 Kouvola
DTSTART;TZID=Europe/Helsinki:20250615T140000
DTEND;TZID=Europe/Helsinki:20250615T170000
END:VEVENT
BEGIN:VEVENT
UID:69eb2cbc44857
DTSTAMP:20260424T084132Z
SUMMARY:KPL - PuMu
LOCATION:Hovioikeudenkatu 3\, 45100 Kouvola
DTSTART;TZID=Europe/Helsinki:20250618T180000
DTEND;TZID=Europe/Helsinki:20250618T210000
END:VEVENT
BEGIN:VEVENT
UID:69eb2cbc44872
DTSTAMP:20260424T084132Z
SUMMARY:KPL - PuPe
LOCATION:Hovioikeudenkatu 3\, 45100 Kouvola
DTSTART;TZID=Europe/Helsinki:20250628T140000
DTEND;TZID=Europe/Helsinki:20250628T170000
END:VEVENT
BEGIN:VEVENT
UID:69eb2cbc4488b
DTSTAMP:20260424T084132Z
SUMMARY:KPL - YK
LOCATION:Hovioikeudenkatu 3\, 45100 Kouvola
DTSTART;TZID=Europe/Helsinki:20250713T150000
DTEND;TZID=Europe/Helsinki:20250713T180000
END:VEVENT
BEGIN:VEVENT
UID:69eb2cbc448a5
DTSTAMP:20260424T084132Z
SUMMARY:KPL - PuMu
LOCATION:Hovioikeudenkatu 3\, 45100 Kouvola
DTSTART;TZID=Europe/Helsinki:20250717T180000
DTEND;TZID=Europe/Helsinki:20250717T210000
END:VEVENT
BEGIN:VEVENT
UID:69eb2cbc448c8
DTSTAMP:20260424T084132Z
SUMMARY:KPL - SiKi
LOCATION:Hovioikeudenkatu 3\, 45100 Kouvola
DTSTART;TZID=Europe/Helsinki:20250725T180000
DTEND;TZID=Europe/Helsinki:20250725T210000
END:VEVENT
BEGIN:VEVENT
UID:69eb2cbc448e2
DTSTAMP:20260424T084132Z
SUMMARY:KPL - SiiPe
LOCATION:Hovioikeudenkatu 3\, 45100 Kouvola
DTSTART;TZID=Europe/Helsinki:20250731T180000
DTEND;TZID=Europe/Helsinki:20250731T210000
END:VEVENT
BEGIN:VEVENT
UID:69eb2cbc448fc
DTSTAMP:20260424T084132Z
SUMMARY:KPL - Jkl Lohi
LOCATION:Hovioikeudenkatu 3\, 45100 Kouvola
DTSTART;TZID=Europe/Helsinki:20250806T180000
DTEND;TZID=Europe/Helsinki:20250806T210000
END:VEVENT
END:VCALENDAR