BEGIN:VCALENDAR
VERSION:2.0
PRODID:spatie/icalendar-generator
NAME:Lapuan Virkiä ottelukalenteri
X-WR-CALNAME:Lapuan Virkiä ottelukalenteri
BEGIN:VTIMEZONE
TZID:Europe/Helsinki
BEGIN:STANDARD
DTSTART:20231029T040000
TZOFFSETFROM:+0300
TZOFFSETTO:+0200
END:STANDARD
BEGIN:DAYLIGHT
DTSTART:20240331T020000
TZOFFSETFROM:+0200
TZOFFSETTO:+0300
END:DAYLIGHT
BEGIN:STANDARD
DTSTART:20241027T040000
TZOFFSETFROM:+0300
TZOFFSETTO:+0200
END:STANDARD
END:VTIMEZONE
BEGIN:VTIMEZONE
TZID:UTC
BEGIN:STANDARD
DTSTART:20250728T190426
TZOFFSETFROM:+0000
TZOFFSETTO:+0000
END:STANDARD
END:VTIMEZONE
BEGIN:VEVENT
UID:69ebbeba22e39
DTSTAMP:20260424T190426Z
SUMMARY:Virkiä - JoMa
LOCATION:Kustaa Tiitun tie 12\, 62100 Lapua
DTSTART;TZID=Europe/Helsinki:20240210T183000
DTEND;TZID=Europe/Helsinki:20240210T213000
END:VEVENT
BEGIN:VEVENT
UID:69ebbeba22e85
DTSTAMP:20260424T190426Z
SUMMARY:Virkiä - Mailattaret
LOCATION:Kustaa Tiitun tie 12\, 62100 Lapua
DTSTART;TZID=Europe/Helsinki:20240224T170000
DTEND;TZID=Europe/Helsinki:20240224T200000
END:VEVENT
BEGIN:VEVENT
UID:69ebbeba22ea8
DTSTAMP:20260424T190426Z
SUMMARY:Virkiä - Pesäkarhut
LOCATION:Kirkkokatu 23\, 60220 Seinäjoki
DTSTART;TZID=Europe/Helsinki:20240323T170000
DTEND;TZID=Europe/Helsinki:20240323T200000
END:VEVENT
BEGIN:VEVENT
UID:69ebbeba22ecf
DTSTAMP:20260424T190426Z
SUMMARY:Virkiä - Manse
LOCATION:Kirkkokatu 23\, 60220 Seinäjoki
DTSTART;TZID=Europe/Helsinki:20240324T153000
DTEND;TZID=Europe/Helsinki:20240324T183000
END:VEVENT
BEGIN:VEVENT
UID:69ebbeba22ef0
DTSTAMP:20260424T190426Z
SUMMARY:Virkiä - PöU
LOCATION:Urheilukatu 1\, 62100 Lapua
DTSTART;TZID=Europe/Helsinki:20240512T160000
DTEND;TZID=Europe/Helsinki:20240512T190000
END:VEVENT
BEGIN:VEVENT
UID:69ebbeba22f0c
DTSTAMP:20260424T190426Z
SUMMARY:Virkiä - HP
LOCATION:Urheilukatu 1\, 62100 Lapua
DTSTART;TZID=Europe/Helsinki:20240528T180000
DTEND;TZID=Europe/Helsinki:20240528T210000
END:VEVENT
BEGIN:VEVENT
UID:69ebbeba22f27
DTSTAMP:20260424T190426Z
SUMMARY:Virkiä - Mailattaret
LOCATION:Urheilukatu 1\, 62100 Lapua
DTSTART;TZID=Europe/Helsinki:20240606T180000
DTEND;TZID=Europe/Helsinki:20240606T210000
END:VEVENT
BEGIN:VEVENT
UID:69ebbeba22f42
DTSTAMP:20260424T190426Z
SUMMARY:Virkiä - Roihuttaret
LOCATION:Urheilukatu 1\, 62100 Lapua
DTSTART;TZID=Europe/Helsinki:20240616T160000
DTEND;TZID=Europe/Helsinki:20240616T190000
END:VEVENT
BEGIN:VEVENT
UID:69ebbeba22f5d
DTSTAMP:20260424T190426Z
SUMMARY:Virkiä - Kirittäret
LOCATION:Urheilukatu 1\, 62100 Lapua
DTSTART;TZID=Europe/Helsinki:20240626T180000
DTEND;TZID=Europe/Helsinki:20240626T210000
END:VEVENT
BEGIN:VEVENT
UID:69ebbeba22f79
DTSTAMP:20260424T190426Z
SUMMARY:Virkiä - Tahko
LOCATION:Urheilukatu 1\, 62100 Lapua
DTSTART;TZID=Europe/Helsinki:20240702T180000
DTEND;TZID=Europe/Helsinki:20240702T210000
END:VEVENT
BEGIN:VEVENT
UID:69ebbeba22f93
DTSTAMP:20260424T190426Z
SUMMARY:Virkiä - SMJ
LOCATION:Urheilukatu 1\, 62100 Lapua
DTSTART;TZID=Europe/Helsinki:20240707T160000
DTEND;TZID=Europe/Helsinki:20240707T190000
END:VEVENT
BEGIN:VEVENT
UID:69ebbeba22fac
DTSTAMP:20260424T190426Z
SUMMARY:Virkiä - Fera
LOCATION:Urheilukatu 1\, 62100 Lapua
DTSTART;TZID=Europe/Helsinki:20240712T180000
DTEND;TZID=Europe/Helsinki:20240712T210000
END:VEVENT
BEGIN:VEVENT
UID:69ebbeba22fc5
DTSTAMP:20260424T190426Z
SUMMARY:Virkiä - JoMa
LOCATION:Urheilukatu 1\, 62100 Lapua
DTSTART;TZID=Europe/Helsinki:20240717T180000
DTEND;TZID=Europe/Helsinki:20240717T210000
END:VEVENT
BEGIN:VEVENT
UID:69ebbeba22fdd
DTSTAMP:20260424T190426Z
SUMMARY:Virkiä - Manse
LOCATION:Urheilukatu 1\, 62100 Lapua
DTSTART;TZID=Europe/Helsinki:20240721T160000
DTEND;TZID=Europe/Helsinki:20240721T190000
END:VEVENT
BEGIN:VEVENT
UID:69ebbeba22ff6
DTSTAMP:20260424T190426Z
SUMMARY:Virkiä - Pesäkarhut
LOCATION:Urheilukatu 1\, 62100 Lapua
DTSTART;TZID=Europe/Helsinki:20240726T180000
DTEND;TZID=Europe/Helsinki:20240726T210000
END:VEVENT
BEGIN:VEVENT
UID:69ebbeba23012
DTSTAMP:20260424T190426Z
SUMMARY:Virkiä - SMJ
LOCATION:Urheilukatu 1\, 62100 Lapua
DTSTART;TZID=Europe/Helsinki:20240803T160000
DTEND;TZID=Europe/Helsinki:20240803T190000
END:VEVENT
BEGIN:VEVENT
UID:69ebbeba2302b
DTSTAMP:20260424T190426Z
SUMMARY:Virkiä - Pesäkarhut
LOCATION:Urheilukatu 1\, 62100 Lapua
DTSTART;TZID=Europe/Helsinki:20240811T160000
DTEND;TZID=Europe/Helsinki:20240811T190000
END:VEVENT
BEGIN:VEVENT
UID:69ebbeba23043
DTSTAMP:20260424T190426Z
SUMMARY:Virkiä - Pesäkarhut
LOCATION:Urheilukatu 1\, 62100 Lapua
DTSTART;TZID=Europe/Helsinki:20240815T173000
DTEND;TZID=Europe/Helsinki:20240815T203000
END:VEVENT
BEGIN:VEVENT
UID:69ebbeba2305d
DTSTAMP:20260424T190426Z
SUMMARY:Virkiä - Pesäkarhut
LOCATION:Urheilukatu 1\, 62100 Lapua
DTSTART;TZID=Europe/Helsinki:20240818T160000
DTEND;TZID=Europe/Helsinki:20240818T190000
END:VEVENT
BEGIN:VEVENT
UID:69ebbeba23076
DTSTAMP:20260424T190426Z
SUMMARY:Virkiä - SMJ
LOCATION:Urheilukatu 1\, 62100 Lapua
DTSTART;TZID=Europe/Helsinki:20240820T171500
DTEND;TZID=Europe/Helsinki:20240820T201500
END:VEVENT
BEGIN:VEVENT
UID:69ebbeba2308d
DTSTAMP:20260424T190426Z
SUMMARY:Virkiä - SMJ
LOCATION:Urheilukatu 1\, 62100 Lapua
DTSTART;TZID=Europe/Helsinki:20240824T160000
DTEND;TZID=Europe/Helsinki:20240824T190000
END:VEVENT
BEGIN:VEVENT
UID:69ebbeba230a5
DTSTAMP:20260424T190426Z
SUMMARY:Virkiä - SMJ
LOCATION:Urheilukatu 1\, 62100 Lapua
DTSTART;TZID=Europe/Helsinki:20240828T170000
DTEND;TZID=Europe/Helsinki:20240828T200000
END:VEVENT
BEGIN:VEVENT
UID:69ebbeba230bd
DTSTAMP:20260424T190426Z
SUMMARY:Virkiä - Manse
LOCATION:Urheilukatu 1\, 62100 Lapua
DTSTART;TZID=Europe/Helsinki:20240901T160000
DTEND;TZID=Europe/Helsinki:20240901T190000
END:VEVENT
BEGIN:VEVENT
UID:69ebbeba230d5
DTSTAMP:20260424T190426Z
SUMMARY:Virkiä - Manse
LOCATION:Urheilukatu 1\, 62100 Lapua
DTSTART;TZID=Europe/Helsinki:20240908T130000
DTEND;TZID=Europe/Helsinki:20240908T160000
END:VEVENT
END:VCALENDAR