BEGIN:VCALENDAR
VERSION:2.0
PRODID:spatie/icalendar-generator
NAME:Lapuan Virkiä ottelukalenteri
X-WR-CALNAME:Lapuan Virkiä ottelukalenteri
BEGIN:VTIMEZONE
TZID:Europe/Helsinki
BEGIN:STANDARD
DTSTART:20241027T040000
TZOFFSETFROM:+0300
TZOFFSETTO:+0200
END:STANDARD
BEGIN:DAYLIGHT
DTSTART:20250330T020000
TZOFFSETFROM:+0200
TZOFFSETTO:+0300
END:DAYLIGHT
BEGIN:STANDARD
DTSTART:20251026T040000
TZOFFSETFROM:+0300
TZOFFSETTO:+0200
END:STANDARD
END:VTIMEZONE
BEGIN:VTIMEZONE
TZID:UTC
BEGIN:STANDARD
DTSTART:20250726T134707
TZOFFSETFROM:+0000
TZOFFSETTO:+0000
END:STANDARD
END:VTIMEZONE
BEGIN:VEVENT
UID:69e8d15bc05ef
DTSTAMP:20260422T134707Z
SUMMARY:Virkiä - JoMa
LOCATION:Kustaa Tiitun tie 12\, 62100 Lapua
DTSTART;TZID=Europe/Helsinki:20250208T180000
DTEND;TZID=Europe/Helsinki:20250208T210000
END:VEVENT
BEGIN:VEVENT
UID:69e8d15bc0665
DTSTAMP:20260422T134707Z
SUMMARY:Virkiä - Kirittäret
LOCATION:Kirkkokatu 23\, 60220 Seinäjoki
DTSTART;TZID=Europe/Helsinki:20250215T130000
DTEND;TZID=Europe/Helsinki:20250215T160000
END:VEVENT
BEGIN:VEVENT
UID:69e8d15bc0696
DTSTAMP:20260422T134707Z
SUMMARY:Virkiä - Jussittaret
LOCATION:Kirkkokatu 23\, 60220 Seinäjoki
DTSTART;TZID=Europe/Helsinki:20250308T180000
DTEND;TZID=Europe/Helsinki:20250308T210000
END:VEVENT
BEGIN:VEVENT
UID:69e8d15bc06c0
DTSTAMP:20260422T134707Z
SUMMARY:Virkiä - Fera
LOCATION:Ilmailunkatu 20\, 33900 Tampere
DTSTART;TZID=Europe/Helsinki:20250322T130000
DTEND;TZID=Europe/Helsinki:20250322T160000
END:VEVENT
BEGIN:VEVENT
UID:69e8d15bc06e5
DTSTAMP:20260422T134707Z
SUMMARY:Virkiä - Jussittaret
LOCATION:Ilmailunkatu 20\, 33900 Tampere
DTSTART;TZID=Europe/Helsinki:20250323T120000
DTEND;TZID=Europe/Helsinki:20250323T150000
END:VEVENT
BEGIN:VEVENT
UID:69e8d15bc0709
DTSTAMP:20260422T134707Z
SUMMARY:Virkiä - PöU
LOCATION:Urheilukatu 1\, 62100 Lapua
DTSTART;TZID=Europe/Helsinki:20250509T180000
DTEND;TZID=Europe/Helsinki:20250509T210000
END:VEVENT
BEGIN:VEVENT
UID:69e8d15bc072c
DTSTAMP:20260422T134707Z
SUMMARY:Virkiä - Fera
LOCATION:Urheilukatu 1\, 62100 Lapua
DTSTART;TZID=Europe/Helsinki:20250518T160000
DTEND;TZID=Europe/Helsinki:20250518T190000
END:VEVENT
BEGIN:VEVENT
UID:69e8d15bc0753
DTSTAMP:20260422T134707Z
SUMMARY:Virkiä - Roihuttaret
LOCATION:Urheilukatu 1\, 62100 Lapua
DTSTART;TZID=Europe/Helsinki:20250525T160000
DTEND;TZID=Europe/Helsinki:20250525T190000
END:VEVENT
BEGIN:VEVENT
UID:69e8d15bc077a
DTSTAMP:20260422T134707Z
SUMMARY:Virkiä - Jyske
LOCATION:Urheilukatu 1\, 62100 Lapua
DTSTART;TZID=Europe/Helsinki:20250530T180000
DTEND;TZID=Europe/Helsinki:20250530T210000
END:VEVENT
BEGIN:VEVENT
UID:69e8d15bc079f
DTSTAMP:20260422T134707Z
SUMMARY:Virkiä - Kirittäret
LOCATION:Urheilukatu 1\, 62100 Lapua
DTSTART;TZID=Europe/Helsinki:20250612T180000
DTEND;TZID=Europe/Helsinki:20250612T210000
END:VEVENT
BEGIN:VEVENT
UID:69e8d15bc07c6
DTSTAMP:20260422T134707Z
SUMMARY:Virkiä - Manse
LOCATION:Urheilukatu 1\, 62100 Lapua
DTSTART;TZID=Europe/Helsinki:20250625T180000
DTEND;TZID=Europe/Helsinki:20250625T210000
END:VEVENT
BEGIN:VEVENT
UID:69e8d15bc07ea
DTSTAMP:20260422T134707Z
SUMMARY:Virkiä - Jussittaret
LOCATION:Urheilukatu 1\, 62100 Lapua
DTSTART;TZID=Europe/Helsinki:20250704T180000
DTEND;TZID=Europe/Helsinki:20250704T210000
END:VEVENT
BEGIN:VEVENT
UID:69e8d15bc080f
DTSTAMP:20260422T134707Z
SUMMARY:Virkiä - Mailattaret
LOCATION:Patruunantie 15\, 62800 Vimpeli
DTSTART;TZID=Europe/Helsinki:20250706T170000
DTEND;TZID=Europe/Helsinki:20250706T200000
END:VEVENT
BEGIN:VEVENT
UID:69e8d15bc0835
DTSTAMP:20260422T134707Z
SUMMARY:Virkiä - Pesäkarhut
LOCATION:Urheilukatu 1\, 62100 Lapua
DTSTART;TZID=Europe/Helsinki:20250708T180000
DTEND;TZID=Europe/Helsinki:20250708T210000
END:VEVENT
BEGIN:VEVENT
UID:69e8d15bc085a
DTSTAMP:20260422T134707Z
SUMMARY:Virkiä - Manse
LOCATION:Urheilukatu 1\, 62100 Lapua
DTSTART;TZID=Europe/Helsinki:20250713T160000
DTEND;TZID=Europe/Helsinki:20250713T190000
END:VEVENT
BEGIN:VEVENT
UID:69e8d15bc0882
DTSTAMP:20260422T134707Z
SUMMARY:Virkiä - Tahko
LOCATION:Urheilukatu 1\, 62100 Lapua
DTSTART;TZID=Europe/Helsinki:20250727T160000
DTEND;TZID=Europe/Helsinki:20250727T190000
END:VEVENT
BEGIN:VEVENT
UID:69e8d15bc08a8
DTSTAMP:20260422T134707Z
SUMMARY:Virkiä - JoMa
LOCATION:Urheilukatu 1\, 62100 Lapua
DTSTART;TZID=Europe/Helsinki:20250801T180000
DTEND;TZID=Europe/Helsinki:20250801T210000
END:VEVENT
BEGIN:VEVENT
UID:69e8d15bc08cd
DTSTAMP:20260422T134707Z
SUMMARY:Virkiä - Fera
LOCATION:Urheilukatu 1\, 62100 Lapua
DTSTART;TZID=Europe/Helsinki:20250809T160000
DTEND;TZID=Europe/Helsinki:20250809T190000
END:VEVENT
BEGIN:VEVENT
UID:69e8d15bc08f1
DTSTAMP:20260422T134707Z
SUMMARY:Virkiä - Fera
LOCATION:Urheilukatu 1\, 62100 Lapua
DTSTART;TZID=Europe/Helsinki:20250815T173000
DTEND;TZID=Europe/Helsinki:20250815T203000
END:VEVENT
BEGIN:VEVENT
UID:69e8d15bc0915
DTSTAMP:20260422T134707Z
SUMMARY:Virkiä - Fera
LOCATION:Urheilukatu 1\, 62100 Lapua
DTSTART;TZID=Europe/Helsinki:20250819T173000
DTEND;TZID=Europe/Helsinki:20250819T203000
END:VEVENT
BEGIN:VEVENT
UID:69e8d15bc0939
DTSTAMP:20260422T134707Z
SUMMARY:Virkiä - Pesäkarhut
LOCATION:Urheilukatu 1\, 62100 Lapua
DTSTART;TZID=Europe/Helsinki:20250826T170000
DTEND;TZID=Europe/Helsinki:20250826T200000
END:VEVENT
BEGIN:VEVENT
UID:69e8d15bc095e
DTSTAMP:20260422T134707Z
SUMMARY:Virkiä - Pesäkarhut
LOCATION:Urheilukatu 1\, 62100 Lapua
DTSTART;TZID=Europe/Helsinki:20250831T160000
DTEND;TZID=Europe/Helsinki:20250831T190000
END:VEVENT
BEGIN:VEVENT
UID:69e8d15bc0982
DTSTAMP:20260422T134707Z
SUMMARY:Virkiä - Jussittaret
LOCATION:Urheilukatu 1\, 62100 Lapua
DTSTART;TZID=Europe/Helsinki:20250906T150000
DTEND;TZID=Europe/Helsinki:20250906T180000
END:VEVENT
END:VCALENDAR