BEGIN:VCALENDAR
VERSION:2.0
PRODID:spatie/icalendar-generator
NAME:Eurajoen Veikot\, D-pojat ottelukalenteri
X-WR-CALNAME:Eurajoen Veikot\, D-pojat ottelukalenteri
BEGIN:VTIMEZONE
TZID:Europe/Helsinki
BEGIN:STANDARD
DTSTART:20231029T040000
TZOFFSETFROM:+0300
TZOFFSETTO:+0200
END:STANDARD
BEGIN:DAYLIGHT
DTSTART:20240331T020000
TZOFFSETFROM:+0200
TZOFFSETTO:+0300
END:DAYLIGHT
BEGIN:STANDARD
DTSTART:20241027T040000
TZOFFSETFROM:+0300
TZOFFSETTO:+0200
END:STANDARD
END:VTIMEZONE
BEGIN:VTIMEZONE
TZID:UTC
BEGIN:STANDARD
DTSTART:20250727T155248
TZOFFSETFROM:+0000
TZOFFSETTO:+0000
END:STANDARD
END:VTIMEZONE
BEGIN:VEVENT
UID:69ea405090868
DTSTAMP:20260423T155248Z
SUMMARY:EuVe - SMJ peli
LOCATION:Ritakierros 2\, 90540 Oulu
DTSTART;TZID=Europe/Helsinki:20240708T144500
DTEND;TZID=Europe/Helsinki:20240708T174500
END:VEVENT
BEGIN:VEVENT
UID:69ea4050908cb
DTSTAMP:20260423T155248Z
SUMMARY:Tahko Yellow - EuVe
LOCATION:Hintankuja 3\, 90650 Oulu
DTSTART;TZID=Europe/Helsinki:20240709T104500
DTEND;TZID=Europe/Helsinki:20240709T134500
END:VEVENT
BEGIN:VEVENT
UID:69ea4050908fb
DTSTAMP:20260423T155248Z
SUMMARY:JoMa Valkoinen - EuVe
LOCATION:Tahtimarssi 3\, 90670 Oulu
DTSTART;TZID=Europe/Helsinki:20240709T154500
DTEND;TZID=Europe/Helsinki:20240709T184500
END:VEVENT
BEGIN:VEVENT
UID:69ea405090926
DTSTAMP:20260423T155248Z
SUMMARY:UPV - EuVe
LOCATION:Professorintie\, 90220 Oulu
DTSTART;TZID=Europe/Helsinki:20240710T093000
DTEND;TZID=Europe/Helsinki:20240710T123000
END:VEVENT
BEGIN:VEVENT
UID:69ea40509094c
DTSTAMP:20260423T155248Z
SUMMARY:EuVe - SuPo
LOCATION:Hintankuja 3\, 90650 Oulu
DTSTART;TZID=Europe/Helsinki:20240710T131500
DTEND;TZID=Europe/Helsinki:20240710T161500
END:VEVENT
BEGIN:VEVENT
UID:69ea405090971
DTSTAMP:20260423T155248Z
SUMMARY:TuPe - EuVe
LOCATION:Professorintie\, 90220 Oulu
DTSTART;TZID=Europe/Helsinki:20240711T093000
DTEND;TZID=Europe/Helsinki:20240711T123000
END:VEVENT
BEGIN:VEVENT
UID:69ea405090994
DTSTAMP:20260423T155248Z
SUMMARY:EuVe - Sudet-Lallit
LOCATION:Professorintie\, 90220 Oulu
DTSTART;TZID=Europe/Helsinki:20240712T093000
DTEND;TZID=Europe/Helsinki:20240712T123000
END:VEVENT
BEGIN:VEVENT
UID:69ea4050909b6
DTSTAMP:20260423T155248Z
SUMMARY:KiPa-90 Punainen - EuVe
LOCATION:Hintankuja 3\, 90650 Oulu
DTSTART;TZID=Europe/Helsinki:20240712T131500
DTEND;TZID=Europe/Helsinki:20240712T161500
END:VEVENT
BEGIN:VEVENT
UID:69ea4050909d6
DTSTAMP:20260423T155248Z
SUMMARY:JoMa Valkoinen - EuVe
LOCATION:Tahtimarssi 3\, 90670 Oulu
DTSTART;TZID=Europe/Helsinki:20240712T200000
DTEND;TZID=Europe/Helsinki:20240712T230000
END:VEVENT
BEGIN:VEVENT
UID:69ea4050909fb
DTSTAMP:20260423T155248Z
SUMMARY:EuVe - SoJy Violetti
LOCATION:Professorintie\, 90220 Oulu
DTSTART;TZID=Europe/Helsinki:20240713T081500
DTEND;TZID=Europe/Helsinki:20240713T111500
END:VEVENT
BEGIN:VEVENT
UID:69ea405090a1f
DTSTAMP:20260423T155248Z
SUMMARY:EuVe - SiKi
LOCATION:Kaarnatie 44\, 90530 Oulu
DTSTART;TZID=Europe/Helsinki:20240713T150000
DTEND;TZID=Europe/Helsinki:20240713T180000
END:VEVENT
END:VCALENDAR