BEGIN:VCALENDAR
VERSION:2.0
PRODID:spatie/icalendar-generator
NAME:Eurajoen Veikot\, D-pojat ottelukalenteri
X-WR-CALNAME:Eurajoen Veikot\, D-pojat ottelukalenteri
BEGIN:VTIMEZONE
TZID:Europe/Helsinki
BEGIN:STANDARD
DTSTART:20231029T040000
TZOFFSETFROM:+0300
TZOFFSETTO:+0200
END:STANDARD
BEGIN:DAYLIGHT
DTSTART:20240331T020000
TZOFFSETFROM:+0200
TZOFFSETTO:+0300
END:DAYLIGHT
BEGIN:STANDARD
DTSTART:20241027T040000
TZOFFSETFROM:+0300
TZOFFSETTO:+0200
END:STANDARD
END:VTIMEZONE
BEGIN:VTIMEZONE
TZID:UTC
BEGIN:STANDARD
DTSTART:20250727T154616
TZOFFSETFROM:+0000
TZOFFSETTO:+0000
END:STANDARD
END:VTIMEZONE
BEGIN:VEVENT
UID:69ea3ec8aad27
DTSTAMP:20260423T154616Z
SUMMARY:EuVe - SMJ peli
LOCATION:Ritakierros 2\, 90540 Oulu
DTSTART;TZID=Europe/Helsinki:20240708T144500
DTEND;TZID=Europe/Helsinki:20240708T174500
END:VEVENT
BEGIN:VEVENT
UID:69ea3ec8aad72
DTSTAMP:20260423T154616Z
SUMMARY:EuVe - SuPo
LOCATION:Hintankuja 3\, 90650 Oulu
DTSTART;TZID=Europe/Helsinki:20240710T131500
DTEND;TZID=Europe/Helsinki:20240710T161500
END:VEVENT
BEGIN:VEVENT
UID:69ea3ec8aad91
DTSTAMP:20260423T154616Z
SUMMARY:EuVe - Sudet-Lallit
LOCATION:Professorintie\, 90220 Oulu
DTSTART;TZID=Europe/Helsinki:20240712T093000
DTEND;TZID=Europe/Helsinki:20240712T123000
END:VEVENT
BEGIN:VEVENT
UID:69ea3ec8aadae
DTSTAMP:20260423T154616Z
SUMMARY:EuVe - SoJy Violetti
LOCATION:Professorintie\, 90220 Oulu
DTSTART;TZID=Europe/Helsinki:20240713T081500
DTEND;TZID=Europe/Helsinki:20240713T111500
END:VEVENT
BEGIN:VEVENT
UID:69ea3ec8aadca
DTSTAMP:20260423T154616Z
SUMMARY:EuVe - SiKi
LOCATION:Kaarnatie 44\, 90530 Oulu
DTSTART;TZID=Europe/Helsinki:20240713T150000
DTEND;TZID=Europe/Helsinki:20240713T180000
END:VEVENT
END:VCALENDAR