BEGIN:VCALENDAR
VERSION:2.0
PRODID:spatie/icalendar-generator
NAME:Muhos ottelukalenteri
X-WR-CALNAME:Muhos ottelukalenteri
BEGIN:VTIMEZONE
TZID:Europe/Helsinki
BEGIN:STANDARD
DTSTART:19991031T040000
TZOFFSETFROM:+0300
TZOFFSETTO:+0200
END:STANDARD
BEGIN:DAYLIGHT
DTSTART:20000326T020000
TZOFFSETFROM:+0200
TZOFFSETTO:+0300
END:DAYLIGHT
BEGIN:STANDARD
DTSTART:20001029T040000
TZOFFSETFROM:+0300
TZOFFSETTO:+0200
END:STANDARD
END:VTIMEZONE
BEGIN:VTIMEZONE
TZID:UTC
BEGIN:STANDARD
DTSTART:20250727T171714
TZOFFSETFROM:+0000
TZOFFSETTO:+0000
END:STANDARD
END:VTIMEZONE
BEGIN:VEVENT
UID:69ea541a73ddf
DTSTAMP:20260423T171714Z
SUMMARY:ViVe - MuPS
LOCATION:Patruunantie 15\, 62800 Vimpeli
DTSTART;TZID=Europe/Helsinki:20000514T130000
DTEND;TZID=Europe/Helsinki:20000514T160000
END:VEVENT
BEGIN:VEVENT
UID:69ea541a73f57
DTSTAMP:20260423T171714Z
SUMMARY:MuPS - VäVi
LOCATION:Ponkilantie\, 91500 Muhos
DTSTART;TZID=Europe/Helsinki:20000520T150100
DTEND;TZID=Europe/Helsinki:20000520T180100
END:VEVENT
BEGIN:VEVENT
UID:69ea541a74098
DTSTAMP:20260423T171714Z
SUMMARY:NuJy - MuPS
DTSTART;TZID=Europe/Helsinki:20000521T130000
DTEND;TZID=Europe/Helsinki:20000521T160000
END:VEVENT
BEGIN:VEVENT
UID:69ea541a741ee
DTSTAMP:20260423T171714Z
SUMMARY:MuPS - KeKi
LOCATION:Ponkilantie\, 91500 Muhos
DTSTART;TZID=Europe/Helsinki:20000524T180000
DTEND;TZID=Europe/Helsinki:20000524T210000
END:VEVENT
BEGIN:VEVENT
UID:69ea541a74303
DTSTAMP:20260423T171714Z
SUMMARY:MuPS - PeTo
LOCATION:Ponkilantie\, 91500 Muhos
DTSTART;TZID=Europe/Helsinki:20000527T150000
DTEND;TZID=Europe/Helsinki:20000527T180000
END:VEVENT
BEGIN:VEVENT
UID:69ea541a74416
DTSTAMP:20260423T171714Z
SUMMARY:HP-K - MuPS
LOCATION:Veskantie 4\, 85800 Haapajärvi
DTSTART;TZID=Europe/Helsinki:20000528T170000
DTEND;TZID=Europe/Helsinki:20000528T200000
END:VEVENT
BEGIN:VEVENT
UID:69ea541a74523
DTSTAMP:20260423T171714Z
SUMMARY:YK - MuPS
DTSTART;TZID=Europe/Helsinki:20000531T180000
DTEND;TZID=Europe/Helsinki:20000531T210000
END:VEVENT
BEGIN:VEVENT
UID:69ea541a74545
DTSTAMP:20260423T171714Z
SUMMARY:PuijonPesäpallo - MuPS
LOCATION:Mantunkuja 2\, 71800 Siilinjärvi
DTSTART;TZID=Europe/Helsinki:20000607T180000
DTEND;TZID=Europe/Helsinki:20000607T210000
END:VEVENT
BEGIN:VEVENT
UID:69ea541a7464e
DTSTAMP:20260423T171714Z
SUMMARY:MuPS - KPL
LOCATION:Ponkilantie\, 91500 Muhos
DTSTART;TZID=Europe/Helsinki:20000610T150100
DTEND;TZID=Europe/Helsinki:20000610T180100
END:VEVENT
BEGIN:VEVENT
UID:69ea541a74758
DTSTAMP:20260423T171714Z
SUMMARY:JoMa - MuPS
DTSTART;TZID=Europe/Helsinki:20000611T170000
DTEND;TZID=Europe/Helsinki:20000611T200000
END:VEVENT
BEGIN:VEVENT
UID:69ea541a74777
DTSTAMP:20260423T171714Z
SUMMARY:MuPS - KiPe
LOCATION:Ponkilantie\, 91500 Muhos
DTSTART;TZID=Europe/Helsinki:20000617T150000
DTEND;TZID=Europe/Helsinki:20000617T180000
END:VEVENT
BEGIN:VEVENT
UID:69ea541a748dc
DTSTAMP:20260423T171714Z
SUMMARY:MuPS - JoKo
LOCATION:Ponkilantie\, 91500 Muhos
DTSTART;TZID=Europe/Helsinki:20000618T130500
DTEND;TZID=Europe/Helsinki:20000618T160500
END:VEVENT
BEGIN:VEVENT
UID:69ea541a74a35
DTSTAMP:20260423T171714Z
SUMMARY:KPK - MuPS
DTSTART;TZID=Europe/Helsinki:20000621T180000
DTEND;TZID=Europe/Helsinki:20000621T210000
END:VEVENT
BEGIN:VEVENT
UID:69ea541a74b44
DTSTAMP:20260423T171714Z
SUMMARY:JoKo - MuPS
LOCATION:31600 Jokioinen
DTSTART;TZID=Europe/Helsinki:20000701T150000
DTEND;TZID=Europe/Helsinki:20000701T180000
END:VEVENT
BEGIN:VEVENT
UID:69ea541a74b66
DTSTAMP:20260423T171714Z
SUMMARY:KiPe - MuPS
DTSTART;TZID=Europe/Helsinki:20000702T180000
DTEND;TZID=Europe/Helsinki:20000702T210000
END:VEVENT
BEGIN:VEVENT
UID:69ea541a74cb2
DTSTAMP:20260423T171714Z
SUMMARY:KeKi - MuPS
DTSTART;TZID=Europe/Helsinki:20000705T180000
DTEND;TZID=Europe/Helsinki:20000705T210000
END:VEVENT
BEGIN:VEVENT
UID:69ea541a74dc8
DTSTAMP:20260423T171714Z
SUMMARY:MuPS - JoMa
LOCATION:Ponkilantie\, 91500 Muhos
DTSTART;TZID=Europe/Helsinki:20000709T130000
DTEND;TZID=Europe/Helsinki:20000709T160000
END:VEVENT
BEGIN:VEVENT
UID:69ea541a74deb
DTSTAMP:20260423T171714Z
SUMMARY:MuPS - PuijonPesäpallo
LOCATION:Ponkilantie\, 91500 Muhos
DTSTART;TZID=Europe/Helsinki:20000712T180000
DTEND;TZID=Europe/Helsinki:20000712T210000
END:VEVENT
BEGIN:VEVENT
UID:69ea541a74efa
DTSTAMP:20260423T171714Z
SUMMARY:MuPS - KPK
LOCATION:Ponkilantie\, 91500 Muhos
DTSTART;TZID=Europe/Helsinki:20000715T150000
DTEND;TZID=Europe/Helsinki:20000715T180000
END:VEVENT
BEGIN:VEVENT
UID:69ea541a75034
DTSTAMP:20260423T171714Z
SUMMARY:MuPS - YK
DTSTART;TZID=Europe/Helsinki:20000719T180000
DTEND;TZID=Europe/Helsinki:20000719T210000
END:VEVENT
BEGIN:VEVENT
UID:69ea541a751a7
DTSTAMP:20260423T171714Z
SUMMARY:KPL - MuPS
DTSTART;TZID=Europe/Helsinki:20000723T170000
DTEND;TZID=Europe/Helsinki:20000723T200000
END:VEVENT
BEGIN:VEVENT
UID:69ea541a752e4
DTSTAMP:20260423T171714Z
SUMMARY:MuPS - HP-K
LOCATION:Ponkilantie\, 91500 Muhos
DTSTART;TZID=Europe/Helsinki:20000726T180000
DTEND;TZID=Europe/Helsinki:20000726T210000
END:VEVENT
BEGIN:VEVENT
UID:69ea541a753ff
DTSTAMP:20260423T171714Z
SUMMARY:PeTo - MuPS
DTSTART;TZID=Europe/Helsinki:20000730T130000
DTEND;TZID=Europe/Helsinki:20000730T160000
END:VEVENT
BEGIN:VEVENT
UID:69ea541a75520
DTSTAMP:20260423T171714Z
SUMMARY:MuPS - NuJy
LOCATION:Ponkilantie\, 91500 Muhos
DTSTART;TZID=Europe/Helsinki:20000802T180000
DTEND;TZID=Europe/Helsinki:20000802T210000
END:VEVENT
BEGIN:VEVENT
UID:69ea541a75542
DTSTAMP:20260423T171714Z
SUMMARY:VäVi - MuPS
LOCATION:Vähänkyröntie 55\, Vähäkyrö
DTSTART;TZID=Europe/Helsinki:20000809T180000
DTEND;TZID=Europe/Helsinki:20000809T210000
END:VEVENT
BEGIN:VEVENT
UID:69ea541a75650
DTSTAMP:20260423T171714Z
SUMMARY:MuPS - ViVe
LOCATION:Ponkilantie\, 91500 Muhos
DTSTART;TZID=Europe/Helsinki:20000813T150000
DTEND;TZID=Europe/Helsinki:20000813T180000
END:VEVENT
END:VCALENDAR