BEGIN:VCALENDAR
VERSION:2.0
PRODID:spatie/icalendar-generator
NAME:OtaKoppi ottelukalenteri
X-WR-CALNAME:OtaKoppi ottelukalenteri
BEGIN:VTIMEZONE
TZID:Europe/Helsinki
BEGIN:STANDARD
DTSTART:20241027T040000
TZOFFSETFROM:+0300
TZOFFSETTO:+0200
END:STANDARD
BEGIN:DAYLIGHT
DTSTART:20250330T020000
TZOFFSETFROM:+0200
TZOFFSETTO:+0300
END:DAYLIGHT
BEGIN:STANDARD
DTSTART:20251026T040000
TZOFFSETFROM:+0300
TZOFFSETTO:+0200
END:STANDARD
END:VTIMEZONE
BEGIN:VTIMEZONE
TZID:UTC
BEGIN:STANDARD
DTSTART:20250726T184905
TZOFFSETFROM:+0000
TZOFFSETTO:+0000
END:STANDARD
END:VTIMEZONE
BEGIN:VEVENT
UID:69e918219356c
DTSTAMP:20260422T184905Z
SUMMARY:OtaKoppi - Espoon Pesis
LOCATION:Tuulikuja\, 02100 Espoo
DTSTART;TZID=Europe/Helsinki:20250519T180000
DTEND;TZID=Europe/Helsinki:20250519T210000
END:VEVENT
BEGIN:VEVENT
UID:69e91821935b6
DTSTAMP:20260422T184905Z
SUMMARY:OtaKoppi - ViPa
LOCATION:Tuulikuja\, 02100 Espoo
DTSTART;TZID=Europe/Helsinki:20250527T180000
DTEND;TZID=Europe/Helsinki:20250527T210000
END:VEVENT
BEGIN:VEVENT
UID:69e91821935d7
DTSTAMP:20260422T184905Z
SUMMARY:OtaKoppi - Cobra
LOCATION:Tuulikuja\, 02100 Espoo
DTSTART;TZID=Europe/Helsinki:20250609T180000
DTEND;TZID=Europe/Helsinki:20250609T210000
END:VEVENT
BEGIN:VEVENT
UID:69e91821935f4
DTSTAMP:20260422T184905Z
SUMMARY:OtaKoppi - LMV
LOCATION:Tuulikuja\, 02100 Espoo
DTSTART;TZID=Europe/Helsinki:20250612T180000
DTEND;TZID=Europe/Helsinki:20250612T210000
END:VEVENT
BEGIN:VEVENT
UID:69e9182193610
DTSTAMP:20260422T184905Z
SUMMARY:OtaKoppi - ViPa
LOCATION:Tuulikuja\, 02100 Espoo
DTSTART;TZID=Europe/Helsinki:20250630T180000
DTEND;TZID=Europe/Helsinki:20250630T210000
END:VEVENT
BEGIN:VEVENT
UID:69e918219362b
DTSTAMP:20260422T184905Z
SUMMARY:OtaKoppi - LaLu
LOCATION:Tuulikuja\, 02100 Espoo
DTSTART;TZID=Europe/Helsinki:20250812T180000
DTEND;TZID=Europe/Helsinki:20250812T210000
END:VEVENT
BEGIN:VEVENT
UID:69e918219364f
DTSTAMP:20260422T184905Z
SUMMARY:OtaKoppi - KiPe -06
LOCATION:Tuulikuja\, 02100 Espoo
DTSTART;TZID=Europe/Helsinki:20250830T150000
DTEND;TZID=Europe/Helsinki:20250830T180000
END:VEVENT
END:VCALENDAR