BEGIN:VCALENDAR
VERSION:2.0
PRODID:spatie/icalendar-generator
NAME:Polte ottelukalenteri
X-WR-CALNAME:Polte ottelukalenteri
BEGIN:VTIMEZONE
TZID:Europe/Helsinki
BEGIN:STANDARD
DTSTART:20091025T040000
TZOFFSETFROM:+0300
TZOFFSETTO:+0200
END:STANDARD
BEGIN:DAYLIGHT
DTSTART:20100328T020000
TZOFFSETFROM:+0200
TZOFFSETTO:+0300
END:DAYLIGHT
BEGIN:STANDARD
DTSTART:20101031T040000
TZOFFSETFROM:+0300
TZOFFSETTO:+0200
END:STANDARD
END:VTIMEZONE
BEGIN:VTIMEZONE
TZID:UTC
BEGIN:STANDARD
DTSTART:20250727T160254
TZOFFSETFROM:+0000
TZOFFSETTO:+0000
END:STANDARD
END:VTIMEZONE
BEGIN:VEVENT
UID:69ea42ae40079
DTSTAMP:20260423T160254Z
SUMMARY:Polte - KeKi
DTSTART;TZID=Europe/Helsinki:20100514T180000
DTEND;TZID=Europe/Helsinki:20100514T210000
END:VEVENT
BEGIN:VEVENT
UID:69ea42ae4020c
DTSTAMP:20260423T160254Z
SUMMARY:Polte - IPV
DTSTART;TZID=Europe/Helsinki:20100529T180000
DTEND;TZID=Europe/Helsinki:20100529T210000
END:VEVENT
BEGIN:VEVENT
UID:69ea42ae403ae
DTSTAMP:20260423T160254Z
SUMMARY:Polte - HP
DTSTART;TZID=Europe/Helsinki:20100530T130000
DTEND;TZID=Europe/Helsinki:20100530T160000
END:VEVENT
BEGIN:VEVENT
UID:69ea42ae40532
DTSTAMP:20260423T160254Z
SUMMARY:Polte - HP-K
LOCATION:Ouluhallintie 20\, 90130 Oulu
DTSTART;TZID=Europe/Helsinki:20100602T180000
DTEND;TZID=Europe/Helsinki:20100602T210000
END:VEVENT
BEGIN:VEVENT
UID:69ea42ae406a5
DTSTAMP:20260423T160254Z
SUMMARY:Polte - YK
DTSTART;TZID=Europe/Helsinki:20100609T180000
DTEND;TZID=Europe/Helsinki:20100609T210000
END:VEVENT
BEGIN:VEVENT
UID:69ea42ae40802
DTSTAMP:20260423T160254Z
SUMMARY:Polte - PuPe
DTSTART;TZID=Europe/Helsinki:20100619T170000
DTEND;TZID=Europe/Helsinki:20100619T200000
END:VEVENT
BEGIN:VEVENT
UID:69ea42ae40949
DTSTAMP:20260423T160254Z
SUMMARY:Polte - JoKo
DTSTART;TZID=Europe/Helsinki:20100717T130000
DTEND;TZID=Europe/Helsinki:20100717T160000
END:VEVENT
BEGIN:VEVENT
UID:69ea42ae40a9a
DTSTAMP:20260423T160254Z
SUMMARY:Polte - KaMa
DTSTART;TZID=Europe/Helsinki:20100718T130000
DTEND;TZID=Europe/Helsinki:20100718T160000
END:VEVENT
BEGIN:VEVENT
UID:69ea42ae40bfe
DTSTAMP:20260423T160254Z
SUMMARY:Polte - VM
DTSTART;TZID=Europe/Helsinki:20100724T170000
DTEND;TZID=Europe/Helsinki:20100724T200000
END:VEVENT
BEGIN:VEVENT
UID:69ea42ae40d50
DTSTAMP:20260423T160254Z
SUMMARY:Polte - YKV
DTSTART;TZID=Europe/Helsinki:20100807T170000
DTEND;TZID=Europe/Helsinki:20100807T200000
END:VEVENT
BEGIN:VEVENT
UID:69ea42ae40eaa
DTSTAMP:20260423T160254Z
SUMMARY:Polte - AA
DTSTART;TZID=Europe/Helsinki:20100815T130000
DTEND;TZID=Europe/Helsinki:20100815T160000
END:VEVENT
BEGIN:VEVENT
UID:69ea42ae40ed5
DTSTAMP:20260423T160254Z
SUMMARY:Polte - HP-K
DTSTART;TZID=Europe/Helsinki:20100818T173000
DTEND;TZID=Europe/Helsinki:20100818T203000
END:VEVENT
BEGIN:VEVENT
UID:69ea42ae40ef3
DTSTAMP:20260423T160254Z
SUMMARY:Polte - KaMa
DTSTART;TZID=Europe/Helsinki:20100828T130000
DTEND;TZID=Europe/Helsinki:20100828T160000
END:VEVENT
END:VCALENDAR