BEGIN:VCALENDAR
VERSION:2.0
PRODID:spatie/icalendar-generator
NAME:Pattijoen Urheilijat\, Raahe ottelukalenteri
X-WR-CALNAME:Pattijoen Urheilijat\, Raahe ottelukalenteri
BEGIN:VTIMEZONE
TZID:Europe/Helsinki
BEGIN:STANDARD
DTSTART:20161030T040000
TZOFFSETFROM:+0300
TZOFFSETTO:+0200
END:STANDARD
BEGIN:DAYLIGHT
DTSTART:20170326T020000
TZOFFSETFROM:+0200
TZOFFSETTO:+0300
END:DAYLIGHT
BEGIN:STANDARD
DTSTART:20171029T040000
TZOFFSETFROM:+0300
TZOFFSETTO:+0200
END:STANDARD
END:VTIMEZONE
BEGIN:VTIMEZONE
TZID:UTC
BEGIN:STANDARD
DTSTART:20250728T162354
TZOFFSETFROM:+0000
TZOFFSETTO:+0000
END:STANDARD
END:VTIMEZONE
BEGIN:VEVENT
UID:69eb991ad6e03
DTSTAMP:20260424T162354Z
SUMMARY:KaMa - PattU
DTSTART;TZID=Europe/Helsinki:20170506T150000
DTEND;TZID=Europe/Helsinki:20170506T180000
END:VEVENT
BEGIN:VEVENT
UID:69eb991ad6e51
DTSTAMP:20260424T162354Z
SUMMARY:Lippo Pesis - PattU
LOCATION:Ouluhallintie 20\, 90130 Oulu
DTSTART;TZID=Europe/Helsinki:20170508T120000
DTEND;TZID=Europe/Helsinki:20170508T150000
END:VEVENT
BEGIN:VEVENT
UID:69eb991ad6e72
DTSTAMP:20260424T162354Z
SUMMARY:KeKi - PattU
LOCATION:Ouluhallintie 20\, 90130 Oulu
DTSTART;TZID=Europe/Helsinki:20170509T000000
DTEND;TZID=Europe/Helsinki:20170509T030000
END:VEVENT
BEGIN:VEVENT
UID:69eb991ad6e90
DTSTAMP:20260424T162354Z
SUMMARY:SoJy - PattU
LOCATION:Ouluhallintie 20\, 90130 Oulu
DTSTART;TZID=Europe/Helsinki:20170509T170000
DTEND;TZID=Europe/Helsinki:20170509T200000
END:VEVENT
BEGIN:VEVENT
UID:69eb991ad6eaa
DTSTAMP:20260424T162354Z
SUMMARY:KoU - PattU
LOCATION:61330 Koskenkorva
DTSTART;TZID=Europe/Helsinki:20170514T150200
DTEND;TZID=Europe/Helsinki:20170514T180200
END:VEVENT
BEGIN:VEVENT
UID:69eb991ad6ec5
DTSTAMP:20260424T162354Z
SUMMARY:PattU - Tahko
LOCATION:Rännärintie\, 92140 Raahe
DTSTART;TZID=Europe/Helsinki:20170519T180000
DTEND;TZID=Europe/Helsinki:20170519T210000
END:VEVENT
BEGIN:VEVENT
UID:69eb991ad6ee0
DTSTAMP:20260424T162354Z
SUMMARY:PattU - ViVe
LOCATION:Rännärintie\, 92140 Raahe
DTSTART;TZID=Europe/Helsinki:20170521T151300
DTEND;TZID=Europe/Helsinki:20170521T181300
END:VEVENT
BEGIN:VEVENT
UID:69eb991ad6ef9
DTSTAMP:20260424T162354Z
SUMMARY:JoMa - PattU
DTSTART;TZID=Europe/Helsinki:20170524T180000
DTEND;TZID=Europe/Helsinki:20170524T210000
END:VEVENT
BEGIN:VEVENT
UID:69eb991ad6f12
DTSTAMP:20260424T162354Z
SUMMARY:KPL - PattU
LOCATION:Hovioikeudenkatu 3\, 45100 Kouvola
DTSTART;TZID=Europe/Helsinki:20170525T160000
DTEND;TZID=Europe/Helsinki:20170525T190000
END:VEVENT
BEGIN:VEVENT
UID:69eb991ad6f2b
DTSTAMP:20260424T162354Z
SUMMARY:PattU - IPV
LOCATION:Rännärintie\, 92140 Raahe
DTSTART;TZID=Europe/Helsinki:20170528T150000
DTEND;TZID=Europe/Helsinki:20170528T180000
END:VEVENT
BEGIN:VEVENT
UID:69eb991ad6f44
DTSTAMP:20260424T162354Z
SUMMARY:JymyJussit - PattU
DTSTART;TZID=Europe/Helsinki:20170530T180000
DTEND;TZID=Europe/Helsinki:20170530T210000
END:VEVENT
BEGIN:VEVENT
UID:69eb991ad6f5c
DTSTAMP:20260424T162354Z
SUMMARY:PattU - AA
LOCATION:Rännärintie\, 92140 Raahe
DTSTART;TZID=Europe/Helsinki:20170602T180000
DTEND;TZID=Europe/Helsinki:20170602T210000
END:VEVENT
BEGIN:VEVENT
UID:69eb991ad6f75
DTSTAMP:20260424T162354Z
SUMMARY:PattU - Lippo Pesis
LOCATION:Rännärintie\, 92140 Raahe
DTSTART;TZID=Europe/Helsinki:20170606T180000
DTEND;TZID=Europe/Helsinki:20170606T210000
END:VEVENT
BEGIN:VEVENT
UID:69eb991ad6f8e
DTSTAMP:20260424T162354Z
SUMMARY:PattU - SoJy
LOCATION:Rännärintie\, 92140 Raahe
DTSTART;TZID=Europe/Helsinki:20170609T180000
DTEND;TZID=Europe/Helsinki:20170609T210000
END:VEVENT
BEGIN:VEVENT
UID:69eb991ad6fa7
DTSTAMP:20260424T162354Z
SUMMARY:KiPa - PattU
DTSTART;TZID=Europe/Helsinki:20170611T160000
DTEND;TZID=Europe/Helsinki:20170611T190000
END:VEVENT
BEGIN:VEVENT
UID:69eb991ad6fc1
DTSTAMP:20260424T162354Z
SUMMARY:PattU - KeKi
LOCATION:Rännärintie\, 92140 Raahe
DTSTART;TZID=Europe/Helsinki:20170616T180000
DTEND;TZID=Europe/Helsinki:20170616T210000
END:VEVENT
BEGIN:VEVENT
UID:69eb991ad6fdc
DTSTAMP:20260424T162354Z
SUMMARY:PattU - JoMa
LOCATION:Rännärintie\, 92140 Raahe
DTSTART;TZID=Europe/Helsinki:20170618T170000
DTEND;TZID=Europe/Helsinki:20170618T200000
END:VEVENT
BEGIN:VEVENT
UID:69eb991ad6ff5
DTSTAMP:20260424T162354Z
SUMMARY:AA - PattU
LOCATION:Hirsikankaantie 3\, 62900 Alajärvi
DTSTART;TZID=Europe/Helsinki:20170620T180000
DTEND;TZID=Europe/Helsinki:20170620T210000
END:VEVENT
BEGIN:VEVENT
UID:69eb991ad700d
DTSTAMP:20260424T162354Z
SUMMARY:PattU - KPL
LOCATION:Rännärintie\, 92140 Raahe
DTSTART;TZID=Europe/Helsinki:20170629T180000
DTEND;TZID=Europe/Helsinki:20170629T210000
END:VEVENT
BEGIN:VEVENT
UID:69eb991ad7026
DTSTAMP:20260424T162354Z
SUMMARY:IPV - PattU
DTSTART;TZID=Europe/Helsinki:20170706T175900
DTEND;TZID=Europe/Helsinki:20170706T205900
END:VEVENT
BEGIN:VEVENT
UID:69eb991ad703d
DTSTAMP:20260424T162354Z
SUMMARY:SoJy - PattU
DTSTART;TZID=Europe/Helsinki:20170709T140500
DTEND;TZID=Europe/Helsinki:20170709T170500
END:VEVENT
BEGIN:VEVENT
UID:69eb991ad7053
DTSTAMP:20260424T162354Z
SUMMARY:Lippo Pesis - PattU
DTSTART;TZID=Europe/Helsinki:20170711T180000
DTEND;TZID=Europe/Helsinki:20170711T210000
END:VEVENT
BEGIN:VEVENT
UID:69eb991ad706a
DTSTAMP:20260424T162354Z
SUMMARY:ViVe - PattU
LOCATION:Patruunantie 15\, 62800 Vimpeli
DTSTART;TZID=Europe/Helsinki:20170714T180000
DTEND;TZID=Europe/Helsinki:20170714T210000
END:VEVENT
BEGIN:VEVENT
UID:69eb991ad7083
DTSTAMP:20260424T162354Z
SUMMARY:PattU - KoU
LOCATION:Rännärintie\, 92140 Raahe
DTSTART;TZID=Europe/Helsinki:20170716T170000
DTEND;TZID=Europe/Helsinki:20170716T200000
END:VEVENT
BEGIN:VEVENT
UID:69eb991ad709b
DTSTAMP:20260424T162354Z
SUMMARY:Tahko - PattU
LOCATION:Urheilukatu 19\, 05800 Hyvinkää
DTSTART;TZID=Europe/Helsinki:20170718T180000
DTEND;TZID=Europe/Helsinki:20170718T210000
END:VEVENT
BEGIN:VEVENT
UID:69eb991ad70b3
DTSTAMP:20260424T162354Z
SUMMARY:PattU - JymyJussit
LOCATION:Rännärintie\, 92140 Raahe
DTSTART;TZID=Europe/Helsinki:20170721T180000
DTEND;TZID=Europe/Helsinki:20170721T210000
END:VEVENT
BEGIN:VEVENT
UID:69eb991ad70ca
DTSTAMP:20260424T162354Z
SUMMARY:PattU - KiPa
LOCATION:Rännärintie\, 92140 Raahe
DTSTART;TZID=Europe/Helsinki:20170723T170000
DTEND;TZID=Europe/Helsinki:20170723T200000
END:VEVENT
BEGIN:VEVENT
UID:69eb991ad70e3
DTSTAMP:20260424T162354Z
SUMMARY:KeKi - PattU
DTSTART;TZID=Europe/Helsinki:20170725T180000
DTEND;TZID=Europe/Helsinki:20170725T210000
END:VEVENT
BEGIN:VEVENT
UID:69eb991ad7104
DTSTAMP:20260424T162354Z
SUMMARY:PattU - KaMa
LOCATION:Rännärintie\, 92140 Raahe
DTSTART;TZID=Europe/Helsinki:20170727T180100
DTEND;TZID=Europe/Helsinki:20170727T210100
END:VEVENT
BEGIN:VEVENT
UID:69eb991ad7134
DTSTAMP:20260424T162354Z
SUMMARY:KeKi - PattU
DTSTART;TZID=Europe/Helsinki:20170730T170000
DTEND;TZID=Europe/Helsinki:20170730T200000
END:VEVENT
BEGIN:VEVENT
UID:69eb991ad7156
DTSTAMP:20260424T162354Z
SUMMARY:PattU - AA
LOCATION:Rännärintie\, 92140 Raahe
DTSTART;TZID=Europe/Helsinki:20170804T180000
DTEND;TZID=Europe/Helsinki:20170804T210000
END:VEVENT
BEGIN:VEVENT
UID:69eb991ad7177
DTSTAMP:20260424T162354Z
SUMMARY:Lippo Pesis - PattU
DTSTART;TZID=Europe/Helsinki:20170808T180000
DTEND;TZID=Europe/Helsinki:20170808T210000
END:VEVENT
BEGIN:VEVENT
UID:69eb991ad71a4
DTSTAMP:20260424T162354Z
SUMMARY:PattU - KaMa
LOCATION:Rännärintie\, 92140 Raahe
DTSTART;TZID=Europe/Helsinki:20170811T180000
DTEND;TZID=Europe/Helsinki:20170811T210000
END:VEVENT
BEGIN:VEVENT
UID:69eb991ad71e9
DTSTAMP:20260424T162354Z
SUMMARY:Tahko - PattU
LOCATION:Urheilukatu 19\, 05800 Hyvinkää
DTSTART;TZID=Europe/Helsinki:20170813T170000
DTEND;TZID=Europe/Helsinki:20170813T200000
END:VEVENT
BEGIN:VEVENT
UID:69eb991ad7236
DTSTAMP:20260424T162354Z
SUMMARY:PattU - IPV
LOCATION:Rännärintie\, 92140 Raahe
DTSTART;TZID=Europe/Helsinki:20170817T173000
DTEND;TZID=Europe/Helsinki:20170817T203000
END:VEVENT
END:VCALENDAR