BEGIN:VCALENDAR
VERSION:2.0
PRODID:spatie/icalendar-generator
NAME:Pattijoen Urheilijat\, Raahe ottelukalenteri
X-WR-CALNAME:Pattijoen Urheilijat\, Raahe ottelukalenteri
BEGIN:VTIMEZONE
TZID:Europe/Helsinki
BEGIN:STANDARD
DTSTART:20161030T040000
TZOFFSETFROM:+0300
TZOFFSETTO:+0200
END:STANDARD
BEGIN:DAYLIGHT
DTSTART:20170326T020000
TZOFFSETFROM:+0200
TZOFFSETTO:+0300
END:DAYLIGHT
BEGIN:STANDARD
DTSTART:20171029T040000
TZOFFSETFROM:+0300
TZOFFSETTO:+0200
END:STANDARD
END:VTIMEZONE
BEGIN:VTIMEZONE
TZID:UTC
BEGIN:STANDARD
DTSTART:20250728T161903
TZOFFSETFROM:+0000
TZOFFSETTO:+0000
END:STANDARD
END:VTIMEZONE
BEGIN:VEVENT
UID:69eb97f7129ba
DTSTAMP:20260424T161903Z
SUMMARY:PattU - Tahko
LOCATION:Rännärintie\, 92140 Raahe
DTSTART;TZID=Europe/Helsinki:20170519T180000
DTEND;TZID=Europe/Helsinki:20170519T210000
END:VEVENT
BEGIN:VEVENT
UID:69eb97f712a06
DTSTAMP:20260424T161903Z
SUMMARY:PattU - ViVe
LOCATION:Rännärintie\, 92140 Raahe
DTSTART;TZID=Europe/Helsinki:20170521T151300
DTEND;TZID=Europe/Helsinki:20170521T181300
END:VEVENT
BEGIN:VEVENT
UID:69eb97f712a27
DTSTAMP:20260424T161903Z
SUMMARY:PattU - IPV
LOCATION:Rännärintie\, 92140 Raahe
DTSTART;TZID=Europe/Helsinki:20170528T150000
DTEND;TZID=Europe/Helsinki:20170528T180000
END:VEVENT
BEGIN:VEVENT
UID:69eb97f712a5e
DTSTAMP:20260424T161903Z
SUMMARY:PattU - AA
LOCATION:Rännärintie\, 92140 Raahe
DTSTART;TZID=Europe/Helsinki:20170602T180000
DTEND;TZID=Europe/Helsinki:20170602T210000
END:VEVENT
BEGIN:VEVENT
UID:69eb97f712aa9
DTSTAMP:20260424T161903Z
SUMMARY:PattU - Lippo Pesis
LOCATION:Rännärintie\, 92140 Raahe
DTSTART;TZID=Europe/Helsinki:20170606T180000
DTEND;TZID=Europe/Helsinki:20170606T210000
END:VEVENT
BEGIN:VEVENT
UID:69eb97f712ac7
DTSTAMP:20260424T161903Z
SUMMARY:PattU - SoJy
LOCATION:Rännärintie\, 92140 Raahe
DTSTART;TZID=Europe/Helsinki:20170609T180000
DTEND;TZID=Europe/Helsinki:20170609T210000
END:VEVENT
BEGIN:VEVENT
UID:69eb97f712ae2
DTSTAMP:20260424T161903Z
SUMMARY:PattU - KeKi
LOCATION:Rännärintie\, 92140 Raahe
DTSTART;TZID=Europe/Helsinki:20170616T180000
DTEND;TZID=Europe/Helsinki:20170616T210000
END:VEVENT
BEGIN:VEVENT
UID:69eb97f712afd
DTSTAMP:20260424T161903Z
SUMMARY:PattU - JoMa
LOCATION:Rännärintie\, 92140 Raahe
DTSTART;TZID=Europe/Helsinki:20170618T170000
DTEND;TZID=Europe/Helsinki:20170618T200000
END:VEVENT
BEGIN:VEVENT
UID:69eb97f712b16
DTSTAMP:20260424T161903Z
SUMMARY:PattU - KPL
LOCATION:Rännärintie\, 92140 Raahe
DTSTART;TZID=Europe/Helsinki:20170629T180000
DTEND;TZID=Europe/Helsinki:20170629T210000
END:VEVENT
BEGIN:VEVENT
UID:69eb97f712b30
DTSTAMP:20260424T161903Z
SUMMARY:PattU - KoU
LOCATION:Rännärintie\, 92140 Raahe
DTSTART;TZID=Europe/Helsinki:20170716T170000
DTEND;TZID=Europe/Helsinki:20170716T200000
END:VEVENT
BEGIN:VEVENT
UID:69eb97f712b49
DTSTAMP:20260424T161903Z
SUMMARY:PattU - JymyJussit
LOCATION:Rännärintie\, 92140 Raahe
DTSTART;TZID=Europe/Helsinki:20170721T180000
DTEND;TZID=Europe/Helsinki:20170721T210000
END:VEVENT
BEGIN:VEVENT
UID:69eb97f712b61
DTSTAMP:20260424T161903Z
SUMMARY:PattU - KiPa
LOCATION:Rännärintie\, 92140 Raahe
DTSTART;TZID=Europe/Helsinki:20170723T170000
DTEND;TZID=Europe/Helsinki:20170723T200000
END:VEVENT
BEGIN:VEVENT
UID:69eb97f712b7a
DTSTAMP:20260424T161903Z
SUMMARY:PattU - KaMa
LOCATION:Rännärintie\, 92140 Raahe
DTSTART;TZID=Europe/Helsinki:20170727T180100
DTEND;TZID=Europe/Helsinki:20170727T210100
END:VEVENT
BEGIN:VEVENT
UID:69eb97f712b92
DTSTAMP:20260424T161903Z
SUMMARY:PattU - AA
LOCATION:Rännärintie\, 92140 Raahe
DTSTART;TZID=Europe/Helsinki:20170804T180000
DTEND;TZID=Europe/Helsinki:20170804T210000
END:VEVENT
BEGIN:VEVENT
UID:69eb97f712bab
DTSTAMP:20260424T161903Z
SUMMARY:PattU - KaMa
LOCATION:Rännärintie\, 92140 Raahe
DTSTART;TZID=Europe/Helsinki:20170811T180000
DTEND;TZID=Europe/Helsinki:20170811T210000
END:VEVENT
BEGIN:VEVENT
UID:69eb97f712bc3
DTSTAMP:20260424T161903Z
SUMMARY:PattU - IPV
LOCATION:Rännärintie\, 92140 Raahe
DTSTART;TZID=Europe/Helsinki:20170817T173000
DTEND;TZID=Europe/Helsinki:20170817T203000
END:VEVENT
END:VCALENDAR