BEGIN:VCALENDAR
VERSION:2.0
PRODID:spatie/icalendar-generator
NAME:Pesä Ysit Punainen\, Lappeenranta ottelukalenteri
X-WR-CALNAME:Pesä Ysit Punainen\, Lappeenranta ottelukalenteri
BEGIN:VTIMEZONE
TZID:Europe/Helsinki
BEGIN:STANDARD
DTSTART:20241027T040000
TZOFFSETFROM:+0300
TZOFFSETTO:+0200
END:STANDARD
BEGIN:DAYLIGHT
DTSTART:20250330T020000
TZOFFSETFROM:+0200
TZOFFSETTO:+0300
END:DAYLIGHT
BEGIN:STANDARD
DTSTART:20251026T040000
TZOFFSETFROM:+0300
TZOFFSETTO:+0200
END:STANDARD
END:VTIMEZONE
BEGIN:VTIMEZONE
TZID:UTC
BEGIN:STANDARD
DTSTART:20250726T183240
TZOFFSETFROM:+0000
TZOFFSETTO:+0000
END:STANDARD
END:VTIMEZONE
BEGIN:VEVENT
UID:69e914483ab18
DTSTAMP:20260422T183240Z
SUMMARY:Ysit Punainen - Ysit Musta
LOCATION:Puhakankatu 4\, 53600 Lappeenranta
DTSTART;TZID=Europe/Helsinki:20250520T170000
DTEND;TZID=Europe/Helsinki:20250520T200000
END:VEVENT
BEGIN:VEVENT
UID:69e914483ab61
DTSTAMP:20260422T183240Z
SUMMARY:Ysit Punainen - HP
LOCATION:Puhakankatu 4\, 53600 Lappeenranta
DTSTART;TZID=Europe/Helsinki:20250608T120000
DTEND;TZID=Europe/Helsinki:20250608T150000
END:VEVENT
BEGIN:VEVENT
UID:69e914483ab84
DTSTAMP:20260422T183240Z
SUMMARY:Ysit Punainen - Lah-Ja
LOCATION:Puhakankatu 4\, 53600 Lappeenranta
DTSTART;TZID=Europe/Helsinki:20250608T150000
DTEND;TZID=Europe/Helsinki:20250608T180000
END:VEVENT
BEGIN:VEVENT
UID:69e914483aba0
DTSTAMP:20260422T183240Z
SUMMARY:Ysit Punainen - Tahko FT
LOCATION:Tarinakatu 4\, 15140 Lahti
DTSTART;TZID=Europe/Helsinki:20250802T110000
DTEND;TZID=Europe/Helsinki:20250802T140000
END:VEVENT
BEGIN:VEVENT
UID:69e914483abbb
DTSTAMP:20260422T183240Z
SUMMARY:Ysit Punainen - HP
LOCATION:Tarinakatu 4\, 15140 Lahti
DTSTART;TZID=Europe/Helsinki:20250802T140000
DTEND;TZID=Europe/Helsinki:20250802T170000
END:VEVENT
BEGIN:VEVENT
UID:69e914483abdc
DTSTAMP:20260422T183240Z
SUMMARY:Ysit Punainen - Puhti
LOCATION:Leirikatu 25\, 53600 Lappeenranta
DTSTART;TZID=Europe/Helsinki:20250809T103000
DTEND;TZID=Europe/Helsinki:20250809T133000
END:VEVENT
BEGIN:VEVENT
UID:69e914483abff
DTSTAMP:20260422T183240Z
SUMMARY:Ysit Punainen - Puhti
LOCATION:Hiekkamäentie 1\, 45700 Kouvola
DTSTART;TZID=Europe/Helsinki:20250816T113000
DTEND;TZID=Europe/Helsinki:20250816T143000
END:VEVENT
BEGIN:VEVENT
UID:69e914483ac27
DTSTAMP:20260422T183240Z
SUMMARY:Ysit Punainen - Roihu
LOCATION:Ruissalontie 12\, 49410 Hamina
DTSTART;TZID=Europe/Helsinki:20250831T113000
DTEND;TZID=Europe/Helsinki:20250831T143000
END:VEVENT
END:VCALENDAR