BEGIN:VCALENDAR
VERSION:2.0
PRODID:spatie/icalendar-generator
NAME:Pesä Ysit Musta\, Lappeenranta ottelukalenteri
X-WR-CALNAME:Pesä Ysit Musta\, Lappeenranta ottelukalenteri
BEGIN:VTIMEZONE
TZID:Europe/Helsinki
BEGIN:STANDARD
DTSTART:20241027T040000
TZOFFSETFROM:+0300
TZOFFSETTO:+0200
END:STANDARD
BEGIN:DAYLIGHT
DTSTART:20250330T020000
TZOFFSETFROM:+0200
TZOFFSETTO:+0300
END:DAYLIGHT
BEGIN:STANDARD
DTSTART:20251026T040000
TZOFFSETFROM:+0300
TZOFFSETTO:+0200
END:STANDARD
END:VTIMEZONE
BEGIN:VTIMEZONE
TZID:UTC
BEGIN:STANDARD
DTSTART:20250726T183320
TZOFFSETFROM:+0000
TZOFFSETTO:+0000
END:STANDARD
END:VTIMEZONE
BEGIN:VEVENT
UID:69e9147098205
DTSTAMP:20260422T183320Z
SUMMARY:Ysit Punainen - Ysit Musta
LOCATION:Puhakankatu 4\, 53600 Lappeenranta
DTSTART;TZID=Europe/Helsinki:20250520T170000
DTEND;TZID=Europe/Helsinki:20250520T200000
END:VEVENT
BEGIN:VEVENT
UID:69e9147098262
DTSTAMP:20260422T183320Z
SUMMARY:Puhti - Ysit Musta
LOCATION:Hiekkamäentie 1\, 45700 Kouvola
DTSTART;TZID=Europe/Helsinki:20250524T110000
DTEND;TZID=Europe/Helsinki:20250524T140000
END:VEVENT
BEGIN:VEVENT
UID:69e914709828e
DTSTAMP:20260422T183320Z
SUMMARY:Tahko FT - Ysit Musta
LOCATION:Hiekkamäentie 1\, 45700 Kouvola
DTSTART;TZID=Europe/Helsinki:20250524T123000
DTEND;TZID=Europe/Helsinki:20250524T153000
END:VEVENT
BEGIN:VEVENT
UID:69e91470982b6
DTSTAMP:20260422T183320Z
SUMMARY:Ysit Musta - HP
LOCATION:Puhakankatu 4\, 53600 Lappeenranta
DTSTART;TZID=Europe/Helsinki:20250608T103000
DTEND;TZID=Europe/Helsinki:20250608T133000
END:VEVENT
BEGIN:VEVENT
UID:69e91470982dd
DTSTAMP:20260422T183320Z
SUMMARY:Ysit Musta - Lah-Ja
LOCATION:Puhakankatu 4\, 53600 Lappeenranta
DTSTART;TZID=Europe/Helsinki:20250608T133000
DTEND;TZID=Europe/Helsinki:20250608T163000
END:VEVENT
BEGIN:VEVENT
UID:69e9147098302
DTSTAMP:20260422T183320Z
SUMMARY:EsPe - Ysit Musta
LOCATION:Sepänniemenkuja 10\, 15320 Lahti
DTSTART;TZID=Europe/Helsinki:20250628T110000
DTEND;TZID=Europe/Helsinki:20250628T140000
END:VEVENT
BEGIN:VEVENT
UID:69e9147098327
DTSTAMP:20260422T183320Z
SUMMARY:Lah-Ja - Ysit Musta
DTSTART;TZID=Europe/Helsinki:20250628T140000
DTEND;TZID=Europe/Helsinki:20250628T170000
END:VEVENT
BEGIN:VEVENT
UID:69e9147098348
DTSTAMP:20260422T183320Z
SUMMARY:Ysit Musta - Ysit Punainen
LOCATION:Puhakankatu 4\, 53600 Lappeenranta
DTSTART;TZID=Europe/Helsinki:20250729T170000
DTEND;TZID=Europe/Helsinki:20250729T200000
END:VEVENT
BEGIN:VEVENT
UID:69e914709836c
DTSTAMP:20260422T183320Z
SUMMARY:Lah-Ja - Ysit Musta
DTSTART;TZID=Europe/Helsinki:20250802T110000
DTEND;TZID=Europe/Helsinki:20250802T140000
END:VEVENT
BEGIN:VEVENT
UID:69e914709838d
DTSTAMP:20260422T183320Z
SUMMARY:Ysit Musta - Tahko FT
LOCATION:Tarinakatu 4\, 15140 Lahti
DTSTART;TZID=Europe/Helsinki:20250802T123000
DTEND;TZID=Europe/Helsinki:20250802T153000
END:VEVENT
BEGIN:VEVENT
UID:69e91470983b1
DTSTAMP:20260422T183320Z
SUMMARY:Ysit Musta - Puhti
LOCATION:Leirikatu 25\, 53600 Lappeenranta
DTSTART;TZID=Europe/Helsinki:20250809T120000
DTEND;TZID=Europe/Helsinki:20250809T150000
END:VEVENT
BEGIN:VEVENT
UID:69e91470983d5
DTSTAMP:20260422T183320Z
SUMMARY:Roihu - Ysit Musta
LOCATION:Hiekkamäentie 1\, 45700 Kouvola
DTSTART;TZID=Europe/Helsinki:20250816T113000
DTEND;TZID=Europe/Helsinki:20250816T143000
END:VEVENT
BEGIN:VEVENT
UID:69e91470983f8
DTSTAMP:20260422T183320Z
SUMMARY:Ysit Musta - Puhti
LOCATION:Hiekkamäentie 1\, 45700 Kouvola
DTSTART;TZID=Europe/Helsinki:20250816T130000
DTEND;TZID=Europe/Helsinki:20250816T160000
END:VEVENT
BEGIN:VEVENT
UID:69e914709841b
DTSTAMP:20260422T183320Z
SUMMARY:Ysit Musta - Roihu
LOCATION:Ruissalontie 12\, 49410 Hamina
DTSTART;TZID=Europe/Helsinki:20250831T100000
DTEND;TZID=Europe/Helsinki:20250831T130000
END:VEVENT
BEGIN:VEVENT
UID:69e914709843f
DTSTAMP:20260422T183320Z
SUMMARY:HP - Ysit Musta
LOCATION:Ruissalontie 12\, 49410 Hamina
DTSTART;TZID=Europe/Helsinki:20250831T113000
DTEND;TZID=Europe/Helsinki:20250831T143000
END:VEVENT
END:VCALENDAR