BEGIN:VCALENDAR
VERSION:2.0
PRODID:spatie/icalendar-generator
NAME:Pesäkarhut-Akatemia ottelukalenteri
X-WR-CALNAME:Pesäkarhut-Akatemia ottelukalenteri
BEGIN:VTIMEZONE
TZID:Europe/Helsinki
BEGIN:STANDARD
DTSTART:20231029T040000
TZOFFSETFROM:+0300
TZOFFSETTO:+0200
END:STANDARD
BEGIN:DAYLIGHT
DTSTART:20240331T020000
TZOFFSETFROM:+0200
TZOFFSETTO:+0300
END:DAYLIGHT
BEGIN:STANDARD
DTSTART:20241027T040000
TZOFFSETFROM:+0300
TZOFFSETTO:+0200
END:STANDARD
END:VTIMEZONE
BEGIN:VTIMEZONE
TZID:UTC
BEGIN:STANDARD
DTSTART:20250725T181230
TZOFFSETFROM:+0000
TZOFFSETTO:+0000
END:STANDARD
END:VTIMEZONE
BEGIN:VEVENT
UID:69e7be0e9a0cd
DTSTAMP:20260421T181230Z
SUMMARY:Pesäkarhut-Akatemia - PirPi
LOCATION:Metsämiehenkatu 19\, 28500 Pori
DTSTART;TZID=Europe/Helsinki:20240509T180000
DTEND;TZID=Europe/Helsinki:20240509T210000
END:VEVENT
BEGIN:VEVENT
UID:69e7be0e9a137
DTSTAMP:20260421T181230Z
SUMMARY:Pesäkarhut-Akatemia - Fera
LOCATION:Metsämiehenkatu 19\, 28500 Pori
DTSTART;TZID=Europe/Helsinki:20240515T180000
DTEND;TZID=Europe/Helsinki:20240515T210000
END:VEVENT
BEGIN:VEVENT
UID:69e7be0e9a166
DTSTAMP:20260421T181230Z
SUMMARY:Pesäkarhut-Akatemia - Manse PP
LOCATION:Metsämiehenkatu 19\, 28500 Pori
DTSTART;TZID=Europe/Helsinki:20240525T160000
DTEND;TZID=Europe/Helsinki:20240525T190000
END:VEVENT
BEGIN:VEVENT
UID:69e7be0e9a18f
DTSTAMP:20260421T181230Z
SUMMARY:Pesäkarhut-Akatemia - RuoPi
LOCATION:Metsämiehenkatu 19\, 28500 Pori
DTSTART;TZID=Europe/Helsinki:20240609T160000
DTEND;TZID=Europe/Helsinki:20240609T190000
END:VEVENT
BEGIN:VEVENT
UID:69e7be0e9a1b8
DTSTAMP:20260421T181230Z
SUMMARY:Pesäkarhut-Akatemia - MyVe
LOCATION:Metsämiehenkatu 19\, 28500 Pori
DTSTART;TZID=Europe/Helsinki:20240616T160000
DTEND;TZID=Europe/Helsinki:20240616T190000
END:VEVENT
BEGIN:VEVENT
UID:69e7be0e9a1de
DTSTAMP:20260421T181230Z
SUMMARY:Pesäkarhut-Akatemia - KK-V
LOCATION:Karhuhallinpolku 1\, 28500 Pori
DTSTART;TZID=Europe/Helsinki:20240624T180000
DTEND;TZID=Europe/Helsinki:20240624T210000
END:VEVENT
BEGIN:VEVENT
UID:69e7be0e9a213
DTSTAMP:20260421T181230Z
SUMMARY:Pesäkarhut-Akatemia - Majuttaret
LOCATION:Metsämiehenkatu 19\, 28500 Pori
DTSTART;TZID=Europe/Helsinki:20240710T180000
DTEND;TZID=Europe/Helsinki:20240710T210000
END:VEVENT
BEGIN:VEVENT
UID:69e7be0e9a241
DTSTAMP:20260421T181230Z
SUMMARY:Pesäkarhut-Akatemia - LaJy
LOCATION:Metsämiehenkatu 19\, 28500 Pori
DTSTART;TZID=Europe/Helsinki:20240729T180000
DTEND;TZID=Europe/Helsinki:20240729T210000
END:VEVENT
END:VCALENDAR