BEGIN:VCALENDAR
VERSION:2.0
PRODID:spatie/icalendar-generator
NAME:Alajärven Ankkurit ottelukalenteri
X-WR-CALNAME:Alajärven Ankkurit ottelukalenteri
BEGIN:VTIMEZONE
TZID:Europe/Helsinki
BEGIN:STANDARD
DTSTART:20181028T040000
TZOFFSETFROM:+0300
TZOFFSETTO:+0200
END:STANDARD
BEGIN:DAYLIGHT
DTSTART:20190331T020000
TZOFFSETFROM:+0200
TZOFFSETTO:+0300
END:DAYLIGHT
BEGIN:STANDARD
DTSTART:20191027T040000
TZOFFSETFROM:+0300
TZOFFSETTO:+0200
END:STANDARD
END:VTIMEZONE
BEGIN:VTIMEZONE
TZID:UTC
BEGIN:STANDARD
DTSTART:20250723T145551
TZOFFSETFROM:+0000
TZOFFSETTO:+0000
END:STANDARD
END:VTIMEZONE
BEGIN:VEVENT
UID:69e4ecf75aed2
DTSTAMP:20260419T145551Z
SUMMARY:AA - KPL
DTSTART;TZID=Europe/Helsinki:20190514T180000
DTEND;TZID=Europe/Helsinki:20190514T210000
END:VEVENT
BEGIN:VEVENT
UID:69e4ecf75af31
DTSTAMP:20260419T145551Z
SUMMARY:AA - SMJ
DTSTART;TZID=Europe/Helsinki:20190520T180000
DTEND;TZID=Europe/Helsinki:20190520T210000
END:VEVENT
BEGIN:VEVENT
UID:69e4ecf75af5d
DTSTAMP:20260419T145551Z
SUMMARY:AA - Tahko
DTSTART;TZID=Europe/Helsinki:20190610T180000
DTEND;TZID=Europe/Helsinki:20190610T210000
END:VEVENT
BEGIN:VEVENT
UID:69e4ecf75af85
DTSTAMP:20260419T145551Z
SUMMARY:AA - ViVe
DTSTART;TZID=Europe/Helsinki:20190617T180000
DTEND;TZID=Europe/Helsinki:20190617T210000
END:VEVENT
BEGIN:VEVENT
UID:69e4ecf75afab
DTSTAMP:20260419T145551Z
SUMMARY:AA - KaMa
DTSTART;TZID=Europe/Helsinki:20190715T180000
DTEND;TZID=Europe/Helsinki:20190715T210000
END:VEVENT
END:VCALENDAR