BEGIN:VCALENDAR
VERSION:2.0
PRODID:spatie/icalendar-generator
NAME:Pöytyän Urheilijat ottelukalenteri
X-WR-CALNAME:Pöytyän Urheilijat ottelukalenteri
BEGIN:VTIMEZONE
TZID:Europe/Helsinki
BEGIN:STANDARD
DTSTART:20231029T040000
TZOFFSETFROM:+0300
TZOFFSETTO:+0200
END:STANDARD
BEGIN:DAYLIGHT
DTSTART:20240331T020000
TZOFFSETFROM:+0200
TZOFFSETTO:+0300
END:DAYLIGHT
BEGIN:STANDARD
DTSTART:20241027T040000
TZOFFSETFROM:+0300
TZOFFSETTO:+0200
END:STANDARD
END:VTIMEZONE
BEGIN:VTIMEZONE
TZID:UTC
BEGIN:STANDARD
DTSTART:20250728T184448
TZOFFSETFROM:+0000
TZOFFSETTO:+0000
END:STANDARD
END:VTIMEZONE
BEGIN:VEVENT
UID:69ebba206ec06
DTSTAMP:20260424T184448Z
SUMMARY:PöU - Manse
LOCATION:Urheilutie 1\, 28500 Pori
DTSTART;TZID=Europe/Helsinki:20240204T150000
DTEND;TZID=Europe/Helsinki:20240204T180000
END:VEVENT
BEGIN:VEVENT
UID:69ebba206ec53
DTSTAMP:20260424T184448Z
SUMMARY:PöU - Roihuttaret
LOCATION:Ilmailunkatu 20\, 33900 Tampere
DTSTART;TZID=Europe/Helsinki:20240303T110000
DTEND;TZID=Europe/Helsinki:20240303T140000
END:VEVENT
BEGIN:VEVENT
UID:69ebba206ec96
DTSTAMP:20260424T184448Z
SUMMARY:PöU - HP
LOCATION:Urheilukentäntie 3\, 21820 Kumila
DTSTART;TZID=Europe/Helsinki:20240515T180000
DTEND;TZID=Europe/Helsinki:20240515T210000
END:VEVENT
BEGIN:VEVENT
UID:69ebba206ecdf
DTSTAMP:20260424T184448Z
SUMMARY:PöU - Kirittäret
LOCATION:Urheilukentäntie 3\, 21820 Kumila
DTSTART;TZID=Europe/Helsinki:20240524T180000
DTEND;TZID=Europe/Helsinki:20240524T210000
END:VEVENT
BEGIN:VEVENT
UID:69ebba206ed2a
DTSTAMP:20260424T184448Z
SUMMARY:PöU - Manse
LOCATION:Urheilukentäntie 3\, 21820 Kumila
DTSTART;TZID=Europe/Helsinki:20240531T180000
DTEND;TZID=Europe/Helsinki:20240531T210000
END:VEVENT
BEGIN:VEVENT
UID:69ebba206ed5c
DTSTAMP:20260424T184448Z
SUMMARY:PöU - Mailattaret
LOCATION:Urheilukentäntie 3\, 21820 Kumila
DTSTART;TZID=Europe/Helsinki:20240608T160000
DTEND;TZID=Europe/Helsinki:20240608T190000
END:VEVENT
BEGIN:VEVENT
UID:69ebba206ed80
DTSTAMP:20260424T184448Z
SUMMARY:PöU - Pesäkarhut
LOCATION:Urheilukentäntie 3\, 21820 Kumila
DTSTART;TZID=Europe/Helsinki:20240616T160000
DTEND;TZID=Europe/Helsinki:20240616T190000
END:VEVENT
BEGIN:VEVENT
UID:69ebba206ed9b
DTSTAMP:20260424T184448Z
SUMMARY:PöU - Roihuttaret
LOCATION:Urheilukentäntie 3\, 21820 Kumila
DTSTART;TZID=Europe/Helsinki:20240627T180000
DTEND;TZID=Europe/Helsinki:20240627T210000
END:VEVENT
BEGIN:VEVENT
UID:69ebba206edb4
DTSTAMP:20260424T184448Z
SUMMARY:PöU - JoMa
LOCATION:Urheilukentäntie 3\, 21820 Kumila
DTSTART;TZID=Europe/Helsinki:20240702T180000
DTEND;TZID=Europe/Helsinki:20240702T210000
END:VEVENT
BEGIN:VEVENT
UID:69ebba206edd5
DTSTAMP:20260424T184448Z
SUMMARY:PöU - Virkiä
LOCATION:Urheilukentäntie 3\, 21820 Kumila
DTSTART;TZID=Europe/Helsinki:20240709T180000
DTEND;TZID=Europe/Helsinki:20240709T210000
END:VEVENT
BEGIN:VEVENT
UID:69ebba206edf7
DTSTAMP:20260424T184448Z
SUMMARY:PöU - Tahko
LOCATION:Urheilukentäntie 3\, 21820 Kumila
DTSTART;TZID=Europe/Helsinki:20240714T160000
DTEND;TZID=Europe/Helsinki:20240714T190000
END:VEVENT
BEGIN:VEVENT
UID:69ebba206ee1e
DTSTAMP:20260424T184448Z
SUMMARY:PöU - SMJ
LOCATION:Urheilukentäntie 3\, 21820 Kumila
DTSTART;TZID=Europe/Helsinki:20240725T180000
DTEND;TZID=Europe/Helsinki:20240725T210000
END:VEVENT
BEGIN:VEVENT
UID:69ebba206ee3c
DTSTAMP:20260424T184448Z
SUMMARY:PöU - Fera
LOCATION:Urheilukentäntie 3\, 21820 Kumila
DTSTART;TZID=Europe/Helsinki:20240730T180000
DTEND;TZID=Europe/Helsinki:20240730T210000
END:VEVENT
BEGIN:VEVENT
UID:69ebba206ee56
DTSTAMP:20260424T184448Z
SUMMARY:PöU - Roihuttaret
LOCATION:Urheilukentäntie 3\, 21820 Kumila
DTSTART;TZID=Europe/Helsinki:20240803T160000
DTEND;TZID=Europe/Helsinki:20240803T190000
END:VEVENT
BEGIN:VEVENT
UID:69ebba206ee72
DTSTAMP:20260424T184448Z
SUMMARY:PöU - HP
LOCATION:Urheilukentäntie 3\, 21820 Kumila
DTSTART;TZID=Europe/Helsinki:20240809T180000
DTEND;TZID=Europe/Helsinki:20240809T210000
END:VEVENT
BEGIN:VEVENT
UID:69ebba206eea0
DTSTAMP:20260424T184448Z
SUMMARY:PöU - HP
LOCATION:Urheilukentäntie 3\, 21820 Kumila
DTSTART;TZID=Europe/Helsinki:20240817T160000
DTEND;TZID=Europe/Helsinki:20240817T190000
END:VEVENT
BEGIN:VEVENT
UID:69ebba206eec9
DTSTAMP:20260424T184448Z
SUMMARY:PöU - HP
LOCATION:Urheilukentäntie 3\, 21820 Kumila
DTSTART;TZID=Europe/Helsinki:20240824T170000
DTEND;TZID=Europe/Helsinki:20240824T200000
END:VEVENT
BEGIN:VEVENT
UID:69ebba206eef3
DTSTAMP:20260424T184448Z
SUMMARY:PöU - Lippo
LOCATION:Urheilukentäntie 3\, 21820 Kumila
DTSTART;TZID=Europe/Helsinki:20240831T160000
DTEND;TZID=Europe/Helsinki:20240831T190000
END:VEVENT
BEGIN:VEVENT
UID:69ebba206ef1c
DTSTAMP:20260424T184448Z
SUMMARY:PöU - Lippo
LOCATION:Urheilukentäntie 3\, 21820 Kumila
DTSTART;TZID=Europe/Helsinki:20240907T150000
DTEND;TZID=Europe/Helsinki:20240907T180000
END:VEVENT
BEGIN:VEVENT
UID:69ebba206ef4a
DTSTAMP:20260424T184448Z
SUMMARY:PöU - Lippo
LOCATION:Urheilukentäntie 3\, 21820 Kumila
DTSTART;TZID=Europe/Helsinki:20240914T160000
DTEND;TZID=Europe/Helsinki:20240914T190000
END:VEVENT
END:VCALENDAR