BEGIN:VCALENDAR
VERSION:2.0
PRODID:spatie/icalendar-generator
NAME:Pöytyän Urheilijat ottelukalenteri
X-WR-CALNAME:Pöytyän Urheilijat ottelukalenteri
BEGIN:VTIMEZONE
TZID:Europe/Helsinki
BEGIN:STANDARD
DTSTART:20241027T040000
TZOFFSETFROM:+0300
TZOFFSETTO:+0200
END:STANDARD
BEGIN:DAYLIGHT
DTSTART:20250330T020000
TZOFFSETFROM:+0200
TZOFFSETTO:+0300
END:DAYLIGHT
BEGIN:STANDARD
DTSTART:20251026T040000
TZOFFSETFROM:+0300
TZOFFSETTO:+0200
END:STANDARD
END:VTIMEZONE
BEGIN:VTIMEZONE
TZID:UTC
BEGIN:STANDARD
DTSTART:20250726T133708
TZOFFSETFROM:+0000
TZOFFSETTO:+0000
END:STANDARD
END:VTIMEZONE
BEGIN:VEVENT
UID:69e8cf0418e40
DTSTAMP:20260422T133708Z
SUMMARY:PöU - Pesäkarhut
LOCATION:Ilmailunkatu 20\, 33900 Tampere
DTSTART;TZID=Europe/Helsinki:20250208T180000
DTEND;TZID=Europe/Helsinki:20250208T210000
END:VEVENT
BEGIN:VEVENT
UID:69e8cf0418ea4
DTSTAMP:20260422T133708Z
SUMMARY:PöU - Manse
LOCATION:Urheilutie 1\, 28500 Pori
DTSTART;TZID=Europe/Helsinki:20250216T120000
DTEND;TZID=Europe/Helsinki:20250216T150000
END:VEVENT
BEGIN:VEVENT
UID:69e8cf0418ee2
DTSTAMP:20260422T133708Z
SUMMARY:Fera - PöU
LOCATION:Teollisuuskatu 19\, 26100 Rauma
DTSTART;TZID=Europe/Helsinki:20250301T190000
DTEND;TZID=Europe/Helsinki:20250301T220000
END:VEVENT
BEGIN:VEVENT
UID:69e8cf0418f0d
DTSTAMP:20260422T133708Z
SUMMARY:PöU - Jyske
LOCATION:Urheilutie 1\, 28500 Pori
DTSTART;TZID=Europe/Helsinki:20250315T120000
DTEND;TZID=Europe/Helsinki:20250315T150000
END:VEVENT
BEGIN:VEVENT
UID:69e8cf0418f36
DTSTAMP:20260422T133708Z
SUMMARY:Roihuttaret - PöU
LOCATION:Urheilutie 1\, 28500 Pori
DTSTART;TZID=Europe/Helsinki:20250316T180000
DTEND;TZID=Europe/Helsinki:20250316T210000
END:VEVENT
BEGIN:VEVENT
UID:69e8cf0418f5d
DTSTAMP:20260422T133708Z
SUMMARY:PöU - Fera
LOCATION:Calle Miguel Bueno\, S/N\, 29640 Fuengirola (Málaga)\, España
DTSTART;TZID=Europe/Helsinki:20250426T150000
DTEND;TZID=Europe/Helsinki:20250426T180000
END:VEVENT
BEGIN:VEVENT
UID:69e8cf0418f84
DTSTAMP:20260422T133708Z
SUMMARY:PöU - Jyske
LOCATION:Urheilukentäntie 3\, 21820 Kumila
DTSTART;TZID=Europe/Helsinki:20250507T180000
DTEND;TZID=Europe/Helsinki:20250507T210000
END:VEVENT
BEGIN:VEVENT
UID:69e8cf0418faa
DTSTAMP:20260422T133708Z
SUMMARY:Virkiä - PöU
LOCATION:Urheilukatu 1\, 62100 Lapua
DTSTART;TZID=Europe/Helsinki:20250509T180000
DTEND;TZID=Europe/Helsinki:20250509T210000
END:VEVENT
BEGIN:VEVENT
UID:69e8cf0418fd1
DTSTAMP:20260422T133708Z
SUMMARY:Jussittaret - PöU
LOCATION:Urheilupuisto 12\, 60100 Seinäjoki
DTSTART;TZID=Europe/Helsinki:20250513T180000
DTEND;TZID=Europe/Helsinki:20250513T210000
END:VEVENT
BEGIN:VEVENT
UID:69e8cf0418ff7
DTSTAMP:20260422T133708Z
SUMMARY:PöU - Kirittäret
LOCATION:Urheilukentäntie 3\, 21820 Kumila
DTSTART;TZID=Europe/Helsinki:20250521T180000
DTEND;TZID=Europe/Helsinki:20250521T210000
END:VEVENT
BEGIN:VEVENT
UID:69e8cf041902b
DTSTAMP:20260422T133708Z
SUMMARY:Manse - PöU
LOCATION:Kuntokatu 5\, 33520 Tampere
DTSTART;TZID=Europe/Helsinki:20250524T170000
DTEND;TZID=Europe/Helsinki:20250524T200000
END:VEVENT
BEGIN:VEVENT
UID:69e8cf0419050
DTSTAMP:20260422T133708Z
SUMMARY:PöU - Pesäkarhut
LOCATION:Urheilukentäntie 3\, 21820 Kumila
DTSTART;TZID=Europe/Helsinki:20250530T180000
DTEND;TZID=Europe/Helsinki:20250530T210000
END:VEVENT
BEGIN:VEVENT
UID:69e8cf0419079
DTSTAMP:20260422T133708Z
SUMMARY:PöU - Jussittaret
LOCATION:Urheilukentäntie 3\, 21820 Kumila
DTSTART;TZID=Europe/Helsinki:20250603T180000
DTEND;TZID=Europe/Helsinki:20250603T210000
END:VEVENT
BEGIN:VEVENT
UID:69e8cf04190b0
DTSTAMP:20260422T133708Z
SUMMARY:Mailattaret - PöU
LOCATION:Sanmarkinkatu\, 65100 Vaasa
DTSTART;TZID=Europe/Helsinki:20250605T180000
DTEND;TZID=Europe/Helsinki:20250605T210000
END:VEVENT
BEGIN:VEVENT
UID:69e8cf04190d6
DTSTAMP:20260422T133708Z
SUMMARY:PöU - Mailattaret
LOCATION:Urheilukentäntie 3\, 21820 Kumila
DTSTART;TZID=Europe/Helsinki:20250607T180000
DTEND;TZID=Europe/Helsinki:20250607T210000
END:VEVENT
BEGIN:VEVENT
UID:69e8cf0419100
DTSTAMP:20260422T133708Z
SUMMARY:PöU - JoMa
LOCATION:Urheilukentäntie 3\, 21820 Kumila
DTSTART;TZID=Europe/Helsinki:20250610T180000
DTEND;TZID=Europe/Helsinki:20250610T210000
END:VEVENT
BEGIN:VEVENT
UID:69e8cf0419126
DTSTAMP:20260422T133708Z
SUMMARY:Tahko - PöU
LOCATION:Hj. Elomaan katu 6\, 11130 Riihimäki
DTSTART;TZID=Europe/Helsinki:20250614T150000
DTEND;TZID=Europe/Helsinki:20250614T180000
END:VEVENT
BEGIN:VEVENT
UID:69e8cf041914a
DTSTAMP:20260422T133708Z
SUMMARY:PöU - Jyske
LOCATION:Urheilukentäntie 3\, 21820 Kumila
DTSTART;TZID=Europe/Helsinki:20250618T180000
DTEND;TZID=Europe/Helsinki:20250618T210000
END:VEVENT
BEGIN:VEVENT
UID:69e8cf041916d
DTSTAMP:20260422T133708Z
SUMMARY:PöU - Tahko
LOCATION:Urheilukentäntie 3\, 21820 Kumila
DTSTART;TZID=Europe/Helsinki:20250624T180000
DTEND;TZID=Europe/Helsinki:20250624T210000
END:VEVENT
BEGIN:VEVENT
UID:69e8cf0419192
DTSTAMP:20260422T133708Z
SUMMARY:Fera - PöU
LOCATION:Urheilukatu 23\, 26100 Rauma
DTSTART;TZID=Europe/Helsinki:20250629T170000
DTEND;TZID=Europe/Helsinki:20250629T200000
END:VEVENT
BEGIN:VEVENT
UID:69e8cf04191b6
DTSTAMP:20260422T133708Z
SUMMARY:PöU - Manse
LOCATION:Urheilukentäntie 3\, 21820 Kumila
DTSTART;TZID=Europe/Helsinki:20250706T170000
DTEND;TZID=Europe/Helsinki:20250706T200000
END:VEVENT
BEGIN:VEVENT
UID:69e8cf04191da
DTSTAMP:20260422T133708Z
SUMMARY:Roihuttaret - PöU
LOCATION:Satumaanpolku 4\, 00820 Helsinki
DTSTART;TZID=Europe/Helsinki:20250708T180000
DTEND;TZID=Europe/Helsinki:20250708T210000
END:VEVENT
BEGIN:VEVENT
UID:69e8cf04191ff
DTSTAMP:20260422T133708Z
SUMMARY:PöU - Virkiä
LOCATION:Urheilukentäntie 3\, 21820 Kumila
DTSTART;TZID=Europe/Helsinki:20250711T180000
DTEND;TZID=Europe/Helsinki:20250711T210000
END:VEVENT
BEGIN:VEVENT
UID:69e8cf0419227
DTSTAMP:20260422T133708Z
SUMMARY:Jyske - PöU
LOCATION:Urheilutie 11\, 23800 Laitila
DTSTART;TZID=Europe/Helsinki:20250713T170000
DTEND;TZID=Europe/Helsinki:20250713T200000
END:VEVENT
BEGIN:VEVENT
UID:69e8cf041924c
DTSTAMP:20260422T133708Z
SUMMARY:Kirittäret - PöU
LOCATION:Rautpohjankatu 6\, 40700 Jyväskylä
DTSTART;TZID=Europe/Helsinki:20250715T180000
DTEND;TZID=Europe/Helsinki:20250715T210000
END:VEVENT
BEGIN:VEVENT
UID:69e8cf0419270
DTSTAMP:20260422T133708Z
SUMMARY:Pesäkarhut - PöU
LOCATION:Metsämiehenkatu 19\, 28500 Pori
DTSTART;TZID=Europe/Helsinki:20250724T180000
DTEND;TZID=Europe/Helsinki:20250724T210000
END:VEVENT
BEGIN:VEVENT
UID:69e8cf0419295
DTSTAMP:20260422T133708Z
SUMMARY:JoMa - PöU
LOCATION:Uimarintie 3\, 80110 Joensuu
DTSTART;TZID=Europe/Helsinki:20250727T170000
DTEND;TZID=Europe/Helsinki:20250727T200000
END:VEVENT
BEGIN:VEVENT
UID:69e8cf04192c8
DTSTAMP:20260422T133708Z
SUMMARY:PöU - Roihuttaret
LOCATION:Urheilukentäntie 3\, 21820 Kumila
DTSTART;TZID=Europe/Helsinki:20250801T180000
DTEND;TZID=Europe/Helsinki:20250801T210000
END:VEVENT
BEGIN:VEVENT
UID:69e8cf04192ed
DTSTAMP:20260422T133708Z
SUMMARY:Jyske - PöU
LOCATION:Urheilutie 11\, 23800 Laitila
DTSTART;TZID=Europe/Helsinki:20250803T170000
DTEND;TZID=Europe/Helsinki:20250803T200000
END:VEVENT
BEGIN:VEVENT
UID:69e8cf0419313
DTSTAMP:20260422T133708Z
SUMMARY:Roihuttaret - PöU
LOCATION:Satumaanpolku 4\, 00820 Helsinki
DTSTART;TZID=Europe/Helsinki:20250805T180000
DTEND;TZID=Europe/Helsinki:20250805T210000
END:VEVENT
BEGIN:VEVENT
UID:69e8cf0419338
DTSTAMP:20260422T133708Z
SUMMARY:PöU - Roihuttaret
LOCATION:Urheilukentäntie 3\, 21820 Kumila
DTSTART;TZID=Europe/Helsinki:20250806T180000
DTEND;TZID=Europe/Helsinki:20250806T210000
END:VEVENT
BEGIN:VEVENT
UID:69e8cf041935c
DTSTAMP:20260422T133708Z
SUMMARY:Roihuttaret - PöU
LOCATION:Satumaanpolku 4\, 00820 Helsinki
DTSTART;TZID=Europe/Helsinki:20250808T180000
DTEND;TZID=Europe/Helsinki:20250808T210000
END:VEVENT
END:VCALENDAR