BEGIN:VCALENDAR
VERSION:2.0
PRODID:spatie/icalendar-generator
NAME:Pöytyän Urheilijat ottelukalenteri
X-WR-CALNAME:Pöytyän Urheilijat ottelukalenteri
BEGIN:VTIMEZONE
TZID:Europe/Helsinki
BEGIN:STANDARD
DTSTART:20241027T040000
TZOFFSETFROM:+0300
TZOFFSETTO:+0200
END:STANDARD
BEGIN:DAYLIGHT
DTSTART:20250330T020000
TZOFFSETFROM:+0200
TZOFFSETTO:+0300
END:DAYLIGHT
BEGIN:STANDARD
DTSTART:20251026T040000
TZOFFSETFROM:+0300
TZOFFSETTO:+0200
END:STANDARD
END:VTIMEZONE
BEGIN:VTIMEZONE
TZID:UTC
BEGIN:STANDARD
DTSTART:20250723T145647
TZOFFSETFROM:+0000
TZOFFSETTO:+0000
END:STANDARD
END:VTIMEZONE
BEGIN:VEVENT
UID:69e4ed2fcec36
DTSTAMP:20260419T145647Z
SUMMARY:PöU - Kumuri
LOCATION:Urheilukentäntie 3\, 21820 Kumila
DTSTART;TZID=Europe/Helsinki:20250510T130000
DTEND;TZID=Europe/Helsinki:20250510T160000
END:VEVENT
BEGIN:VEVENT
UID:69e4ed2fcec98
DTSTAMP:20260419T145647Z
SUMMARY:PöU - HuVe
LOCATION:Urheilukentäntie 3\, 21820 Kumila
DTSTART;TZID=Europe/Helsinki:20250525T160000
DTEND;TZID=Europe/Helsinki:20250525T190000
END:VEVENT
BEGIN:VEVENT
UID:69e4ed2fcecbd
DTSTAMP:20260419T145647Z
SUMMARY:PöU - TuPe
LOCATION:Urheilukentäntie 3\, 21820 Kumila
DTSTART;TZID=Europe/Helsinki:20250608T150000
DTEND;TZID=Europe/Helsinki:20250608T180000
END:VEVENT
BEGIN:VEVENT
UID:69e4ed2fcecda
DTSTAMP:20260419T145647Z
SUMMARY:PöU - LP3
LOCATION:Urheilukentäntie 3\, 21820 Kumila
DTSTART;TZID=Europe/Helsinki:20250630T180000
DTEND;TZID=Europe/Helsinki:20250630T210000
END:VEVENT
BEGIN:VEVENT
UID:69e4ed2fcecf4
DTSTAMP:20260419T145647Z
SUMMARY:PöU - MyVe
LOCATION:Urheilukentäntie 3\, 21820 Kumila
DTSTART;TZID=Europe/Helsinki:20250716T180000
DTEND;TZID=Europe/Helsinki:20250716T210000
END:VEVENT
BEGIN:VEVENT
UID:69e4ed2fced0d
DTSTAMP:20260419T145647Z
SUMMARY:PöU - Manse PP
LOCATION:Urheilukentäntie 3\, 21820 Kumila
DTSTART;TZID=Europe/Helsinki:20250802T160000
DTEND;TZID=Europe/Helsinki:20250802T190000
END:VEVENT
BEGIN:VEVENT
UID:69e4ed2fced26
DTSTAMP:20260419T145647Z
SUMMARY:PöU - JoKo jun
LOCATION:Urheilukentäntie 3\, 21820 Kumila
DTSTART;TZID=Europe/Helsinki:20250905T173000
DTEND;TZID=Europe/Helsinki:20250905T203000
END:VEVENT
END:VCALENDAR