BEGIN:VCALENDAR
VERSION:2.0
PRODID:spatie/icalendar-generator
NAME:Ruoveden Pirkat ottelukalenteri
X-WR-CALNAME:Ruoveden Pirkat ottelukalenteri
BEGIN:VTIMEZONE
TZID:Europe/Helsinki
BEGIN:STANDARD
DTSTART:20231029T040000
TZOFFSETFROM:+0300
TZOFFSETTO:+0200
END:STANDARD
BEGIN:DAYLIGHT
DTSTART:20240331T020000
TZOFFSETFROM:+0200
TZOFFSETTO:+0300
END:DAYLIGHT
BEGIN:STANDARD
DTSTART:20241027T040000
TZOFFSETFROM:+0300
TZOFFSETTO:+0200
END:STANDARD
END:VTIMEZONE
BEGIN:VTIMEZONE
TZID:UTC
BEGIN:STANDARD
DTSTART:20250725T180724
TZOFFSETFROM:+0000
TZOFFSETTO:+0000
END:STANDARD
END:VTIMEZONE
BEGIN:VEVENT
UID:69e7bcdc89635
DTSTAMP:20260421T180724Z
SUMMARY:Roihu - RuoPi
LOCATION:Torpinkatu 3\, 15240 Lahti
DTSTART;TZID=Europe/Helsinki:20240401T123000
DTEND;TZID=Europe/Helsinki:20240401T153000
END:VEVENT
BEGIN:VEVENT
UID:69e7bcdc89681
DTSTAMP:20260421T180724Z
SUMMARY:LMV - RuoPi
LOCATION:Torpinkatu 3\, 15240 Lahti
DTSTART;TZID=Europe/Helsinki:20240401T150000
DTEND;TZID=Europe/Helsinki:20240401T180000
END:VEVENT
BEGIN:VEVENT
UID:69e7bcdc896a4
DTSTAMP:20260421T180724Z
SUMMARY:MyVe - RuoPi
LOCATION:Urheilutie 6\, 23100 Mynämäki
DTSTART;TZID=Europe/Helsinki:20240503T180000
DTEND;TZID=Europe/Helsinki:20240503T210000
END:VEVENT
BEGIN:VEVENT
UID:69e7bcdc896c3
DTSTAMP:20260421T180724Z
SUMMARY:Fera - RuoPi
LOCATION:Urheilukatu 23\, 26100 Rauma
DTSTART;TZID=Europe/Helsinki:20240511T130000
DTEND;TZID=Europe/Helsinki:20240511T160000
END:VEVENT
BEGIN:VEVENT
UID:69e7bcdc896e0
DTSTAMP:20260421T180724Z
SUMMARY:RuoPi - Manse PP
LOCATION:Urheilutie 6\, 34600 Ruovesi
DTSTART;TZID=Europe/Helsinki:20240522T180000
DTEND;TZID=Europe/Helsinki:20240522T210000
END:VEVENT
BEGIN:VEVENT
UID:69e7bcdc896fd
DTSTAMP:20260421T180724Z
SUMMARY:LaJy - RuoPi
LOCATION:Urheilutie 11\, 23800 Laitila
DTSTART;TZID=Europe/Helsinki:20240526T160000
DTEND;TZID=Europe/Helsinki:20240526T190000
END:VEVENT
BEGIN:VEVENT
UID:69e7bcdc89719
DTSTAMP:20260421T180724Z
SUMMARY:RuoPi - PirPi
LOCATION:Urheilutie 6\, 34600 Ruovesi
DTSTART;TZID=Europe/Helsinki:20240531T180000
DTEND;TZID=Europe/Helsinki:20240531T210000
END:VEVENT
BEGIN:VEVENT
UID:69e7bcdc89735
DTSTAMP:20260421T180724Z
SUMMARY:Majuttaret - RuoPi
LOCATION:Jämintie 10\, 38700 Kankaanpää
DTSTART;TZID=Europe/Helsinki:20240605T180000
DTEND;TZID=Europe/Helsinki:20240605T210000
END:VEVENT
BEGIN:VEVENT
UID:69e7bcdc89750
DTSTAMP:20260421T180724Z
SUMMARY:Pesäkarhut-Akatemia - RuoPi
LOCATION:Metsämiehenkatu 19\, 28500 Pori
DTSTART;TZID=Europe/Helsinki:20240609T160000
DTEND;TZID=Europe/Helsinki:20240609T190000
END:VEVENT
BEGIN:VEVENT
UID:69e7bcdc8976b
DTSTAMP:20260421T180724Z
SUMMARY:RuoPi - Majuttaret
LOCATION:Urheilutie 6\, 34600 Ruovesi
DTSTART;TZID=Europe/Helsinki:20240612T180000
DTEND;TZID=Europe/Helsinki:20240612T210000
END:VEVENT
BEGIN:VEVENT
UID:69e7bcdc89786
DTSTAMP:20260421T180724Z
SUMMARY:KK-V - RuoPi
LOCATION:Urheilutie 15\, 32810 Kokemäki
DTSTART;TZID=Europe/Helsinki:20240617T180000
DTEND;TZID=Europe/Helsinki:20240617T210000
END:VEVENT
BEGIN:VEVENT
UID:69e7bcdc897a2
DTSTAMP:20260421T180724Z
SUMMARY:Manse PP - RuoPi
LOCATION:Kuntokatu 5\, 33520 Tampere
DTSTART;TZID=Europe/Helsinki:20240626T180000
DTEND;TZID=Europe/Helsinki:20240626T210000
END:VEVENT
BEGIN:VEVENT
UID:69e7bcdc897bd
DTSTAMP:20260421T180724Z
SUMMARY:RuoPi - Pesäkarhut-Akatemia
LOCATION:Urheilutie 6\, 34600 Ruovesi
DTSTART;TZID=Europe/Helsinki:20240704T180000
DTEND;TZID=Europe/Helsinki:20240704T210000
END:VEVENT
BEGIN:VEVENT
UID:69e7bcdc897d7
DTSTAMP:20260421T180724Z
SUMMARY:RuoPi - LaJy
LOCATION:Urheilutie 6\, 34600 Ruovesi
DTSTART;TZID=Europe/Helsinki:20240713T140000
DTEND;TZID=Europe/Helsinki:20240713T170000
END:VEVENT
BEGIN:VEVENT
UID:69e7bcdc897f0
DTSTAMP:20260421T180724Z
SUMMARY:RuoPi - Fera
LOCATION:Urheilutie 6\, 34600 Ruovesi
DTSTART;TZID=Europe/Helsinki:20240716T180000
DTEND;TZID=Europe/Helsinki:20240716T210000
END:VEVENT
BEGIN:VEVENT
UID:69e7bcdc8980a
DTSTAMP:20260421T180724Z
SUMMARY:PirPi - RuoPi
LOCATION:Kreetantie 2\, 33950 Pirkkala
DTSTART;TZID=Europe/Helsinki:20240718T180000
DTEND;TZID=Europe/Helsinki:20240718T210000
END:VEVENT
BEGIN:VEVENT
UID:69e7bcdc89824
DTSTAMP:20260421T180724Z
SUMMARY:RuoPi - MyVe
LOCATION:Urheilutie 6\, 34600 Ruovesi
DTSTART;TZID=Europe/Helsinki:20240719T180000
DTEND;TZID=Europe/Helsinki:20240719T210000
END:VEVENT
BEGIN:VEVENT
UID:69e7bcdc8983d
DTSTAMP:20260421T180724Z
SUMMARY:RuoPi - KK-V
LOCATION:Urheilutie 6\, 34600 Ruovesi
DTSTART;TZID=Europe/Helsinki:20240803T140000
DTEND;TZID=Europe/Helsinki:20240803T170000
END:VEVENT
BEGIN:VEVENT
UID:69e7bcdc89856
DTSTAMP:20260421T180724Z
SUMMARY:Manse PP - RuoPi
LOCATION:Kuntokatu 5\, 33520 Tampere
DTSTART;TZID=Europe/Helsinki:20240807T180000
DTEND;TZID=Europe/Helsinki:20240807T210000
END:VEVENT
BEGIN:VEVENT
UID:69e7bcdc8986e
DTSTAMP:20260421T180724Z
SUMMARY:RuoPi - Manse PP
LOCATION:Urheilutie 6\, 34600 Ruovesi
DTSTART;TZID=Europe/Helsinki:20240810T153000
DTEND;TZID=Europe/Helsinki:20240810T183000
END:VEVENT
BEGIN:VEVENT
UID:69e7bcdc89888
DTSTAMP:20260421T180724Z
SUMMARY:Manse PP - RuoPi
LOCATION:Kuntokatu 5\, 33520 Tampere
DTSTART;TZID=Europe/Helsinki:20240811T113000
DTEND;TZID=Europe/Helsinki:20240811T143000
END:VEVENT
END:VCALENDAR