BEGIN:VCALENDAR
VERSION:2.0
PRODID:spatie/icalendar-generator
NAME:Seinäjoen Maila-Jussit D-Pojat Punainen ottelukalenteri
X-WR-CALNAME:Seinäjoen Maila-Jussit D-Pojat Punainen ottelukalenteri
BEGIN:VTIMEZONE
TZID:Europe/Helsinki
BEGIN:STANDARD
DTSTART:20231029T040000
TZOFFSETFROM:+0300
TZOFFSETTO:+0200
END:STANDARD
BEGIN:DAYLIGHT
DTSTART:20240331T020000
TZOFFSETFROM:+0200
TZOFFSETTO:+0300
END:DAYLIGHT
BEGIN:STANDARD
DTSTART:20241027T040000
TZOFFSETFROM:+0300
TZOFFSETTO:+0200
END:STANDARD
END:VTIMEZONE
BEGIN:VTIMEZONE
TZID:UTC
BEGIN:STANDARD
DTSTART:20250726T184242
TZOFFSETFROM:+0000
TZOFFSETTO:+0000
END:STANDARD
END:VTIMEZONE
BEGIN:VEVENT
UID:69e916a273112
DTSTAMP:20260422T184242Z
SUMMARY:SMJ D-Pojat Punainen - KoU D pronssi
DTSTART;TZID=Europe/Helsinki:20240511T160000
DTEND;TZID=Europe/Helsinki:20240511T190000
END:VEVENT
BEGIN:VEVENT
UID:69e916a2731b4
DTSTAMP:20260422T184242Z
SUMMARY:SMJ D-Pojat Punainen - ViVe valkoinen
LOCATION:Lehmustie 4\, 60510 Hyllykallio
DTSTART;TZID=Europe/Helsinki:20240519T180000
DTEND;TZID=Europe/Helsinki:20240519T210000
END:VEVENT
BEGIN:VEVENT
UID:69e916a2731eb
DTSTAMP:20260422T184242Z
SUMMARY:SMJ D-Pojat Musta - SMJ D-Pojat Punainen
DTSTART;TZID=Europe/Helsinki:20240526T160000
DTEND;TZID=Europe/Helsinki:20240526T190000
END:VEVENT
BEGIN:VEVENT
UID:69e916a273213
DTSTAMP:20260422T184242Z
SUMMARY:KoU D musta - SMJ D-Pojat Punainen
DTSTART;TZID=Europe/Helsinki:20240603T180000
DTEND;TZID=Europe/Helsinki:20240603T210000
END:VEVENT
BEGIN:VEVENT
UID:69e916a27327e
DTSTAMP:20260422T184242Z
SUMMARY:SMJ D-Pojat Punainen - SMJ E
LOCATION:Koulutaival 3\, 60200 Seinäjoki
DTSTART;TZID=Europe/Helsinki:20240614T183000
DTEND;TZID=Europe/Helsinki:20240614T213000
END:VEVENT
BEGIN:VEVENT
UID:69e916a2732ad
DTSTAMP:20260422T184242Z
SUMMARY:SMJ D-Pojat Punainen - AA Keltainen
DTSTART;TZID=Europe/Helsinki:20240618T180000
DTEND;TZID=Europe/Helsinki:20240618T210000
END:VEVENT
BEGIN:VEVENT
UID:69e916a2732d1
DTSTAMP:20260422T184242Z
SUMMARY:YPJ - SMJ D-Pojat Punainen
DTSTART;TZID=Europe/Helsinki:20240625T180000
DTEND;TZID=Europe/Helsinki:20240625T210000
END:VEVENT
BEGIN:VEVENT
UID:69e916a2732f5
DTSTAMP:20260422T184242Z
SUMMARY:SMJ D-Pojat Punainen - LaihLu
LOCATION:Tuomikuja 8\, 61450 Seinäjoki
DTSTART;TZID=Europe/Helsinki:20240702T180000
DTEND;TZID=Europe/Helsinki:20240702T210000
END:VEVENT
BEGIN:VEVENT
UID:69e916a27331c
DTSTAMP:20260422T184242Z
SUMMARY:APV / ÄhtU - SMJ D-Pojat Punainen
DTSTART;TZID=Europe/Helsinki:20240721T130000
DTEND;TZID=Europe/Helsinki:20240721T160000
END:VEVENT
BEGIN:VEVENT
UID:69e916a273340
DTSTAMP:20260422T184242Z
SUMMARY:VäVi Hakomäki - SMJ D-Pojat Punainen
DTSTART;TZID=Europe/Helsinki:20240728T170000
DTEND;TZID=Europe/Helsinki:20240728T200000
END:VEVENT
BEGIN:VEVENT
UID:69e916a273363
DTSTAMP:20260422T184242Z
SUMMARY:LaihLu - SMJ D-Pojat Punainen
LOCATION:Länsitie 60\, 66400 Laihia
DTSTART;TZID=Europe/Helsinki:20240806T180000
DTEND;TZID=Europe/Helsinki:20240806T210000
END:VEVENT
BEGIN:VEVENT
UID:69e916a273388
DTSTAMP:20260422T184242Z
SUMMARY:YPJ - SMJ D-Pojat Punainen
DTSTART;TZID=Europe/Helsinki:20240808T180000
DTEND;TZID=Europe/Helsinki:20240808T210000
END:VEVENT
BEGIN:VEVENT
UID:69e916a2733ac
DTSTAMP:20260422T184242Z
SUMMARY:SMJ D-Pojat Punainen - KoU D musta
LOCATION:Kopparintie 8\, 60510 Nurmo
DTSTART;TZID=Europe/Helsinki:20240816T180000
DTEND;TZID=Europe/Helsinki:20240816T210000
END:VEVENT
BEGIN:VEVENT
UID:69e916a2733d1
DTSTAMP:20260422T184242Z
SUMMARY:SMJ D-Pojat Punainen - APV / ÄhtU
DTSTART;TZID=Europe/Helsinki:20240818T140000
DTEND;TZID=Europe/Helsinki:20240818T170000
END:VEVENT
BEGIN:VEVENT
UID:69e916a2733f3
DTSTAMP:20260422T184242Z
SUMMARY:SMJ D-Pojat Punainen - VäVi Hakomäki
DTSTART;TZID=Europe/Helsinki:20240826T173000
DTEND;TZID=Europe/Helsinki:20240826T203000
END:VEVENT
END:VCALENDAR