BEGIN:VCALENDAR
VERSION:2.0
PRODID:spatie/icalendar-generator
NAME:SiiPe kuntopesis ottelukalenteri
X-WR-CALNAME:SiiPe kuntopesis ottelukalenteri
BEGIN:VTIMEZONE
TZID:Europe/Helsinki
BEGIN:STANDARD
DTSTART:20231029T040000
TZOFFSETFROM:+0300
TZOFFSETTO:+0200
END:STANDARD
BEGIN:DAYLIGHT
DTSTART:20240331T020000
TZOFFSETFROM:+0200
TZOFFSETTO:+0300
END:DAYLIGHT
BEGIN:STANDARD
DTSTART:20241027T040000
TZOFFSETFROM:+0300
TZOFFSETTO:+0200
END:STANDARD
END:VTIMEZONE
BEGIN:VTIMEZONE
TZID:UTC
BEGIN:STANDARD
DTSTART:20250728T161944
TZOFFSETFROM:+0000
TZOFFSETTO:+0000
END:STANDARD
END:VTIMEZONE
BEGIN:VEVENT
UID:69eb9820ead76
DTSTAMP:20260424T161944Z
SUMMARY:SiiPe - Pupettajat
DTSTART;TZID=Europe/Helsinki:20240617T180000
DTEND;TZID=Europe/Helsinki:20240617T210000
END:VEVENT
BEGIN:VEVENT
UID:69eb9820eadbc
DTSTAMP:20260424T161944Z
SUMMARY:SiiPe - Mahti
DTSTART;TZID=Europe/Helsinki:20240710T180000
DTEND;TZID=Europe/Helsinki:20240710T210000
END:VEVENT
BEGIN:VEVENT
UID:69eb9820eadd9
DTSTAMP:20260424T161944Z
SUMMARY:SiiPe - SuoVa
LOCATION:Koulukatu 2\, 77600 Suonenjoki
DTSTART;TZID=Europe/Helsinki:20240728T141500
DTEND;TZID=Europe/Helsinki:20240728T171500
END:VEVENT
BEGIN:VEVENT
UID:69eb9820eadf7
DTSTAMP:20260424T161944Z
SUMMARY:SiiPe - QFC
LOCATION:Rinnepolku 1\, 70910 Siilinjärvi
DTSTART;TZID=Europe/Helsinki:20240820T180000
DTEND;TZID=Europe/Helsinki:20240820T210000
END:VEVENT
END:VCALENDAR