BEGIN:VCALENDAR
VERSION:2.0
PRODID:spatie/icalendar-generator
NAME:Siilinjärven Pesis ottelukalenteri
X-WR-CALNAME:Siilinjärven Pesis ottelukalenteri
BEGIN:VTIMEZONE
TZID:Europe/Helsinki
BEGIN:STANDARD
DTSTART:20251026T040000
TZOFFSETFROM:+0300
TZOFFSETTO:+0200
END:STANDARD
BEGIN:DAYLIGHT
DTSTART:20260329T020000
TZOFFSETFROM:+0200
TZOFFSETTO:+0300
END:DAYLIGHT
END:VTIMEZONE
BEGIN:VTIMEZONE
TZID:UTC
BEGIN:STANDARD
DTSTART:20250728T163325
TZOFFSETFROM:+0000
TZOFFSETTO:+0000
END:STANDARD
END:VTIMEZONE
BEGIN:VEVENT
UID:69eb9b55bd95e
DTSTAMP:20260424T163325Z
SUMMARY:SiiPe - SuPo
LOCATION:Ottelukatu 9\, 55420 Imatra
DTSTART;TZID=Europe/Helsinki:20260321T133000
DTEND;TZID=Europe/Helsinki:20260321T163000
END:VEVENT
BEGIN:VEVENT
UID:69eb9b55bd9b3
DTSTAMP:20260424T163325Z
SUMMARY:SiiPe - Jkl Kirittäret Jun.
LOCATION:Ottelukatu 9\, 55420 Imatra
DTSTART;TZID=Europe/Helsinki:20260321T163000
DTEND;TZID=Europe/Helsinki:20260321T193000
END:VEVENT
END:VCALENDAR