BEGIN:VCALENDAR
VERSION:2.0
PRODID:spatie/icalendar-generator
NAME:Simon Kiri ottelukalenteri
X-WR-CALNAME:Simon Kiri ottelukalenteri
BEGIN:VTIMEZONE
TZID:Europe/Helsinki
BEGIN:STANDARD
DTSTART:20001029T040000
TZOFFSETFROM:+0300
TZOFFSETTO:+0200
END:STANDARD
BEGIN:DAYLIGHT
DTSTART:20010325T020000
TZOFFSETFROM:+0200
TZOFFSETTO:+0300
END:DAYLIGHT
BEGIN:STANDARD
DTSTART:20011028T040000
TZOFFSETFROM:+0300
TZOFFSETTO:+0200
END:STANDARD
END:VTIMEZONE
BEGIN:VTIMEZONE
TZID:UTC
BEGIN:STANDARD
DTSTART:20250728T165124
TZOFFSETFROM:+0000
TZOFFSETTO:+0000
END:STANDARD
END:VTIMEZONE
BEGIN:VEVENT
UID:69eb9f8c1a948
DTSTAMP:20260424T165124Z
SUMMARY:SiKi - Seuraton
DTSTART;TZID=Europe/Helsinki:20010526T150000
DTEND;TZID=Europe/Helsinki:20010526T180000
END:VEVENT
BEGIN:VEVENT
UID:69eb9f8c1aa9b
DTSTAMP:20260424T165124Z
SUMMARY:SiKi - Pesä Ysit
DTSTART;TZID=Europe/Helsinki:20010527T130000
DTEND;TZID=Europe/Helsinki:20010527T160000
END:VEVENT
BEGIN:VEVENT
UID:69eb9f8c1aabe
DTSTAMP:20260424T165124Z
SUMMARY:SiKi - IK
DTSTART;TZID=Europe/Helsinki:20010701T160000
DTEND;TZID=Europe/Helsinki:20010701T190000
END:VEVENT
BEGIN:VEVENT
UID:69eb9f8c1aada
DTSTAMP:20260424T165124Z
SUMMARY:SiKi - KiPa
DTSTART;TZID=Europe/Helsinki:20010708T160000
DTEND;TZID=Europe/Helsinki:20010708T190000
END:VEVENT
BEGIN:VEVENT
UID:69eb9f8c1ac6a
DTSTAMP:20260424T165124Z
SUMMARY:SiKi - RePi
DTSTART;TZID=Europe/Helsinki:20010711T180000
DTEND;TZID=Europe/Helsinki:20010711T210000
END:VEVENT
BEGIN:VEVENT
UID:69eb9f8c1ac91
DTSTAMP:20260424T165124Z
SUMMARY:SiKi - YPJ
DTSTART;TZID=Europe/Helsinki:20010719T180000
DTEND;TZID=Europe/Helsinki:20010719T210000
END:VEVENT
BEGIN:VEVENT
UID:69eb9f8c1ae52
DTSTAMP:20260424T165124Z
SUMMARY:SiKi - Paukku
DTSTART;TZID=Europe/Helsinki:20010721T130000
DTEND;TZID=Europe/Helsinki:20010721T160000
END:VEVENT
BEGIN:VEVENT
UID:69eb9f8c1ae8c
DTSTAMP:20260424T165124Z
SUMMARY:SiKi - Fera
DTSTART;TZID=Europe/Helsinki:20010722T130000
DTEND;TZID=Europe/Helsinki:20010722T160000
END:VEVENT
BEGIN:VEVENT
UID:69eb9f8c1aeb5
DTSTAMP:20260424T165124Z
SUMMARY:SiKi - SiiPe
DTSTART;TZID=Europe/Helsinki:20010724T180000
DTEND;TZID=Europe/Helsinki:20010724T210000
END:VEVENT
BEGIN:VEVENT
UID:69eb9f8c1aeda
DTSTAMP:20260424T165124Z
SUMMARY:SiKi - ViU
DTSTART;TZID=Europe/Helsinki:20010805T130000
DTEND;TZID=Europe/Helsinki:20010805T160000
END:VEVENT
BEGIN:VEVENT
UID:69eb9f8c1af01
DTSTAMP:20260424T165124Z
SUMMARY:SiKi - Lohi
DTSTART;TZID=Europe/Helsinki:20010811T150000
DTEND;TZID=Europe/Helsinki:20010811T180000
END:VEVENT
END:VCALENDAR