BEGIN:VCALENDAR
VERSION:2.0
PRODID:spatie/icalendar-generator
NAME:Turku-Pesis ottelukalenteri
X-WR-CALNAME:Turku-Pesis ottelukalenteri
BEGIN:VTIMEZONE
TZID:Europe/Helsinki
BEGIN:STANDARD
DTSTART:20241027T040000
TZOFFSETFROM:+0300
TZOFFSETTO:+0200
END:STANDARD
BEGIN:DAYLIGHT
DTSTART:20250330T020000
TZOFFSETFROM:+0200
TZOFFSETTO:+0300
END:DAYLIGHT
BEGIN:STANDARD
DTSTART:20251026T040000
TZOFFSETFROM:+0300
TZOFFSETTO:+0200
END:STANDARD
END:VTIMEZONE
BEGIN:VTIMEZONE
TZID:UTC
BEGIN:STANDARD
DTSTART:20250723T145132
TZOFFSETFROM:+0000
TZOFFSETTO:+0000
END:STANDARD
END:VTIMEZONE
BEGIN:VEVENT
UID:69e4ebf42c32a
DTSTAMP:20260419T145132Z
SUMMARY:TuPe - Tahko
LOCATION:Lemminkäisenkatu 11\, 20520 Turku
DTSTART;TZID=Europe/Helsinki:20250510T130000
DTEND;TZID=Europe/Helsinki:20250510T160000
END:VEVENT
BEGIN:VEVENT
UID:69e4ebf42c381
DTSTAMP:20260419T145132Z
SUMMARY:TuPe - Jyske
LOCATION:Lemminkäisenkatu 11\, 20520 Turku
DTSTART;TZID=Europe/Helsinki:20250518T170000
DTEND;TZID=Europe/Helsinki:20250518T200000
END:VEVENT
BEGIN:VEVENT
UID:69e4ebf42c3a3
DTSTAMP:20260419T145132Z
SUMMARY:TuPe - Räpsä
LOCATION:Lemminkäisenkatu 11\, 20520 Turku
DTSTART;TZID=Europe/Helsinki:20250520T180000
DTEND;TZID=Europe/Helsinki:20250520T210000
END:VEVENT
BEGIN:VEVENT
UID:69e4ebf42c3c1
DTSTAMP:20260419T145132Z
SUMMARY:TuPe - Pesäsudet
LOCATION:Lemminkäisenkatu 11\, 20520 Turku
DTSTART;TZID=Europe/Helsinki:20250607T160000
DTEND;TZID=Europe/Helsinki:20250607T190000
END:VEVENT
BEGIN:VEVENT
UID:69e4ebf42c3dd
DTSTAMP:20260419T145132Z
SUMMARY:TuPe - PuMu
LOCATION:Lemminkäisenkatu 11\, 20520 Turku
DTSTART;TZID=Europe/Helsinki:20250617T180000
DTEND;TZID=Europe/Helsinki:20250617T210000
END:VEVENT
BEGIN:VEVENT
UID:69e4ebf42c3f8
DTSTAMP:20260419T145132Z
SUMMARY:TuPe - JoKo jun
LOCATION:Lemminkäisenkatu 11\, 20520 Turku
DTSTART;TZID=Europe/Helsinki:20250713T150000
DTEND;TZID=Europe/Helsinki:20250713T180000
END:VEVENT
BEGIN:VEVENT
UID:69e4ebf42c413
DTSTAMP:20260419T145132Z
SUMMARY:TuPe - Pesäkarhut
LOCATION:Lemminkäisenkatu 11\, 20520 Turku
DTSTART;TZID=Europe/Helsinki:20250715T180000
DTEND;TZID=Europe/Helsinki:20250715T210000
END:VEVENT
BEGIN:VEVENT
UID:69e4ebf42c42e
DTSTAMP:20260419T145132Z
SUMMARY:TuPe - TaHU
LOCATION:Lemminkäisenkatu 11\, 20520 Turku
DTSTART;TZID=Europe/Helsinki:20250720T150000
DTEND;TZID=Europe/Helsinki:20250720T180000
END:VEVENT
BEGIN:VEVENT
UID:69e4ebf42c448
DTSTAMP:20260419T145132Z
SUMMARY:TuPe - KePe
LOCATION:Lemminkäisenkatu 11\, 20520 Turku
DTSTART;TZID=Europe/Helsinki:20250731T180000
DTEND;TZID=Europe/Helsinki:20250731T210000
END:VEVENT
BEGIN:VEVENT
UID:69e4ebf42c461
DTSTAMP:20260419T145132Z
SUMMARY:TuPe - LP3
LOCATION:Lemminkäisenkatu 11\, 20520 Turku
DTSTART;TZID=Europe/Helsinki:20250815T180000
DTEND;TZID=Europe/Helsinki:20250815T210000
END:VEVENT
BEGIN:VEVENT
UID:69e4ebf42c47a
DTSTAMP:20260419T145132Z
SUMMARY:TuPe - Manse PP
LOCATION:Lemminkäisenkatu 11\, 20520 Turku
DTSTART;TZID=Europe/Helsinki:20250816T150000
DTEND;TZID=Europe/Helsinki:20250816T180000
END:VEVENT
BEGIN:VEVENT
UID:69e4ebf42c493
DTSTAMP:20260419T145132Z
SUMMARY:TuPe - Räpsä
LOCATION:Lemminkäisenkatu 11\, 20520 Turku
DTSTART;TZID=Europe/Helsinki:20250818T173000
DTEND;TZID=Europe/Helsinki:20250818T203000
END:VEVENT
BEGIN:VEVENT
UID:69e4ebf42c4ac
DTSTAMP:20260419T145132Z
SUMMARY:TuPe - PöU
LOCATION:Lemminkäisenkatu 11\, 20520 Turku
DTSTART;TZID=Europe/Helsinki:20250825T180000
DTEND;TZID=Europe/Helsinki:20250825T210000
END:VEVENT
BEGIN:VEVENT
UID:69e4ebf42c4c6
DTSTAMP:20260419T145132Z
SUMMARY:TuPe - Manse PP
LOCATION:Lemminkäisenkatu 11\, 20520 Turku
DTSTART;TZID=Europe/Helsinki:20250830T150000
DTEND;TZID=Europe/Helsinki:20250830T180000
END:VEVENT
BEGIN:VEVENT
UID:69e4ebf42c4df
DTSTAMP:20260419T145132Z
SUMMARY:TuPe - PöU
LOCATION:Lemminkäisenkatu 11\, 20520 Turku
DTSTART;TZID=Europe/Helsinki:20250914T150000
DTEND;TZID=Europe/Helsinki:20250914T180000
END:VEVENT
END:VCALENDAR