BEGIN:VCALENDAR
VERSION:2.0
PRODID:spatie/icalendar-generator
NAME:Vimpelin Veto valkoinen ottelukalenteri
X-WR-CALNAME:Vimpelin Veto valkoinen ottelukalenteri
BEGIN:VTIMEZONE
TZID:Europe/Helsinki
BEGIN:STANDARD
DTSTART:20231029T040000
TZOFFSETFROM:+0300
TZOFFSETTO:+0200
END:STANDARD
BEGIN:DAYLIGHT
DTSTART:20240331T020000
TZOFFSETFROM:+0200
TZOFFSETTO:+0300
END:DAYLIGHT
BEGIN:STANDARD
DTSTART:20241027T040000
TZOFFSETFROM:+0300
TZOFFSETTO:+0200
END:STANDARD
END:VTIMEZONE
BEGIN:VTIMEZONE
TZID:UTC
BEGIN:STANDARD
DTSTART:20250726T185211
TZOFFSETFROM:+0000
TZOFFSETTO:+0000
END:STANDARD
END:VTIMEZONE
BEGIN:VEVENT
UID:69e918dbafd55
DTSTAMP:20260422T185211Z
SUMMARY:ViVe valkoinen - KoU D pronssi
DTSTART;TZID=Europe/Helsinki:20240514T180000
DTEND;TZID=Europe/Helsinki:20240514T210000
END:VEVENT
BEGIN:VEVENT
UID:69e918dbafdb2
DTSTAMP:20260422T185211Z
SUMMARY:ViVe valkoinen - VäVi Hakomäki
LOCATION:Patruunantie 15\, 62800 Vimpeli
DTSTART;TZID=Europe/Helsinki:20240525T123000
DTEND;TZID=Europe/Helsinki:20240525T153000
END:VEVENT
BEGIN:VEVENT
UID:69e918dbafde1
DTSTAMP:20260422T185211Z
SUMMARY:ViVe valkoinen - AA Keltainen
DTSTART;TZID=Europe/Helsinki:20240603T180000
DTEND;TZID=Europe/Helsinki:20240603T210000
END:VEVENT
BEGIN:VEVENT
UID:69e918dbafe01
DTSTAMP:20260422T185211Z
SUMMARY:ViVe valkoinen - YPJ
DTSTART;TZID=Europe/Helsinki:20240627T180000
DTEND;TZID=Europe/Helsinki:20240627T210000
END:VEVENT
BEGIN:VEVENT
UID:69e918dbafe27
DTSTAMP:20260422T185211Z
SUMMARY:ViVe valkoinen - SMJ E
DTSTART;TZID=Europe/Helsinki:20240725T180000
DTEND;TZID=Europe/Helsinki:20240725T210000
END:VEVENT
BEGIN:VEVENT
UID:69e918dbafe4b
DTSTAMP:20260422T185211Z
SUMMARY:ViVe valkoinen - SMJ D-Pojat Musta
LOCATION:Hirsiniementie 1\, 62800 Vimpeli
DTSTART;TZID=Europe/Helsinki:20240820T180000
DTEND;TZID=Europe/Helsinki:20240820T210000
END:VEVENT
BEGIN:VEVENT
UID:69e918dbafe72
DTSTAMP:20260422T185211Z
SUMMARY:ViVe valkoinen - AA Keltainen
DTSTART;TZID=Europe/Helsinki:20240901T120000
DTEND;TZID=Europe/Helsinki:20240901T150000
END:VEVENT
END:VCALENDAR