BEGIN:VCALENDAR
VERSION:2.0
PRODID:spatie/icalendar-generator
NAME:Pattijoen Urheilijat Juniorit ottelukalenteri
X-WR-CALNAME:Pattijoen Urheilijat Juniorit ottelukalenteri
BEGIN:VTIMEZONE
TZID:Europe/Helsinki
BEGIN:STANDARD
DTSTART:20221030T040000
TZOFFSETFROM:+0300
TZOFFSETTO:+0200
END:STANDARD
BEGIN:DAYLIGHT
DTSTART:20230326T020000
TZOFFSETFROM:+0200
TZOFFSETTO:+0300
END:DAYLIGHT
BEGIN:STANDARD
DTSTART:20231029T040000
TZOFFSETFROM:+0300
TZOFFSETTO:+0200
END:STANDARD
END:VTIMEZONE
BEGIN:VTIMEZONE
TZID:UTC
BEGIN:STANDARD
DTSTART:20250726T085939
TZOFFSETFROM:+0000
TZOFFSETTO:+0000
END:STANDARD
END:VTIMEZONE
BEGIN:VEVENT
UID:69e88dfbecf1f
DTSTAMP:20260422T085939Z
SUMMARY:PattU mustat - PeKi
DTSTART;TZID=Europe/Helsinki:20230521T140000
DTEND;TZID=Europe/Helsinki:20230521T170000
END:VEVENT
BEGIN:VEVENT
UID:69e88dfbecf6e
DTSTAMP:20260422T085939Z
SUMMARY:YK/NiPe - PattU mustat
DTSTART;TZID=Europe/Helsinki:20230521T160000
DTEND;TZID=Europe/Helsinki:20230521T190000
END:VEVENT
BEGIN:VEVENT
UID:69e88dfbecf8e
DTSTAMP:20260422T085939Z
SUMMARY:Lippo - PattU mustat
DTSTART;TZID=Europe/Helsinki:20230528T120000
DTEND;TZID=Europe/Helsinki:20230528T150000
END:VEVENT
BEGIN:VEVENT
UID:69e88dfbecfa9
DTSTAMP:20260422T085939Z
SUMMARY:YK/NiPe - PattU mustat
DTSTART;TZID=Europe/Helsinki:20230528T140000
DTEND;TZID=Europe/Helsinki:20230528T170000
END:VEVENT
BEGIN:VEVENT
UID:69e88dfbecfc4
DTSTAMP:20260422T085939Z
SUMMARY:PattU mustat - SoJy Et
DTSTART;TZID=Europe/Helsinki:20230604T120000
DTEND;TZID=Europe/Helsinki:20230604T150000
END:VEVENT
BEGIN:VEVENT
UID:69e88dfbecfdd
DTSTAMP:20260422T085939Z
SUMMARY:SoJy Et - PattU mustat
DTSTART;TZID=Europe/Helsinki:20230604T140000
DTEND;TZID=Europe/Helsinki:20230604T170000
END:VEVENT
BEGIN:VEVENT
UID:69e88dfbecff6
DTSTAMP:20260422T085939Z
SUMMARY:Kuula/NiPe vihreä - PattU mustat
LOCATION:Koskipuhdontie 58\, 84100 Ylivieska
DTSTART;TZID=Europe/Helsinki:20230615T190000
DTEND;TZID=Europe/Helsinki:20230615T220000
END:VEVENT
BEGIN:VEVENT
UID:69e88dfbed013
DTSTAMP:20260422T085939Z
SUMMARY:PattU mustat - MuPs E-Tytöt
LOCATION:Koskipuhdontie 58\, 84100 Ylivieska
DTSTART;TZID=Europe/Helsinki:20230616T093000
DTEND;TZID=Europe/Helsinki:20230616T123000
END:VEVENT
BEGIN:VEVENT
UID:69e88dfbed02d
DTSTAMP:20260422T085939Z
SUMMARY:PattU mustat - SiKi
LOCATION:Koskipuhdontie 58\, 84100 Ylivieska
DTSTART;TZID=Europe/Helsinki:20230616T140000
DTEND;TZID=Europe/Helsinki:20230616T170000
END:VEVENT
BEGIN:VEVENT
UID:69e88dfbed046
DTSTAMP:20260422T085939Z
SUMMARY:PattU mustat - KäKa
LOCATION:Koskipuhdontie 58\, 84100 Ylivieska
DTSTART;TZID=Europe/Helsinki:20230616T180000
DTEND;TZID=Europe/Helsinki:20230616T210000
END:VEVENT
BEGIN:VEVENT
UID:69e88dfbed05f
DTSTAMP:20260422T085939Z
SUMMARY:KeKi Et blue - PattU mustat
LOCATION:Koskipuhdontie 58\, 84100 Ylivieska
DTSTART;TZID=Europe/Helsinki:20230617T093000
DTEND;TZID=Europe/Helsinki:20230617T123000
END:VEVENT
BEGIN:VEVENT
UID:69e88dfbed079
DTSTAMP:20260422T085939Z
SUMMARY:Kuula/NiPe punainen - PattU mustat
LOCATION:Koskipuhdontie 58\, 84100 Ylivieska
DTSTART;TZID=Europe/Helsinki:20230617T140000
DTEND;TZID=Europe/Helsinki:20230617T170000
END:VEVENT
BEGIN:VEVENT
UID:69e88dfbed092
DTSTAMP:20260422T085939Z
SUMMARY:PattU mustat - SoJy Et
LOCATION:Koskipuhdontie 58\, 84100 Ylivieska
DTSTART;TZID=Europe/Helsinki:20230618T130000
DTEND;TZID=Europe/Helsinki:20230618T160000
END:VEVENT
BEGIN:VEVENT
UID:69e88dfbed0ad
DTSTAMP:20260422T085939Z
SUMMARY:PattU mustat - YK/NiPe
LOCATION:Urheilijantie\, 92140 Raahe
DTSTART;TZID=Europe/Helsinki:20230628T180000
DTEND;TZID=Europe/Helsinki:20230628T210000
END:VEVENT
BEGIN:VEVENT
UID:69e88dfbed0c6
DTSTAMP:20260422T085939Z
SUMMARY:Espoo Keltainen - PattU mustat
LOCATION:Jämintie 10\, 38700 Kankaanpää
DTSTART;TZID=Europe/Helsinki:20230702T140000
DTEND;TZID=Europe/Helsinki:20230702T170000
END:VEVENT
BEGIN:VEVENT
UID:69e88dfbed0e0
DTSTAMP:20260422T085939Z
SUMMARY:PattU mustat - Manse PP
LOCATION:Jämintie 10\, 38700 Kankaanpää
DTSTART;TZID=Europe/Helsinki:20230702T190000
DTEND;TZID=Europe/Helsinki:20230702T220000
END:VEVENT
BEGIN:VEVENT
UID:69e88dfbed0fa
DTSTAMP:20260422T085939Z
SUMMARY:IPV - PattU mustat
LOCATION:Varuskunnantie 66-84\, 38840 Kankaanpää
DTSTART;TZID=Europe/Helsinki:20230703T103000
DTEND;TZID=Europe/Helsinki:20230703T133000
END:VEVENT
BEGIN:VEVENT
UID:69e88dfbed113
DTSTAMP:20260422T085939Z
SUMMARY:PattU mustat - SMJ Musta
LOCATION:Varuskunnantie 66-84\, 38840 Kankaanpää
DTSTART;TZID=Europe/Helsinki:20230703T150000
DTEND;TZID=Europe/Helsinki:20230703T180000
END:VEVENT
BEGIN:VEVENT
UID:69e88dfbed12c
DTSTAMP:20260422T085939Z
SUMMARY:PattU mustat - PeKi
LOCATION:Jämintie 10\, 38700 Kankaanpää
DTSTART;TZID=Europe/Helsinki:20230704T130000
DTEND;TZID=Europe/Helsinki:20230704T160000
END:VEVENT
BEGIN:VEVENT
UID:69e88dfbed145
DTSTAMP:20260422T085939Z
SUMMARY:Fera E1 Valkoinen - PattU mustat
LOCATION:Varuskunnantie 66-84\, 38840 Kankaanpää
DTSTART;TZID=Europe/Helsinki:20230704T170000
DTEND;TZID=Europe/Helsinki:20230704T200000
END:VEVENT
BEGIN:VEVENT
UID:69e88dfbed15f
DTSTAMP:20260422T085939Z
SUMMARY:Virkiä - PattU mustat
LOCATION:Jämintie 10\, 38700 Kankaanpää
DTSTART;TZID=Europe/Helsinki:20230705T083000
DTEND;TZID=Europe/Helsinki:20230705T113000
END:VEVENT
BEGIN:VEVENT
UID:69e88dfbed177
DTSTAMP:20260422T085939Z
SUMMARY:PattU mustat - Fera E1 Sininen
LOCATION:Jämintie 10\, 38700 Kankaanpää
DTSTART;TZID=Europe/Helsinki:20230705T150000
DTEND;TZID=Europe/Helsinki:20230705T180000
END:VEVENT
BEGIN:VEVENT
UID:69e88dfbed190
DTSTAMP:20260422T085939Z
SUMMARY:SoJy Et - PattU mustat
LOCATION:Varuskunnantie 66-84\, 38840 Kankaanpää
DTSTART;TZID=Europe/Helsinki:20230706T103000
DTEND;TZID=Europe/Helsinki:20230706T133000
END:VEVENT
BEGIN:VEVENT
UID:69e88dfbed1a8
DTSTAMP:20260422T085939Z
SUMMARY:PattU mustat - Roihu ET
LOCATION:Varuskunnantie 66-84\, 38840 Kankaanpää
DTSTART;TZID=Europe/Helsinki:20230707T083000
DTEND;TZID=Europe/Helsinki:20230707T113000
END:VEVENT
BEGIN:VEVENT
UID:69e88dfbed1c2
DTSTAMP:20260422T085939Z
SUMMARY:Manse PP - PattU mustat
LOCATION:Varuskunnantie 66-84\, 38840 Kankaanpää
DTSTART;TZID=Europe/Helsinki:20230707T130000
DTEND;TZID=Europe/Helsinki:20230707T160000
END:VEVENT
BEGIN:VEVENT
UID:69e88dfbed1db
DTSTAMP:20260422T085939Z
SUMMARY:PattU mustat - YK/NiPe
DTSTART;TZID=Europe/Helsinki:20230725T180000
DTEND;TZID=Europe/Helsinki:20230725T210000
END:VEVENT
BEGIN:VEVENT
UID:69e88dfbed1f1
DTSTAMP:20260422T085939Z
SUMMARY:PattU mustat - Lippo
LOCATION:Urheilijantie\, 92140 Raahe
DTSTART;TZID=Europe/Helsinki:20230812T100000
DTEND;TZID=Europe/Helsinki:20230812T130000
END:VEVENT
BEGIN:VEVENT
UID:69e88dfbed20a
DTSTAMP:20260422T085939Z
SUMMARY:PattU mustat - SoJy Et
LOCATION:Urheilijantie\, 92140 Raahe
DTSTART;TZID=Europe/Helsinki:20230812T140000
DTEND;TZID=Europe/Helsinki:20230812T170000
END:VEVENT
BEGIN:VEVENT
UID:69e88dfbed225
DTSTAMP:20260422T085939Z
SUMMARY:PeKi - PattU mustat
DTSTART;TZID=Europe/Helsinki:20230813T110000
DTEND;TZID=Europe/Helsinki:20230813T140000
END:VEVENT
BEGIN:VEVENT
UID:69e88dfbed23c
DTSTAMP:20260422T085939Z
SUMMARY:PeKi - PattU mustat
DTSTART;TZID=Europe/Helsinki:20230813T130000
DTEND;TZID=Europe/Helsinki:20230813T160000
END:VEVENT
BEGIN:VEVENT
UID:69e88dfbed252
DTSTAMP:20260422T085939Z
SUMMARY:Lippo - PattU mustat
LOCATION:Kaarnatie 39\, 90530 Oulu
DTSTART;TZID=Europe/Helsinki:20230819T120000
DTEND;TZID=Europe/Helsinki:20230819T150000
END:VEVENT
BEGIN:VEVENT
UID:69e88dfbed26b
DTSTAMP:20260422T085939Z
SUMMARY:SoJy Et - PattU mustat
LOCATION:Kaarnatie 39\, 90530 Oulu
DTSTART;TZID=Europe/Helsinki:20230819T140000
DTEND;TZID=Europe/Helsinki:20230819T170000
END:VEVENT
BEGIN:VEVENT
UID:69e88dfbed284
DTSTAMP:20260422T085939Z
SUMMARY:PattU mustat - Lippo
DTSTART;TZID=Europe/Helsinki:20230827T100000
DTEND;TZID=Europe/Helsinki:20230827T130000
END:VEVENT
BEGIN:VEVENT
UID:69e88dfbed29a
DTSTAMP:20260422T085939Z
SUMMARY:PattU mustat - PeKi
LOCATION:Urheilijantie\, 92140 Raahe
DTSTART;TZID=Europe/Helsinki:20230827T140000
DTEND;TZID=Europe/Helsinki:20230827T170000
END:VEVENT
END:VCALENDAR