BEGIN:VCALENDAR
VERSION:2.0
PRODID:spatie/icalendar-generator
NAME:Mailattaret\, Vaasa ottelukalenteri
X-WR-CALNAME:Mailattaret\, Vaasa ottelukalenteri
BEGIN:VTIMEZONE
TZID:Europe/Helsinki
BEGIN:STANDARD
DTSTART:20241027T040000
TZOFFSETFROM:+0300
TZOFFSETTO:+0200
END:STANDARD
BEGIN:DAYLIGHT
DTSTART:20250330T020000
TZOFFSETFROM:+0200
TZOFFSETTO:+0300
END:DAYLIGHT
BEGIN:STANDARD
DTSTART:20251026T040000
TZOFFSETFROM:+0300
TZOFFSETTO:+0200
END:STANDARD
END:VTIMEZONE
BEGIN:VTIMEZONE
TZID:UTC
BEGIN:STANDARD
DTSTART:20250724T201253
TZOFFSETFROM:+0000
TZOFFSETTO:+0000
END:STANDARD
END:VTIMEZONE
BEGIN:VEVENT
UID:69e688c5c1728
DTSTAMP:20260420T201253Z
SUMMARY:Mailattaret - Kirittäret
LOCATION:Kustaa Tiitun tie 12\, 62100 Lapua
DTSTART;TZID=Europe/Helsinki:20250208T120000
DTEND;TZID=Europe/Helsinki:20250208T150000
END:VEVENT
BEGIN:VEVENT
UID:69e688c5c1773
DTSTAMP:20260420T201253Z
SUMMARY:Mailattaret - Virkiä
LOCATION:Kirkkokatu 23\, 60220 Seinäjoki
DTSTART;TZID=Europe/Helsinki:20250209T180000
DTEND;TZID=Europe/Helsinki:20250209T210000
END:VEVENT
BEGIN:VEVENT
UID:69e688c5c1794
DTSTAMP:20260420T201253Z
SUMMARY:Mailattaret - Tahko
LOCATION:Kirkkokatu 23\, 60220 Seinäjoki
DTSTART;TZID=Europe/Helsinki:20250308T150000
DTEND;TZID=Europe/Helsinki:20250308T180000
END:VEVENT
BEGIN:VEVENT
UID:69e688c5c17b5
DTSTAMP:20260420T201253Z
SUMMARY:Mailattaret - Kirittäret
LOCATION:Sanmarkinkatu\, 65100 Vaasa
DTSTART;TZID=Europe/Helsinki:20250603T180000
DTEND;TZID=Europe/Helsinki:20250603T210000
END:VEVENT
BEGIN:VEVENT
UID:69e688c5c17d1
DTSTAMP:20260420T201253Z
SUMMARY:Mailattaret - PöU
LOCATION:Sanmarkinkatu\, 65100 Vaasa
DTSTART;TZID=Europe/Helsinki:20250605T180000
DTEND;TZID=Europe/Helsinki:20250605T210000
END:VEVENT
BEGIN:VEVENT
UID:69e688c5c17ed
DTSTAMP:20260420T201253Z
SUMMARY:Mailattaret - Pesäkarhut
LOCATION:Sanmarkinkatu\, 65100 Vaasa
DTSTART;TZID=Europe/Helsinki:20250610T180000
DTEND;TZID=Europe/Helsinki:20250610T210000
END:VEVENT
BEGIN:VEVENT
UID:69e688c5c1807
DTSTAMP:20260420T201253Z
SUMMARY:Mailattaret - Fera
LOCATION:Sanmarkinkatu\, 65100 Vaasa
DTSTART;TZID=Europe/Helsinki:20250618T180000
DTEND;TZID=Europe/Helsinki:20250618T210000
END:VEVENT
BEGIN:VEVENT
UID:69e688c5c1822
DTSTAMP:20260420T201253Z
SUMMARY:Mailattaret - Jussittaret
LOCATION:Sanmarkinkatu\, 65100 Vaasa
DTSTART;TZID=Europe/Helsinki:20250626T180000
DTEND;TZID=Europe/Helsinki:20250626T210000
END:VEVENT
BEGIN:VEVENT
UID:69e688c5c185b
DTSTAMP:20260420T201253Z
SUMMARY:Mailattaret - Pesäkarhut
LOCATION:Sanmarkinkatu\, 65100 Vaasa
DTSTART;TZID=Europe/Helsinki:20250629T170000
DTEND;TZID=Europe/Helsinki:20250629T200000
END:VEVENT
BEGIN:VEVENT
UID:69e688c5c1884
DTSTAMP:20260420T201253Z
SUMMARY:Mailattaret - Roihuttaret
LOCATION:Sanmarkinkatu\, 65100 Vaasa
DTSTART;TZID=Europe/Helsinki:20250704T180000
DTEND;TZID=Europe/Helsinki:20250704T210000
END:VEVENT
BEGIN:VEVENT
UID:69e688c5c18a9
DTSTAMP:20260420T201253Z
SUMMARY:Mailattaret - JoMa
LOCATION:Sanmarkinkatu\, 65100 Vaasa
DTSTART;TZID=Europe/Helsinki:20250709T180000
DTEND;TZID=Europe/Helsinki:20250709T210000
END:VEVENT
BEGIN:VEVENT
UID:69e688c5c18cc
DTSTAMP:20260420T201253Z
SUMMARY:Mailattaret - Manse
LOCATION:Sanmarkinkatu\, 65100 Vaasa
DTSTART;TZID=Europe/Helsinki:20250716T180000
DTEND;TZID=Europe/Helsinki:20250716T210000
END:VEVENT
BEGIN:VEVENT
UID:69e688c5c18ed
DTSTAMP:20260420T201253Z
SUMMARY:Mailattaret - Tahko
LOCATION:Sanmarkinkatu\, 65100 Vaasa
DTSTART;TZID=Europe/Helsinki:20250726T160000
DTEND;TZID=Europe/Helsinki:20250726T190000
END:VEVENT
BEGIN:VEVENT
UID:69e688c5c1913
DTSTAMP:20260420T201253Z
SUMMARY:Mailattaret - Jyske
LOCATION:Sanmarkinkatu\, 65100 Vaasa
DTSTART;TZID=Europe/Helsinki:20250729T180000
DTEND;TZID=Europe/Helsinki:20250729T210000
END:VEVENT
BEGIN:VEVENT
UID:69e688c5c193a
DTSTAMP:20260420T201253Z
SUMMARY:Mailattaret - Virkiä
LOCATION:Sanmarkinkatu\, 65100 Vaasa
DTSTART;TZID=Europe/Helsinki:20250803T170000
DTEND;TZID=Europe/Helsinki:20250803T200000
END:VEVENT
BEGIN:VEVENT
UID:69e688c5c195e
DTSTAMP:20260420T201253Z
SUMMARY:Mailattaret - JoMa
LOCATION:Sanmarkinkatu\, 65100 Vaasa
DTSTART;TZID=Europe/Helsinki:20250805T180000
DTEND;TZID=Europe/Helsinki:20250805T210000
END:VEVENT
BEGIN:VEVENT
UID:69e688c5c197b
DTSTAMP:20260420T201253Z
SUMMARY:Mailattaret - Pesäkarhut
LOCATION:Sanmarkinkatu\, 65100 Vaasa
DTSTART;TZID=Europe/Helsinki:20250813T173000
DTEND;TZID=Europe/Helsinki:20250813T203000
END:VEVENT
BEGIN:VEVENT
UID:69e688c5c1999
DTSTAMP:20260420T201253Z
SUMMARY:Mailattaret - Pesäkarhut
LOCATION:Sanmarkinkatu\, 65100 Vaasa
DTSTART;TZID=Europe/Helsinki:20250817T170000
DTEND;TZID=Europe/Helsinki:20250817T200000
END:VEVENT
END:VCALENDAR