BEGIN:VCALENDAR
VERSION:2.0
PRODID:spatie/icalendar-generator
NAME:Lohi ottelukalenteri
X-WR-CALNAME:Lohi ottelukalenteri
BEGIN:VTIMEZONE
TZID:Europe/Helsinki
BEGIN:STANDARD
DTSTART:20181028T040000
TZOFFSETFROM:+0300
TZOFFSETTO:+0200
END:STANDARD
BEGIN:DAYLIGHT
DTSTART:20190331T020000
TZOFFSETFROM:+0200
TZOFFSETTO:+0300
END:DAYLIGHT
BEGIN:STANDARD
DTSTART:20191027T040000
TZOFFSETFROM:+0300
TZOFFSETTO:+0200
END:STANDARD
END:VTIMEZONE
BEGIN:VTIMEZONE
TZID:UTC
BEGIN:STANDARD
DTSTART:20250724T142936
TZOFFSETFROM:+0000
TZOFFSETTO:+0000
END:STANDARD
END:VTIMEZONE
BEGIN:VEVENT
UID:69e63850ba90d
DTSTAMP:20260420T142936Z
SUMMARY:LMV - Lohi
LOCATION:Tarinakatu 4\, 15140 Lahti
DTSTART;TZID=Europe/Helsinki:20190511T160000
DTEND;TZID=Europe/Helsinki:20190511T190000
END:VEVENT
BEGIN:VEVENT
UID:69e63850bac99
DTSTAMP:20260420T142936Z
SUMMARY:Lohi - JuPe
LOCATION:Koskenharjuntie\, 40200 Jyväskylä
DTSTART;TZID=Europe/Helsinki:20190519T140000
DTEND;TZID=Europe/Helsinki:20190519T170000
END:VEVENT
BEGIN:VEVENT
UID:69e63850bae79
DTSTAMP:20260420T142936Z
SUMMARY:Lohi - KPL
LOCATION:Koskenharjuntie\, 40200 Jyväskylä
DTSTART;TZID=Europe/Helsinki:20190525T140000
DTEND;TZID=Europe/Helsinki:20190525T170000
END:VEVENT
BEGIN:VEVENT
UID:69e63850baff4
DTSTAMP:20260420T142936Z
SUMMARY:PuPe - Lohi
LOCATION:Puijonlaaksontie 14\, 70200 Kuopio
DTSTART;TZID=Europe/Helsinki:20190605T180000
DTEND;TZID=Europe/Helsinki:20190605T210000
END:VEVENT
BEGIN:VEVENT
UID:69e63850bb1e0
DTSTAMP:20260420T142936Z
SUMMARY:Lohi - IPV
LOCATION:Koskenharjuntie\, 40200 Jyväskylä
DTSTART;TZID=Europe/Helsinki:20190608T140000
DTEND;TZID=Europe/Helsinki:20190608T170000
END:VEVENT
BEGIN:VEVENT
UID:69e63850bb381
DTSTAMP:20260420T142936Z
SUMMARY:Lohi - PuPe
LOCATION:Koskenharjuntie\, 40200 Jyväskylä
DTSTART;TZID=Europe/Helsinki:20190614T180000
DTEND;TZID=Europe/Helsinki:20190614T210000
END:VEVENT
BEGIN:VEVENT
UID:69e63850bb530
DTSTAMP:20260420T142936Z
SUMMARY:Lohi - LMV
LOCATION:Koskenharjuntie\, 40200 Jyväskylä
DTSTART;TZID=Europe/Helsinki:20190629T140000
DTEND;TZID=Europe/Helsinki:20190629T170000
END:VEVENT
BEGIN:VEVENT
UID:69e63850bb6a8
DTSTAMP:20260420T142936Z
SUMMARY:KPL - Lohi
LOCATION:Hovioikeudenkatu 3\, 45100 Kouvola
DTSTART;TZID=Europe/Helsinki:20190702T180000
DTEND;TZID=Europe/Helsinki:20190702T210000
END:VEVENT
BEGIN:VEVENT
UID:69e63850bb863
DTSTAMP:20260420T142936Z
SUMMARY:JuPe - Lohi
DTSTART;TZID=Europe/Helsinki:20190710T180000
DTEND;TZID=Europe/Helsinki:20190710T210000
END:VEVENT
BEGIN:VEVENT
UID:69e63850bba06
DTSTAMP:20260420T142936Z
SUMMARY:KiPa - Lohi
LOCATION:Tohmajärventie 10 \, 82500 Kitee
DTSTART;TZID=Europe/Helsinki:20190713T145900
DTEND;TZID=Europe/Helsinki:20190713T175900
END:VEVENT
BEGIN:VEVENT
UID:69e63850bbb59
DTSTAMP:20260420T142936Z
SUMMARY:Lohi - KiPa
LOCATION:Koskenharjuntie\, 40200 Jyväskylä
DTSTART;TZID=Europe/Helsinki:20190720T140000
DTEND;TZID=Europe/Helsinki:20190720T170000
END:VEVENT
BEGIN:VEVENT
UID:69e63850bbca8
DTSTAMP:20260420T142936Z
SUMMARY:JoMa - Lohi
LOCATION:Kirkkotie 1\, 83400 Viinijärvi
DTSTART;TZID=Europe/Helsinki:20190721T130000
DTEND;TZID=Europe/Helsinki:20190721T160000
END:VEVENT
BEGIN:VEVENT
UID:69e63850bbec9
DTSTAMP:20260420T142936Z
SUMMARY:Lohi - JoMa
LOCATION:Koskenharjuntie\, 40200 Jyväskylä
DTSTART;TZID=Europe/Helsinki:20190726T180000
DTEND;TZID=Europe/Helsinki:20190726T210000
END:VEVENT
BEGIN:VEVENT
UID:69e63850bc09b
DTSTAMP:20260420T142936Z
SUMMARY:IPV - Lohi
DTSTART;TZID=Europe/Helsinki:20190803T130000
DTEND;TZID=Europe/Helsinki:20190803T160000
END:VEVENT
BEGIN:VEVENT
UID:69e63850bc0c3
DTSTAMP:20260420T142936Z
SUMMARY:PuPe - Lohi
LOCATION:Puijonlaaksontie 14\, 70200 Kuopio
DTSTART;TZID=Europe/Helsinki:20190807T180000
DTEND;TZID=Europe/Helsinki:20190807T210000
END:VEVENT
BEGIN:VEVENT
UID:69e63850bc0e7
DTSTAMP:20260420T142936Z
SUMMARY:Lohi - PuPe
LOCATION:Koskenharjuntie\, 40200 Jyväskylä
DTSTART;TZID=Europe/Helsinki:20190814T173000
DTEND;TZID=Europe/Helsinki:20190814T203000
END:VEVENT
BEGIN:VEVENT
UID:69e63850bc107
DTSTAMP:20260420T142936Z
SUMMARY:Lohi - JoMa
LOCATION:Koskenharjuntie\, 40200 Jyväskylä
DTSTART;TZID=Europe/Helsinki:20190817T140000
DTEND;TZID=Europe/Helsinki:20190817T170000
END:VEVENT
BEGIN:VEVENT
UID:69e63850bc127
DTSTAMP:20260420T142936Z
SUMMARY:JoMa - Lohi
LOCATION:Uimarintie 3\, 80110 Joensuu
DTSTART;TZID=Europe/Helsinki:20190818T130000
DTEND;TZID=Europe/Helsinki:20190818T160000
END:VEVENT
BEGIN:VEVENT
UID:69e63850bc146
DTSTAMP:20260420T142936Z
SUMMARY:Lohi - JoMa
LOCATION:Koskenharjuntie\, 40200 Jyväskylä
DTSTART;TZID=Europe/Helsinki:20190821T173000
DTEND;TZID=Europe/Helsinki:20190821T203000
END:VEVENT
BEGIN:VEVENT
UID:69e63850bc165
DTSTAMP:20260420T142936Z
SUMMARY:LMV - Lohi
LOCATION:Tarinakatu 4\, 15140 Lahti
DTSTART;TZID=Europe/Helsinki:20190824T160000
DTEND;TZID=Europe/Helsinki:20190824T190000
END:VEVENT
BEGIN:VEVENT
UID:69e63850bc190
DTSTAMP:20260420T142936Z
SUMMARY:Lohi - LMV
LOCATION:Koskenharjuntie\, 40200 Jyväskylä
DTSTART;TZID=Europe/Helsinki:20190825T130000
DTEND;TZID=Europe/Helsinki:20190825T160000
END:VEVENT
BEGIN:VEVENT
UID:69e63850bc1b2
DTSTAMP:20260420T142936Z
SUMMARY:LP - Lohi
DTSTART;TZID=Europe/Helsinki:20190831T160000
DTEND;TZID=Europe/Helsinki:20190831T190000
END:VEVENT
BEGIN:VEVENT
UID:69e63850bc1d0
DTSTAMP:20260420T142936Z
SUMMARY:Lohi - LP
LOCATION:Koskenharjuntie\, 40200 Jyväskylä
DTSTART;TZID=Europe/Helsinki:20190901T140000
DTEND;TZID=Europe/Helsinki:20190901T170000
END:VEVENT
END:VCALENDAR