BEGIN:VCALENDAR
VERSION:2.0
PRODID:spatie/icalendar-generator
NAME:Hyvinkään Tahko ottelukalenteri
X-WR-CALNAME:Hyvinkään Tahko ottelukalenteri
BEGIN:VTIMEZONE
TZID:Europe/Helsinki
BEGIN:STANDARD
DTSTART:20181028T040000
TZOFFSETFROM:+0300
TZOFFSETTO:+0200
END:STANDARD
BEGIN:DAYLIGHT
DTSTART:20190331T020000
TZOFFSETFROM:+0200
TZOFFSETTO:+0300
END:DAYLIGHT
BEGIN:STANDARD
DTSTART:20191027T040000
TZOFFSETFROM:+0300
TZOFFSETTO:+0200
END:STANDARD
END:VTIMEZONE
BEGIN:VTIMEZONE
TZID:UTC
BEGIN:STANDARD
DTSTART:20250723T145958
TZOFFSETFROM:+0000
TZOFFSETTO:+0000
END:STANDARD
END:VTIMEZONE
BEGIN:VEVENT
UID:69e4edee8b130
DTSTAMP:20260419T145958Z
SUMMARY:Tahko - AA
LOCATION:Urheilukatu 19\, 05800 Hyvinkää
DTSTART;TZID=Europe/Helsinki:20190508T180000
DTEND;TZID=Europe/Helsinki:20190508T210000
END:VEVENT
BEGIN:VEVENT
UID:69e4edee8b184
DTSTAMP:20260419T145958Z
SUMMARY:Tahko - KaMa
DTSTART;TZID=Europe/Helsinki:20190514T180000
DTEND;TZID=Europe/Helsinki:20190514T210000
END:VEVENT
BEGIN:VEVENT
UID:69e4edee8b1a2
DTSTAMP:20260419T145958Z
SUMMARY:ViVe - Tahko
LOCATION:Patruunantie 15\, 62800 Vimpeli
DTSTART;TZID=Europe/Helsinki:20190521T175700
DTEND;TZID=Europe/Helsinki:20190521T205700
END:VEVENT
BEGIN:VEVENT
UID:69e4edee8b1bd
DTSTAMP:20260419T145958Z
SUMMARY:Tahko - SMJ
LOCATION:Urheilukatu 19\, 05800 Hyvinkää
DTSTART;TZID=Europe/Helsinki:20190527T180000
DTEND;TZID=Europe/Helsinki:20190527T210000
END:VEVENT
BEGIN:VEVENT
UID:69e4edee8b1d7
DTSTAMP:20260419T145958Z
SUMMARY:KPL - Tahko
LOCATION:Hovioikeudenkatu 3\, 45100 Kouvola
DTSTART;TZID=Europe/Helsinki:20190603T180000
DTEND;TZID=Europe/Helsinki:20190603T210000
END:VEVENT
BEGIN:VEVENT
UID:69e4edee8b1f3
DTSTAMP:20260419T145958Z
SUMMARY:AA - Tahko
DTSTART;TZID=Europe/Helsinki:20190610T180000
DTEND;TZID=Europe/Helsinki:20190610T210000
END:VEVENT
BEGIN:VEVENT
UID:69e4edee8b223
DTSTAMP:20260419T145958Z
SUMMARY:KaMa - Tahko
DTSTART;TZID=Europe/Helsinki:20190624T180000
DTEND;TZID=Europe/Helsinki:20190624T210000
END:VEVENT
BEGIN:VEVENT
UID:69e4edee8b23f
DTSTAMP:20260419T145958Z
SUMMARY:Tahko - ViVe
LOCATION:Urheilukatu 19\, 05800 Hyvinkää
DTSTART;TZID=Europe/Helsinki:20190701T180000
DTEND;TZID=Europe/Helsinki:20190701T210000
END:VEVENT
BEGIN:VEVENT
UID:69e4edee8b260
DTSTAMP:20260419T145958Z
SUMMARY:Tahko - KPL
LOCATION:Urheilukatu 19\, 05800 Hyvinkää
DTSTART;TZID=Europe/Helsinki:20190708T180000
DTEND;TZID=Europe/Helsinki:20190708T210000
END:VEVENT
BEGIN:VEVENT
UID:69e4edee8b283
DTSTAMP:20260419T145958Z
SUMMARY:SMJ - Tahko
LOCATION:Urheilupuisto 12\, 60100 Seinäjoki
DTSTART;TZID=Europe/Helsinki:20190715T180000
DTEND;TZID=Europe/Helsinki:20190715T210000
END:VEVENT
BEGIN:VEVENT
UID:69e4edee8b2a1
DTSTAMP:20260419T145958Z
SUMMARY:Tahko - KeKi
LOCATION:Urheilukatu 19\, 05800 Hyvinkää
DTSTART;TZID=Europe/Helsinki:20190809T175700
DTEND;TZID=Europe/Helsinki:20190809T205700
END:VEVENT
BEGIN:VEVENT
UID:69e4edee8b2ba
DTSTAMP:20260419T145958Z
SUMMARY:KeKi - Tahko
DTSTART;TZID=Europe/Helsinki:20190826T170000
DTEND;TZID=Europe/Helsinki:20190826T200000
END:VEVENT
BEGIN:VEVENT
UID:69e4edee8b2d0
DTSTAMP:20260419T145958Z
SUMMARY:Tahko - ViVe
LOCATION:Urheilukatu 19\, 05800 Hyvinkää
DTSTART;TZID=Europe/Helsinki:20190906T170000
DTEND;TZID=Europe/Helsinki:20190906T200000
END:VEVENT
BEGIN:VEVENT
UID:69e4edee8b306
DTSTAMP:20260419T145958Z
SUMMARY:ViVe - Tahko
LOCATION:Patruunantie 15\, 62800 Vimpeli
DTSTART;TZID=Europe/Helsinki:20190910T163000
DTEND;TZID=Europe/Helsinki:20190910T193000
END:VEVENT
BEGIN:VEVENT
UID:69e4edee8b328
DTSTAMP:20260419T145958Z
SUMMARY:Tahko - KiPa
LOCATION:Urheilukatu 19\, 05800 Hyvinkää
DTSTART;TZID=Europe/Helsinki:20190917T160000
DTEND;TZID=Europe/Helsinki:20190917T190000
END:VEVENT
BEGIN:VEVENT
UID:69e4edee8b343
DTSTAMP:20260419T145958Z
SUMMARY:KiPa - Tahko
LOCATION:Tohmajärventie 10 \, 82500 Kitee
DTSTART;TZID=Europe/Helsinki:20190919T160000
DTEND;TZID=Europe/Helsinki:20190919T190000
END:VEVENT
BEGIN:VEVENT
UID:69e4edee8b35d
DTSTAMP:20260419T145958Z
SUMMARY:Tahko - KiPa
LOCATION:Urheilukatu 19\, 05800 Hyvinkää
DTSTART;TZID=Europe/Helsinki:20190920T160000
DTEND;TZID=Europe/Helsinki:20190920T190000
END:VEVENT
END:VCALENDAR