BEGIN:VCALENDAR
VERSION:2.0
PRODID:spatie/icalendar-generator
NAME:Jyväskylän Kiri & Kirittäret Juniorit ottelukalenteri
X-WR-CALNAME:Jyväskylän Kiri & Kirittäret Juniorit ottelukalenteri
BEGIN:VTIMEZONE
TZID:Europe/Helsinki
BEGIN:STANDARD
DTSTART:20241027T040000
TZOFFSETFROM:+0300
TZOFFSETTO:+0200
END:STANDARD
BEGIN:DAYLIGHT
DTSTART:20250330T020000
TZOFFSETFROM:+0200
TZOFFSETTO:+0300
END:DAYLIGHT
BEGIN:STANDARD
DTSTART:20251026T040000
TZOFFSETFROM:+0300
TZOFFSETTO:+0200
END:STANDARD
END:VTIMEZONE
BEGIN:VTIMEZONE
TZID:UTC
BEGIN:STANDARD
DTSTART:20250725T164248
TZOFFSETFROM:+0000
TZOFFSETTO:+0000
END:STANDARD
END:VTIMEZONE
BEGIN:VEVENT
UID:69e7a9080faab
DTSTAMP:20260421T164248Z
SUMMARY:JoMa 1 (Musta) - Jyväskylän Kiri
LOCATION:Uimarintie 3\, 80110 Joensuu
DTSTART;TZID=Europe/Helsinki:20250515T180000
DTEND;TZID=Europe/Helsinki:20250515T210000
END:VEVENT
BEGIN:VEVENT
UID:69e7a9080faf7
DTSTAMP:20260421T164248Z
SUMMARY:Jyväskylän Kiri - SoJy 1 (oranssi)
LOCATION:Rautpohjankatu 6\, 40700 Jyväskylä
DTSTART;TZID=Europe/Helsinki:20250525T130000
DTEND;TZID=Europe/Helsinki:20250525T160000
END:VEVENT
BEGIN:VEVENT
UID:69e7a9080fb18
DTSTAMP:20260421T164248Z
SUMMARY:HP-K - Jyväskylän Kiri
LOCATION:Veskantie 4\, 85800 Haapajärvi
DTSTART;TZID=Europe/Helsinki:20250530T180000
DTEND;TZID=Europe/Helsinki:20250530T210000
END:VEVENT
BEGIN:VEVENT
UID:69e7a9080fb36
DTSTAMP:20260421T164248Z
SUMMARY:Jyväskylän Kiri - JoMa 1 (Musta)
LOCATION:Koskenharjuntie\, 40200 Jyväskylä
DTSTART;TZID=Europe/Helsinki:20250602T180000
DTEND;TZID=Europe/Helsinki:20250602T210000
END:VEVENT
BEGIN:VEVENT
UID:69e7a9080fb52
DTSTAMP:20260421T164248Z
SUMMARY:SiiPe - Jyväskylän Kiri
LOCATION:Jokisuuntie 14\, 71850 Siilinjärvi
DTSTART;TZID=Europe/Helsinki:20250605T180000
DTEND;TZID=Europe/Helsinki:20250605T210000
END:VEVENT
BEGIN:VEVENT
UID:69e7a9080fb7b
DTSTAMP:20260421T164248Z
SUMMARY:Jyväskylän Kiri - SiiPe
LOCATION:Koskenharjuntie\, 40200 Jyväskylä
DTSTART;TZID=Europe/Helsinki:20250611T180000
DTEND;TZID=Europe/Helsinki:20250611T210000
END:VEVENT
BEGIN:VEVENT
UID:69e7a9080fbb3
DTSTAMP:20260421T164248Z
SUMMARY:Jyväskylän Kiri - HP-K
LOCATION:Koskenharjuntie\, 40200 Jyväskylä
DTSTART;TZID=Europe/Helsinki:20250623T180000
DTEND;TZID=Europe/Helsinki:20250623T210000
END:VEVENT
BEGIN:VEVENT
UID:69e7a9080fbe3
DTSTAMP:20260421T164248Z
SUMMARY:SoJy 1 (oranssi) - Jyväskylän Kiri
LOCATION:Tervatie 1\, 88600 Sotkamo
DTSTART;TZID=Europe/Helsinki:20250627T123000
DTEND;TZID=Europe/Helsinki:20250627T153000
END:VEVENT
END:VCALENDAR