BEGIN:VCALENDAR
VERSION:2.0
PRODID:spatie/icalendar-generator
NAME:Jyväskylän Kirittäret ottelukalenteri
X-WR-CALNAME:Jyväskylän Kirittäret ottelukalenteri
BEGIN:VTIMEZONE
TZID:Europe/Helsinki
BEGIN:STANDARD
DTSTART:20241027T040000
TZOFFSETFROM:+0300
TZOFFSETTO:+0200
END:STANDARD
BEGIN:DAYLIGHT
DTSTART:20250330T020000
TZOFFSETFROM:+0200
TZOFFSETTO:+0300
END:DAYLIGHT
BEGIN:STANDARD
DTSTART:20251026T040000
TZOFFSETFROM:+0300
TZOFFSETTO:+0200
END:STANDARD
END:VTIMEZONE
BEGIN:VTIMEZONE
TZID:UTC
BEGIN:STANDARD
DTSTART:20250727T155645
TZOFFSETFROM:+0000
TZOFFSETTO:+0000
END:STANDARD
END:VTIMEZONE
BEGIN:VEVENT
UID:69ea413d07b23
DTSTAMP:20260423T155645Z
SUMMARY:Kirittäret - Jussittaret
LOCATION:Kirkkokatu 23\, 60220 Seinäjoki
DTSTART;TZID=Europe/Helsinki:20250125T190000
DTEND;TZID=Europe/Helsinki:20250125T220000
END:VEVENT
BEGIN:VEVENT
UID:69ea413d07b6c
DTSTAMP:20260423T155645Z
SUMMARY:Kirittäret - Tahko
LOCATION:Kirkkokatu 23\, 60220 Seinäjoki
DTSTART;TZID=Europe/Helsinki:20250209T120000
DTEND;TZID=Europe/Helsinki:20250209T150000
END:VEVENT
BEGIN:VEVENT
UID:69ea413d07b8b
DTSTAMP:20260423T155645Z
SUMMARY:Kirittäret - JoMa
LOCATION:Kangasvuorentie 18\, 40340 Jyväskylä
DTSTART;TZID=Europe/Helsinki:20250308T160000
DTEND;TZID=Europe/Helsinki:20250308T190000
END:VEVENT
BEGIN:VEVENT
UID:69ea413d07ba6
DTSTAMP:20260423T155645Z
SUMMARY:Kirittäret - Jyske
LOCATION:Rautpohjankatu 6\, 40700 Jyväskylä
DTSTART;TZID=Europe/Helsinki:20250510T160000
DTEND;TZID=Europe/Helsinki:20250510T190000
END:VEVENT
BEGIN:VEVENT
UID:69ea413d07bc0
DTSTAMP:20260423T155645Z
SUMMARY:Kirittäret - Jussittaret
LOCATION:Rautpohjankatu 6\, 40700 Jyväskylä
DTSTART;TZID=Europe/Helsinki:20250516T180000
DTEND;TZID=Europe/Helsinki:20250516T210000
END:VEVENT
BEGIN:VEVENT
UID:69ea413d07bd9
DTSTAMP:20260423T155645Z
SUMMARY:Kirittäret - Fera
LOCATION:Rautpohjankatu 6\, 40700 Jyväskylä
DTSTART;TZID=Europe/Helsinki:20250523T180000
DTEND;TZID=Europe/Helsinki:20250523T210000
END:VEVENT
BEGIN:VEVENT
UID:69ea413d07bf2
DTSTAMP:20260423T155645Z
SUMMARY:Kirittäret - Jussittaret
LOCATION:Rautpohjankatu 6\, 40700 Jyväskylä
DTSTART;TZID=Europe/Helsinki:20250530T180000
DTEND;TZID=Europe/Helsinki:20250530T210000
END:VEVENT
BEGIN:VEVENT
UID:69ea413d07c0b
DTSTAMP:20260423T155645Z
SUMMARY:Kirittäret - Roihuttaret
LOCATION:Rautpohjankatu 6\, 40700 Jyväskylä
DTSTART;TZID=Europe/Helsinki:20250610T180000
DTEND;TZID=Europe/Helsinki:20250610T210000
END:VEVENT
BEGIN:VEVENT
UID:69ea413d07c24
DTSTAMP:20260423T155645Z
SUMMARY:Kirittäret - Manse
LOCATION:Rautpohjankatu 6\, 40700 Jyväskylä
DTSTART;TZID=Europe/Helsinki:20250618T180000
DTEND;TZID=Europe/Helsinki:20250618T210000
END:VEVENT
BEGIN:VEVENT
UID:69ea413d07c3c
DTSTAMP:20260423T155645Z
SUMMARY:Kirittäret - Virkiä
LOCATION:Rautpohjankatu 6\, 40700 Jyväskylä
DTSTART;TZID=Europe/Helsinki:20250627T180000
DTEND;TZID=Europe/Helsinki:20250627T210000
END:VEVENT
BEGIN:VEVENT
UID:69ea413d07c54
DTSTAMP:20260423T155645Z
SUMMARY:Kirittäret - Tahko
LOCATION:Rautpohjankatu 6\, 40700 Jyväskylä
DTSTART;TZID=Europe/Helsinki:20250702T180000
DTEND;TZID=Europe/Helsinki:20250702T210000
END:VEVENT
BEGIN:VEVENT
UID:69ea413d07c6c
DTSTAMP:20260423T155645Z
SUMMARY:Kirittäret - JoMa
LOCATION:Rautpohjankatu 6\, 40700 Jyväskylä
DTSTART;TZID=Europe/Helsinki:20250714T180000
DTEND;TZID=Europe/Helsinki:20250714T210000
END:VEVENT
BEGIN:VEVENT
UID:69ea413d07c84
DTSTAMP:20260423T155645Z
SUMMARY:Kirittäret - PöU
LOCATION:Rautpohjankatu 6\, 40700 Jyväskylä
DTSTART;TZID=Europe/Helsinki:20250715T180000
DTEND;TZID=Europe/Helsinki:20250715T210000
END:VEVENT
BEGIN:VEVENT
UID:69ea413d07c9b
DTSTAMP:20260423T155645Z
SUMMARY:Kirittäret - Mailattaret
LOCATION:Rautpohjankatu 6\, 40700 Jyväskylä
DTSTART;TZID=Europe/Helsinki:20250723T180000
DTEND;TZID=Europe/Helsinki:20250723T210000
END:VEVENT
BEGIN:VEVENT
UID:69ea413d07cb3
DTSTAMP:20260423T155645Z
SUMMARY:Kirittäret - Pesäkarhut
LOCATION:Rautpohjankatu 6\, 40700 Jyväskylä
DTSTART;TZID=Europe/Helsinki:20250730T180000
DTEND;TZID=Europe/Helsinki:20250730T210000
END:VEVENT
BEGIN:VEVENT
UID:69ea413d07cca
DTSTAMP:20260423T155645Z
SUMMARY:Kirittäret - Manse
LOCATION:Rautpohjankatu 6\, 40700 Jyväskylä
DTSTART;TZID=Europe/Helsinki:20250812T173000
DTEND;TZID=Europe/Helsinki:20250812T203000
END:VEVENT
BEGIN:VEVENT
UID:69ea413d07ce2
DTSTAMP:20260423T155645Z
SUMMARY:Kirittäret - Manse
LOCATION:Rautpohjankatu 6\, 40700 Jyväskylä
DTSTART;TZID=Europe/Helsinki:20250817T160000
DTEND;TZID=Europe/Helsinki:20250817T190000
END:VEVENT
END:VCALENDAR