BEGIN:VCALENDAR
VERSION:2.0
PRODID:spatie/icalendar-generator
NAME:Kajaanin Pallokerho ottelukalenteri
X-WR-CALNAME:Kajaanin Pallokerho ottelukalenteri
BEGIN:VTIMEZONE
TZID:Europe/Helsinki
BEGIN:STANDARD
DTSTART:20241027T040000
TZOFFSETFROM:+0300
TZOFFSETTO:+0200
END:STANDARD
BEGIN:DAYLIGHT
DTSTART:20250330T020000
TZOFFSETFROM:+0200
TZOFFSETTO:+0300
END:DAYLIGHT
BEGIN:STANDARD
DTSTART:20251026T040000
TZOFFSETFROM:+0300
TZOFFSETTO:+0200
END:STANDARD
END:VTIMEZONE
BEGIN:VTIMEZONE
TZID:UTC
BEGIN:STANDARD
DTSTART:20250725T095904
TZOFFSETFROM:+0000
TZOFFSETTO:+0000
END:STANDARD
END:VTIMEZONE
BEGIN:VEVENT
UID:69e74a6871dad
DTSTAMP:20260421T095904Z
SUMMARY:KPK - YPJ
LOCATION:Opistotie 4\, 70200 Kuopio
DTSTART;TZID=Europe/Helsinki:20250308T110000
DTEND;TZID=Europe/Helsinki:20250308T140000
END:VEVENT
BEGIN:VEVENT
UID:69e74a6871df7
DTSTAMP:20260421T095904Z
SUMMARY:KPK - SiiPe
LOCATION:Opistotie 4\, 70200 Kuopio
DTSTART;TZID=Europe/Helsinki:20250308T190000
DTEND;TZID=Europe/Helsinki:20250308T220000
END:VEVENT
BEGIN:VEVENT
UID:69e74a6871e19
DTSTAMP:20260421T095904Z
SUMMARY:KPK - AA
LOCATION:Kustaa Tiitun tie 12\, 62100 Lapua
DTSTART;TZID=Europe/Helsinki:20250329T153000
DTEND;TZID=Europe/Helsinki:20250329T183000
END:VEVENT
BEGIN:VEVENT
UID:69e74a6871e38
DTSTAMP:20260421T095904Z
SUMMARY:KPK - HP
LOCATION:Kustaa Tiitun tie 12\, 62100 Lapua
DTSTART;TZID=Europe/Helsinki:20250330T104500
DTEND;TZID=Europe/Helsinki:20250330T134500
END:VEVENT
BEGIN:VEVENT
UID:69e74a6871e54
DTSTAMP:20260421T095904Z
SUMMARY:KPK - KeKi
LOCATION:Lönnrotinkatu 1\, 87100 Kajaani
DTSTART;TZID=Europe/Helsinki:20250512T180000
DTEND;TZID=Europe/Helsinki:20250512T210000
END:VEVENT
BEGIN:VEVENT
UID:69e74a6871e71
DTSTAMP:20260421T095904Z
SUMMARY:KPK - PattU Jun.
LOCATION:Lönnrotinkatu 1\, 87100 Kajaani
DTSTART;TZID=Europe/Helsinki:20250519T180000
DTEND;TZID=Europe/Helsinki:20250519T210000
END:VEVENT
BEGIN:VEVENT
UID:69e74a6871e8d
DTSTAMP:20260421T095904Z
SUMMARY:KPK - PesäKuula
LOCATION:Lönnrotinkatu 1\, 87100 Kajaani
DTSTART;TZID=Europe/Helsinki:20250522T180000
DTEND;TZID=Europe/Helsinki:20250522T210000
END:VEVENT
BEGIN:VEVENT
UID:69e74a6871ea8
DTSTAMP:20260421T095904Z
SUMMARY:KPK - AA
LOCATION:Lönnrotinkatu 1\, 87100 Kajaani
DTSTART;TZID=Europe/Helsinki:20250612T180000
DTEND;TZID=Europe/Helsinki:20250612T210000
END:VEVENT
BEGIN:VEVENT
UID:69e74a6871ec2
DTSTAMP:20260421T095904Z
SUMMARY:KPK - Lippo Jun.
LOCATION:Tervatie 1\, 88600 Sotkamo
DTSTART;TZID=Europe/Helsinki:20250705T173000
DTEND;TZID=Europe/Helsinki:20250705T203000
END:VEVENT
BEGIN:VEVENT
UID:69e74a6871edd
DTSTAMP:20260421T095904Z
SUMMARY:KPK - YPJ
LOCATION:Lönnrotinkatu 1\, 87100 Kajaani
DTSTART;TZID=Europe/Helsinki:20250707T180000
DTEND;TZID=Europe/Helsinki:20250707T210000
END:VEVENT
BEGIN:VEVENT
UID:69e74a6871ef8
DTSTAMP:20260421T095904Z
SUMMARY:KPK - OuHu
LOCATION:Lönnrotinkatu 1\, 87100 Kajaani
DTSTART;TZID=Europe/Helsinki:20250723T180000
DTEND;TZID=Europe/Helsinki:20250723T210000
END:VEVENT
BEGIN:VEVENT
UID:69e74a6871f12
DTSTAMP:20260421T095904Z
SUMMARY:KPK - Mailattaret
LOCATION:Lönnrotinkatu 1\, 87100 Kajaani
DTSTART;TZID=Europe/Helsinki:20250728T180000
DTEND;TZID=Europe/Helsinki:20250728T210000
END:VEVENT
BEGIN:VEVENT
UID:69e74a6871f2c
DTSTAMP:20260421T095904Z
SUMMARY:KPK - ViU
DTSTART;TZID=Europe/Helsinki:20250818T173000
DTEND;TZID=Europe/Helsinki:20250818T203000
END:VEVENT
BEGIN:VEVENT
UID:69e74a6871f45
DTSTAMP:20260421T095904Z
SUMMARY:KPK - ViU
DTSTART;TZID=Europe/Helsinki:20250828T170000
DTEND;TZID=Europe/Helsinki:20250828T200000
END:VEVENT
BEGIN:VEVENT
UID:69e74a6871f5d
DTSTAMP:20260421T095904Z
SUMMARY:KPK - HP
DTSTART;TZID=Europe/Helsinki:20250904T163000
DTEND;TZID=Europe/Helsinki:20250904T193000
END:VEVENT
BEGIN:VEVENT
UID:69e74a6871f75
DTSTAMP:20260421T095904Z
SUMMARY:KPK - Pesäkarhut
DTSTART;TZID=Europe/Helsinki:20250913T160000
DTEND;TZID=Europe/Helsinki:20250913T190000
END:VEVENT
END:VCALENDAR